BEGIN:VCALENDAR
VERSION:2.0
PRODID:-//Sistema Med Campania - ECPv6.7.0//NONSGML v1.0//EN
CALSCALE:GREGORIAN
METHOD:PUBLISH
X-WR-CALNAME:Sistema Med Campania
X-ORIGINAL-URL:https://backup.sistemamedcampania.it
X-WR-CALDESC:Eventi per Sistema Med Campania
REFRESH-INTERVAL;VALUE=DURATION:PT1H
X-Robots-Tag:noindex
X-PUBLISHED-TTL:PT1H
BEGIN:VTIMEZONE
TZID:Europe/Rome
BEGIN:DAYLIGHT
TZOFFSETFROM:+0100
TZOFFSETTO:+0200
TZNAME:CEST
DTSTART:20180325T010000
END:DAYLIGHT
BEGIN:STANDARD
TZOFFSETFROM:+0200
TZOFFSETTO:+0100
TZNAME:CET
DTSTART:20181028T010000
END:STANDARD
END:VTIMEZONE
BEGIN:VEVENT
DTSTART;TZID=Europe/Rome:20180707T193000
DTEND;TZID=Europe/Rome:20180707T193000
DTSTAMP:20260419T211230
CREATED:20180611T112505Z
LAST-MODIFIED:20180611T113227Z
UID:3678-1530991800-1530991800@backup.sistemamedcampania.it
SUMMARY:Concerti di Primavera 2018. Domenico Orlando
DESCRIPTION:Torna la Nuova Orchestra Scarlatti con i suoi Concerti di Primavera. Appuntamento con un altro grande protagonista:Domenico Orlando\, salernitano classe 1979\, Primo Oboe della Gewandhausorchester di Lipsia\, solista in un concerto con l’Orchestra Scarlatti Young diretto da Marco Attura. \ninfo: \nhttp://www.nuovaorchestrascarlatti.it/ \n 
URL:https://backup.sistemamedcampania.it/evento/concerti-di-primavera-2018-domenico-orlando/
LOCATION:Chiesa dei SS. Marcellino e Festo\, Largo S. Marcellino\, Napoli\, 80138\, Italia
CATEGORIES:Concerti di Primavera 2018,Musica,Nuova Orchestra Scarlatti
ATTACH;FMTTYPE=image/jpeg:https://backup.sistemamedcampania.it/wp-content/uploads/2018/06/domenico-orlando.jpg
END:VEVENT
BEGIN:VEVENT
DTSTART;TZID=Europe/Rome:20180701T193000
DTEND;TZID=Europe/Rome:20180701T193000
DTSTAMP:20260419T211230
CREATED:20180611T111853Z
LAST-MODIFIED:20180611T111907Z
UID:3675-1530473400-1530473400@backup.sistemamedcampania.it
SUMMARY:Concerti di Primavera 2018. Quartetto Falstaff
DESCRIPTION:Torna la Nuova Orchestra Scarlatti con i suoi Concerti di Primavera. Per questo appuntamento si esibirà il Quartetto di fiati Falstaff\, costituito da giovani talenti provenienti dall’ Orchestra giovanile ‘Luigi Cherubini’ creata da Riccardo Muti. \nGianluca Campo\, flauto \nSimone Nicoletta\, clarinetto \nFabrizio Giannitelli\, corno \nAndrea Mazza\, fagotto \nMusiche di: G. Rossini\, G. Verdi e al. \n  \nIl concerto sarà preceduto dalla visita guidata al Chiostro dei SS. Marcellino e Festo \ninfo: \nhttp://www.nuovaorchestrascarlatti.it/ \n 
URL:https://backup.sistemamedcampania.it/evento/concerti-di-primavera-2018-quartetto-falstaff/
CATEGORIES:Concerti di Primavera 2018,Musica,Nuova Orchestra Scarlatti
ATTACH;FMTTYPE=image/jpeg:https://backup.sistemamedcampania.it/wp-content/uploads/2018/06/quartetto-falstaff.jpg
END:VEVENT
BEGIN:VEVENT
DTSTART;TZID=Europe/Rome:20180617T193000
DTEND;TZID=Europe/Rome:20180617T193000
DTSTAMP:20260419T211230
CREATED:20180611T110433Z
LAST-MODIFIED:20180615T110854Z
UID:3668-1529263800-1529263800@backup.sistemamedcampania.it
SUMMARY:Concerti di Primavera 2018. Festa Europea della Musica - Orchestra Scarlatti Junior
DESCRIPTION:Per il prossimo appuntamento dei Concerti di Primavera 2018 la Nuova Orchestra Scarlatti inaugura la Festa Europea della Musica promossa dall’Assessorato alla Cultura e al Turismo di Napoli. \nIn apertura l’ Orchestra Scarlatti Junior eseguirà un programma ricco\, con brani di Kreisler e Weber\, che vedranno impegnati in veste solistica due giovani elementi dell’orchestra\, e famose pagine sinfoniche quali il secondo movimento Allegretto della Settima Sinfonia di Beethoven\, una particolare versione (senza pianoforte) della Rhapsody in Blue di Gershwin e\, per chiudere\, il coinvolgente Bolero di Ravel. Direttori il M° Francesco Aliberti ed il M° Gaetano Russo. \n  \nMusiche di: L. van Beethoven\, G. Verdi\, G. Gershwin\, M. Ravel\, F. Kreisler \n  \ninfo: \nhttp://www.nuovaorchestrascarlatti.it/ \n 
URL:https://backup.sistemamedcampania.it/evento/concerti-di-primavera-2018-nuova-orchestra-scarlatti/
LOCATION:Sala Dei baroni – Maschio Angioino\, Via Vittorio Emanuele III\, Napoli\, 80133\, Italia
CATEGORIES:Concerti di Primavera 2018,Musica,Nuova Orchestra Scarlatti
ATTACH;FMTTYPE=image/jpeg:https://backup.sistemamedcampania.it/wp-content/uploads/2018/06/festa-della-musica.jpg
END:VEVENT
BEGIN:VEVENT
DTSTART;TZID=Europe/Rome:20180610T193000
DTEND;TZID=Europe/Rome:20180610T193000
DTSTAMP:20260419T211230
CREATED:20180604T133142Z
LAST-MODIFIED:20180606T103036Z
UID:3651-1528659000-1528659000@backup.sistemamedcampania.it
SUMMARY:Concerti di Primavera 2018. Scarlatti per Tutti
DESCRIPTION:Torna la Nuova Orchestra Scarlatti con i suoi Concerti di Primavera. Il prossimo appuntamento è la “grande festa” della Scarlatti per Tutti.  Un programma eterogeneo e accattivante\, che va dal romanticismo  dell’inglese Edward Elgar all’estro  di Moondog\, il ‘Vichingo della 6a Avenue\,’ il leggendario musicista di strada profeta dell’underground newyorkese. \nAlla direzione si alterneranno con Gaetano Russo  due delle più versatili figure dell’attuale panorama musicale partenopeo\, Federico Odling e Bruno Persico. \nMusiche di: E. Elgar\, E. Grieg\, B. Persico\, Moondog \nIl concerto sarà preceduto dalla visita guidata al Chiostro dei SS. Marcellino e Festo \ninfo: \nhttp://www.nuovaorchestrascarlatti.it/ \n  \nph. Klaus Bunker
URL:https://backup.sistemamedcampania.it/evento/concerti-di-primavera-2018-scarlatti-per-tutti/
CATEGORIES:Concerti di Primavera 2018,Musica,Nuova Orchestra Scarlatti
ATTACH;FMTTYPE=image/jpeg:https://backup.sistemamedcampania.it/wp-content/uploads/2018/06/scarlatti-per-tutti.jpg
END:VEVENT
BEGIN:VEVENT
DTSTART;TZID=Europe/Rome:20180609T180000
DTEND;TZID=Europe/Rome:20180609T200000
DTSTAMP:20260419T211230
CREATED:20180604T130850Z
LAST-MODIFIED:20180606T102713Z
UID:3645-1528567200-1528574400@backup.sistemamedcampania.it
SUMMARY:Concerti di Primavera 2018. Orto Sonoro - Un Suono per ogni Pianta
DESCRIPTION:Torna la Nuova Orchestra Scarlatti con i suoi Concerti di Primavera. \nI giovani musicisti dell’Orchestra Scarlatti Junior\, e quest’anno anche elementi dell’Orchestra amatoriale Scarlatti per Tutti\, animeranno singolarmente e in vari ensemble gli spazi più suggestivi\, le piante e i fiori più belli del Real Orto Botanico\, trasformando quest’ultimo in una sorta di ‘foresta sonora’\, per poi confluire insieme al pubblico  dinanzi alla grande Serra dove riuniranno tutti i loro colori sotto la guida del maestro Gaetano Russo per un breve concerto sinfonico conclusivo\, spaziante da Beethoven a Bizet. \ninfo: \nhttp://www.nuovaorchestrascarlatti.it/ \n  \n 
URL:https://backup.sistemamedcampania.it/evento/concerti-di-primavera-2018-orto-sonoro-un-suono-per-ogni-pianta/
LOCATION:Real Orto Botanico\, Via Foria 223\, Napoli\, 80137
CATEGORIES:Concerti di Primavera 2018,Musica,Nuova Orchestra Scarlatti
ATTACH;FMTTYPE=image/jpeg:https://backup.sistemamedcampania.it/wp-content/uploads/2018/06/orto-sonoro.jpg
END:VEVENT
BEGIN:VEVENT
DTSTART;TZID=Europe/Rome:20180527T193000
DTEND;TZID=Europe/Rome:20180527T193000
DTSTAMP:20260419T211230
CREATED:20180518T144714Z
LAST-MODIFIED:20180518T144714Z
UID:3601-1527449400-1527449400@backup.sistemamedcampania.it
SUMMARY:Concerti di Primavera della Nuova Orchestra Scarlatti
DESCRIPTION:Torna la Nuova Orchestra Scarlatti con i suoi Concerti di Primavera. \nCommunity Concert è il quarto appuntamento. Si esibiranno le quattro orchestre della Comunità Scarlatti: Nuova Orchestra Scarlatti\, Scarlatti Young\, Scarlatti Junior e l’amatoriale Scarlatti per Tutti\, per un programma che prevede\, fra l’altro pagine di Beethoven\, Weber\, Bizet. \ninfo: \nhttp://www.nuovaorchestrascarlatti.it/
URL:https://backup.sistemamedcampania.it/evento/concerti-di-primavera-della-nuova-orchestra-scarlatti-2/
LOCATION:Basilica di San Giovanni Maggiore\, Rampe S. Giovanni Maggiore\, Napoli\, 80134
CATEGORIES:Concerti di Primavera 2018,Musica,Nuova Orchestra Scarlatti
ATTACH;FMTTYPE=image/jpeg:https://backup.sistemamedcampania.it/wp-content/uploads/2018/05/community-concert.jpg
END:VEVENT
BEGIN:VEVENT
DTSTART;TZID=Europe/Rome:20180520T193000
DTEND;TZID=Europe/Rome:20180520T193000
DTSTAMP:20260419T211230
CREATED:20180516T100835Z
LAST-MODIFIED:20180518T141925Z
UID:3589-1526844600-1526844600@backup.sistemamedcampania.it
SUMMARY:Concerti di Primavera della Nuova Orchestra Scarlatti
DESCRIPTION:Torna la Nuova Orchestra Scarlatti con i suoi Concerti di Primavera. \n  \nIl prossimo sarà  un ricco e accattivante programma con al centro grandi Concerti solistici proposti in una raffinata versione cameristica per pianoforte e quintetto d’archi. \npianoforte Nunzio Aprile \nQuintetto d’archi dell’Ensemble Lirico Italiano \nSi esibiranno nel celebre e amato Concerto per pianoforte e archi in fa minore BWV 1056 di J. S Bach e del Concerto in la maggiore K. 414 di W. A. Mozart\, composto nel 1782 (e qui eseguito nella ottocentesca versione per pianoforte e archi del musicista tedesco Ignaz Lachner)\, pagina inaugurale della serie dei capolavori del pianismo mozartiano\, meravigliosamente in bilico tra luce e malinconia\, (basti ricordare l’incantevole Andante centrale). Completano il programma la freschezza popolare di una Danza tedesca e di due Trii di un Franz Schubert adolescente\, e lo spiritoso Quintettino per archi La musica notturna delle strade di Madrid di Luigi Boccherini\, una pagina risalente al 1780 in cui il grande compositore lucchese trapiantato in Spagna mima accenti tipicamente iberici (come il ‘cante jondo’ o lo strappato chitarristico del ‘rasgueado’) in sette vivide tranche de vie musicali (spesso utilizzate anche dalla tv e dal cinema\, da ‘Cruising’ a ‘Master and Commander’): Le campane de l’Ave Maria\, Il tamburo dei Soldati\, Minuetto dei Ciechi\, Il Rosario\, Passa Calle\, Il tamburo\, Ritirata. \nProgramma:  \nS. Bach Concerto per pianoforte ed archi in fa minore BWV 1056 \nSchubert Danza n. 1 e Trii nn. 1 e 2 per archi \nBoccherini Quintetto per archi in do maggiore op. 30 n. 6 La Musica notturna delle strade di Madrid \nA. Mozart Concerto per pianoforte e archi n. 12 in la maggiore K. 414 \n  \ninfo: \nhttp://www.nuovaorchestrascarlatti.it/
URL:https://backup.sistemamedcampania.it/evento/concerti-di-primavera-della-nuova-orchestra-scarlatti/
CATEGORIES:Concerti di Primavera 2018,Musica,Nuova Orchestra Scarlatti
ATTACH;FMTTYPE=image/jpeg:https://backup.sistemamedcampania.it/wp-content/uploads/2018/05/la-primavera-della-nos.jpg
END:VEVENT
BEGIN:VEVENT
DTSTART;TZID=Europe/Rome:20180513T203000
DTEND;TZID=Europe/Rome:20180513T203000
DTSTAMP:20260419T211230
CREATED:20180507T111925Z
LAST-MODIFIED:20180509T134748Z
UID:3565-1526243400-1526243400@backup.sistemamedcampania.it
SUMMARY:Concerti di Primavera. Caravaggio e i Caravaggeschi. Teatri 35 & I solisti della Nuova Orchestra Scarlatti
DESCRIPTION:Torna la Nuova Orchestra Scarlatti con i suoi Concerti di Primavera. \nUn primo appuntamento di grande suggestione: Tableux vivants con musiche live  Caravaggio e i Caravaggeschi. ‘Il suono muove il gesto\, il gesto crea l’immagine\,  l’immagine incarna la musica’. \nI componenti di Teatri 35 – Gaetano Coccia\, Francesco Ottavio De Santis\, Antonella Parrella – con gesti semplici e calibrati danno forma in diretta dinanzi al pubblico a raffigurazioni viventi di alcuni capolavori di Caravaggio e dei Caravaggeschi\, tra lente preparazioni e illuminazioni improvvise\, sulle musiche di di F. Durante\, G. B. Pergolesi\, A. Corelli\, H. Purcell\, J. M. Molter\, G. F. Händel  interamente eseguite dal vivo dai Solisti della Nuova Orchestra Scarlatti. \nCosì su di un percorso musicale che intreccia in un flusso sonoro continuo pagine tratte dallo Stabat Mater di Pergolesi\, da Concerti di Corelli\, Locatelli\, Händel\, Purcell\, e infine la celebre aria händeliana Lascia ch’io pianga\, verranno evocati nella cornice ideale di San Marcellino quadri quali la Crocefissione di Sant’Andrea e San Matteo e l’Angelo di Caravaggio\, la Giuditta e Oloferne di Artemisia Gentileschi\, la Morte di Cleopatra di Guido Reni\, il Sansone e Dalila di Rubens e molti altri\, con uno straordinario effetto di adesione all’originale e insieme di viva presenza.  Un evento da non perdere. \ninfo: \nhttp://www.nuovaorchestrascarlatti.it/ \n  \n  \n  \n  \n  \n  \n 
URL:https://backup.sistemamedcampania.it/evento/concerti-di-primavera-caravaggio-e-i-caravaggeschi-teatri-35-i-solisti-della-nuova-orchestra-scarlatti/
CATEGORIES:Concerti di Primavera 2018,Musica,Nuova Orchestra Scarlatti
ATTACH;FMTTYPE=image/jpeg:https://backup.sistemamedcampania.it/wp-content/uploads/2018/05/caravaggio-e-i-caravaggeschi.jpg
END:VEVENT
BEGIN:VEVENT
DTSTART;TZID=Europe/Rome:20180420T193000
DTEND;TZID=Europe/Rome:20180420T193000
DTSTAMP:20260419T211230
CREATED:20180416T141005Z
LAST-MODIFIED:20180509T134713Z
UID:3502-1524252600-1524252600@backup.sistemamedcampania.it
SUMMARY:Concerti di Primavera 2018 Nuova Scarlatti. Bach & Co.- Barthold Kuijken
DESCRIPTION:Ripartono i Concerti di Primavera della Nuova Scarlatti. \nPrimo appuntamento con un grande nome internazionale dell’interpretazione musicale barocca: il flautista belga BARTHOLD KUIJKEN.  Membro di ensemble del calibro del Collegium Aureum e della Petite bande\, prestigioso concertista con un repertorio spaziante dal ‘600 a Debussy\, Barthold Kuijken si è affermato a livello mondiale come uno dei massimi riferimenti per la musica destinata al flauto barocco ‘traversiere’\, non solo come interprete\, ma anche come studioso e didatta. \nAccanto a Kuijken\, per i duetti\, Fiorella Andriani\, componente dell’Orchestra Sinfonica Nazionale della RAI\, e Ugo Piovano\, specialista in musica antica e musicologo. \n  \n  \nProgramma: \nFantasie\, Sonate\, Duetti\, Suite di \nG. Ph. Telemann\, \nJ. S. Bach\, \nW. F. Bach\, \nC. Ph. E. Bach\, \nS. L. Weiss \n  \n  \n  \n  \n  \n  \n  \n  \n  \n 
URL:https://backup.sistemamedcampania.it/evento/concerti-primavera-2018-nuova-scarlatti-bach-co-barthold-kuijken/
LOCATION:Chiesa dei SS. Marcellino e Festo\, Largo S. Marcellino\, Napoli\, 80138\, Italia
CATEGORIES:Concerti di Primavera 2018,Musica,Nuova Orchestra Scarlatti
ATTACH;FMTTYPE=image/jpeg:https://backup.sistemamedcampania.it/wp-content/uploads/2018/04/barthold-kuijken.jpg
END:VEVENT
END:VCALENDAR