BEGIN:VCALENDAR
VERSION:2.0
PRODID:-//Sistema Med Campania - ECPv6.7.0//NONSGML v1.0//EN
CALSCALE:GREGORIAN
METHOD:PUBLISH
X-WR-CALNAME:Sistema Med Campania
X-ORIGINAL-URL:https://backup.sistemamedcampania.it
X-WR-CALDESC:Eventi per Sistema Med Campania
REFRESH-INTERVAL;VALUE=DURATION:PT1H
X-Robots-Tag:noindex
X-PUBLISHED-TTL:PT1H
BEGIN:VTIMEZONE
TZID:Europe/Rome
BEGIN:DAYLIGHT
TZOFFSETFROM:+0100
TZOFFSETTO:+0200
TZNAME:CEST
DTSTART:20200329T010000
END:DAYLIGHT
BEGIN:STANDARD
TZOFFSETFROM:+0200
TZOFFSETTO:+0100
TZNAME:CET
DTSTART:20201025T010000
END:STANDARD
END:VTIMEZONE
BEGIN:VEVENT
DTSTART;TZID=Europe/Rome:20200726T190000
DTEND;TZID=Europe/Rome:20200726T190000
DTSTAMP:20260419T211125
CREATED:20200713T150108Z
LAST-MODIFIED:20200713T150108Z
UID:5887-1595790000-1595790000@backup.sistemamedcampania.it
SUMMARY:Nuova Orchestra Scarlatti. Musica al Centro Antico-Musica Insieme.Scarlatti per Tutti
DESCRIPTION:La rassegna “Musica al Centro Antico”  della Nuova Orchestra Scarlatti si chiude con  la Scarlatti per Tutti\, l’appuntamento con l’orchestra amatoriale che fa parte (insieme alla Nuova Orchestra Scarlatti\, alla Scarlatti Junior e alla Scarlatti Young) della Comunità delle Orchestre Scarlatti. Vario e brillante il programma che spazierà da Alessandro Scarlatti all’esilarante Marcia funebre di una marionetta di Gounod (celebre nel mondo ” tra gli anni ’50 e ’60 come sigla del programma tv “Alfred Hitchcock presents)\, da Fauré a un’inedita Nenia di Marte del napoletano Bruno Persico. Arricchiranno il concerto\, diretto da Bruno Persico\, il soprano Naomi Rivieccio\, il pianista Andrea Paolillo e il clarinettista Gaetano Russo con la romantica visione del Lied schubertiano Il pastore sulla roccia. \n  \nmusiche di A.Scarlatti\, Ch. Gounod\, G. Fauré\, B.Persico\, S.Gastaldon\, F. Schubert \n SCARLATTI per TUTTI \npianista e direttore Bruno Persico \nsoprano Naomi Rivieccio  \nclarinetto Gaetano Russo \npianoforte Andrea Paolillo \n  \nFoto di copertina di Klaus Bunker \n  \n  \nIngresso gratuito fino ad esaurimento posti con prenotazione obbligatoria a info@nuovaorchestrascarlatti.it \n  \n Info: https://www.nuovaorchestrascarlatti.it
URL:https://backup.sistemamedcampania.it/evento/nuova-orchestra-scarlatti-musica-al-centro-antico-musica-insieme-scarlatti-per-tutti/
LOCATION:Domus Ars\, Via Santa Chiara\, 10\, Napoli\, Italia
CATEGORIES:Musica,Musica al Centro Antico,Nuova Orchestra Scarlatti
ATTACH;FMTTYPE=image/jpeg:https://backup.sistemamedcampania.it/wp-content/uploads/2020/07/musica-insieme.jpg
END:VEVENT
BEGIN:VEVENT
DTSTART;TZID=Europe/Rome:20200725T190000
DTEND;TZID=Europe/Rome:20200725T190000
DTSTAMP:20260419T211125
CREATED:20200713T145721Z
LAST-MODIFIED:20200713T145721Z
UID:5884-1595703600-1595703600@backup.sistemamedcampania.it
SUMMARY:Nuova Orchestra Scarlatti. Musica al Centro Antico-Sul Sur.Chi Asso Duo
DESCRIPTION:Per la rassegna “Musica al Centro Antico”  della Nuova Orchestra Scarlatti Sul Sur – A South American Anthology\, un inedito viaggio attraverso il mondo sonoro del ‘900 sudamericano\, suggestivo impasto di tradizioni locali\, influssi classici europei e musica popolare: dalla raffinata Saudade di Roland Dyens a un appassionato interprete della musica brasiliana come Ernesto Nazareth\, da Augustín Barrios che ricantò il folclore delle terre latinoamericane (da lui percorse in lungo in largo in una vita errabonda) con una vena di malinconico romanticismo\, a Paulinho Nogueira\, l’eclettico maestro di Toquino che mescola nelle sue amate Bachianinhas barocco e bossa nova. Protagonista di questo excursus il Chi Asso Duo\, costituito da Valerio Celentano alla chitarra e da Marco Cuciniello al contrabbasso\, che propongono degli arrangiamenti originali ad hoc per la loro particolare formazione. \n  \n musiche di  R. Dyens\, E. Nazareth\, A. Barrios\, P. Nogueira\, A. Yupanqui\, J. Morel\, E. Gismonti \n  \n  \nIngresso gratuito fino ad esaurimento posti con prenotazione obbligatoria a info@nuovaorchestrascarlatti.it \n  \n Info: https://www.nuovaorchestrascarlatti.it
URL:https://backup.sistemamedcampania.it/evento/nuova-orchestra-scarlatti-musica-al-centro-antico-sul-sur-chi-asso-duo/
LOCATION:Chiesa di San Lorenzo Maggiore\, Piazza San Gaetano\, 316\, Napoli\, Italia
CATEGORIES:Musica,Musica al Centro Antico,Nuova Orchestra Scarlatti
ATTACH;FMTTYPE=image/jpeg:https://backup.sistemamedcampania.it/wp-content/uploads/2020/07/chi-asso-duo.jpg
END:VEVENT
BEGIN:VEVENT
DTSTART;TZID=Europe/Rome:20200718T190000
DTEND;TZID=Europe/Rome:20200718T190000
DTSTAMP:20260419T211125
CREATED:20200707T110702Z
LAST-MODIFIED:20200707T110702Z
UID:5867-1595098800-1595098800@backup.sistemamedcampania.it
SUMMARY:Nuova Orchestra Scarlatti. Musica al Centro Antico-Donne all’Opera.
DESCRIPTION:Per la rassegna “Musica al Centro Antico”  della Nuova Orchestra Scarlatti Donne all’Opera! un excursus vocale tra grandi personaggi femminili del melodramma\, da Donizetti a Verdi\, da Mascagni\, Puccini\, affidati alla voce del soprano Angela Papale\, specialista del repertorio operistico italiano apprezzata a livello internazionale\, accompagnata dal pianista Fabio Marra. \n  \nmusiche di: Donizetti\, G. Verdi\, G. Puccini\, P. Mascagni\, F.P. Tosti \nIngresso gratuito fino ad esaurimento posti con prenotazione obbligatoria a info@nuovaorchestrascarlatti.it \n  \n Info: https://www.nuovaorchestrascarlatti.it
URL:https://backup.sistemamedcampania.it/evento/nuova-orchestra-scarlatti-musica-al-centro-antico-donne-allopera/
LOCATION:Domus Ars\, Via Santa Chiara\, 10\, Napoli\, Italia
CATEGORIES:Musica,Musica al Centro Antico,Nuova Orchestra Scarlatti
ATTACH;FMTTYPE=image/jpeg:https://backup.sistemamedcampania.it/wp-content/uploads/2020/07/papalemarra.jpg
END:VEVENT
BEGIN:VEVENT
DTSTART;TZID=Europe/Rome:20200711T190000
DTEND;TZID=Europe/Rome:20200711T190000
DTSTAMP:20260419T211125
CREATED:20200702T164016Z
LAST-MODIFIED:20200702T164016Z
UID:5844-1594494000-1594494000@backup.sistemamedcampania.it
SUMMARY:Nuova Orchestra Scarlatti.Musica al Centro Storico-Klavierquartett- Quartetto Felix
DESCRIPTION:Secondo appuntamento della rassegna “Musica al Centro Antico”  della Nuova Orchestra Scarlatti con  Klavierquartett alla Domus Ars. \nIl giovane Quartetto Felix sarà protagonista di un bel percorso  attraverso la forma del quartetto costituito da  pianoforte e archi\, ensemble cameristico di grande armonia e ricchezza\, che toccherà il Quartetto WoO 36 n. 1 in mi bemolle maggiore di un Beethoven quindicenne\, omaggio del giovane genio al più felice classicismo viennese (quest’anno si celebrano i 250 anni dalla nascita del grande di Bonn)\, e il Quartetto op. 47 di Robert Schumann\, un capolavoro in bilico tra slancio romantico e luminoso equilibrio formale. \n  \nmusiche di: L. v. Beethoven\, R. Schumann \n  \nQUARTETTO FELIX \n pianoforte  Marina Pellegrino \nviolino Vincenzo Meriani \nviola  Francesco Venga \nvioloncello Matteo Parisi \n  \n Ingresso gratuito fino ad esaurimento posti con prenotazione obbligatoria a info@nuovaorchestrascarlatti.it \n  \n  \n Info: https://www.nuovaorchestrascarlatti.it
URL:https://backup.sistemamedcampania.it/evento/nuova-orchestra-scarlatti-musica-al-centro-storico-klavierquartett-quartetto-felix/
LOCATION:Domus Ars\, Via Santa Chiara\, 10\, Napoli\, Italia
CATEGORIES:Musica,Musica al Centro Antico,Nuova Orchestra Scarlatti
ATTACH;FMTTYPE=image/jpeg:https://backup.sistemamedcampania.it/wp-content/uploads/2020/07/quartetto-felix.jpg
END:VEVENT
BEGIN:VEVENT
DTSTART;TZID=Europe/Rome:20200704T190000
DTEND;TZID=Europe/Rome:20200704T190000
DTSTAMP:20260419T211125
CREATED:20200702T162927Z
LAST-MODIFIED:20200702T162927Z
UID:5839-1593889200-1593889200@backup.sistemamedcampania.it
SUMMARY:Nuova Orchestra Scarlatti. Musica al Centro Antico - Euterpe & Terpsicore
DESCRIPTION:La Nuova Orchestra Scarlatti riparte con la rassegna “Musica al Centro Antico” . Il primo dei cinque appuntamenti è nel Chiostro di San Lorenzo Maggiore con Euterpe & Terpsicore\, uniti di nuovo in un ‘gioco’ raffinato tra suoni\, voci\, un momento di danza. \nIl programma spazia dalla brillante Trio-sonata di Domenico Gallo\, un po’ veneziana e un po’ napoletana\, a Giuseppe Sammartini che nel suo Concerto per flauto dolce alterna vivace stile galante e meridionale malinconia\, dal Pergolesi geniale di Chi disse ca la femmena al brio comico della Sinfonia d’Opera di Paisiello; da Cimarosa\, che prima con Madama Erlecca inneggia alla libertà in un crescendo già quasi rossiniano e poi fa cantare a un sognante Pulcinella la sua Serenata\, al sogno tardo romantico della Fantasia per corno e archi del tedesco Franz Joseph Strauss; dai poetici\, deliziosi Valzer di Šostakovič – accompagnati per l’occasione da una inedita coreografia – alla dolcissima Ave Maria per clarinetto e archi e alla travolgente Fuga di Astor Piazzolla.  \n  \nmusiche vocali e strumentali di: Gallo\, G. Sammartini\, G. Pergolesi\, G. Paisiello\, Cimarosa\, F. J. Strauss\, D. Šostakovič\, A. Piazzolla  \n  \nsoprano Naomi Rivieccio \nviolino Pasquale Faucitano \nflauto dolce Lorenza Maio \ncornoLuca Martingano \nflauto Marilù Grieco \nclarinetto Gaetano Russo \nballerini Lorenza Maio\, Mirko Melandri \n Ingresso gratuito fino ad esaurimento posti con prenotazione obbligatoria a info@nuovaorchestrascarlatti.it \n  \n  \n Info: https://www.nuovaorchestrascarlatti.it \n  \n  \n 
URL:https://backup.sistemamedcampania.it/evento/nuova-orchestra-scarlatti-musica-al-centro-antico-euterpe-terpsicore/
LOCATION:Chiesa di San Lorenzo Maggiore\, Piazza San Gaetano\, 316\, Napoli\, Italia
CATEGORIES:Musica,Musica al Centro Antico,Nuova Orchestra Scarlatti
ATTACH;FMTTYPE=image/jpeg:https://backup.sistemamedcampania.it/wp-content/uploads/2020/07/euterpe-e-terpsicore.jpg
END:VEVENT
END:VCALENDAR