BEGIN:VCALENDAR
VERSION:2.0
PRODID:-//Sistema Med Campania - ECPv6.7.0//NONSGML v1.0//EN
CALSCALE:GREGORIAN
METHOD:PUBLISH
X-ORIGINAL-URL:https://backup.sistemamedcampania.it
X-WR-CALDESC:Eventi per Sistema Med Campania
REFRESH-INTERVAL;VALUE=DURATION:PT1H
X-Robots-Tag:noindex
X-PUBLISHED-TTL:PT1H
BEGIN:VTIMEZONE
TZID:Europe/Rome
BEGIN:DAYLIGHT
TZOFFSETFROM:+0100
TZOFFSETTO:+0200
TZNAME:CEST
DTSTART:20220327T010000
END:DAYLIGHT
BEGIN:STANDARD
TZOFFSETFROM:+0200
TZOFFSETTO:+0100
TZNAME:CET
DTSTART:20221030T010000
END:STANDARD
END:VTIMEZONE
BEGIN:VEVENT
DTSTART;TZID=Europe/Rome:20220910T193000
DTEND;TZID=Europe/Rome:20220910T193000
DTSTAMP:20260420T151954
CREATED:20220905T140733Z
LAST-MODIFIED:20220905T140924Z
UID:7526-1662838200-1662838200@backup.sistemamedcampania.it
SUMMARY:Nuova Orchestra Scarlatti. UniMusic 2022 - Giovani europei in concerto
DESCRIPTION:Per UniMusic della Nuova Orchestra Scarlatti “Giovani europei in concerto”\,  un evento che vedrà il monumentale Cortile delle Statue accogliere ben 170 giovanissimi musicisti\, i 50 francesi dell’Orchestre Philarmonique du Pays d’Aix Junior e 120 napoletani e campani dell’Orchestra Scarlatti Junior\, uniti nel segno della grande musica. \nNella prima parte del concerto si esibiranno i giovani ospiti francesi\, diretti dal M.° Jacques Chalmeau. La seconda parte sarà avviata dalla nostra Scarlatti Junior diretta dal M.° Gaetano Russo con un programma spaziante da Sibelius e Gershwin a Totò\, per poi concludersi con tutti i 170 ragazzi uniti in un’esecuzione del trascinante Boléro di Ravel: emozioni assicurate per una grande festa musicale ‘europea’ a cui non si può proprio mancare. \n  \nBiglietti acquistabili presso le prevendite abituali \nal botteghino del Cortile delle Statue un’ora prima dei concerti \ned online su  www.azzurroservice.net  \n  \nInfo: https://www.unimusic.it/ – https://www.nuovaorchestrascarlatti.it/
URL:https://backup.sistemamedcampania.it/evento/nuova-orchestra-scarlatti-unimusic-2022-giovani-europei-in-concerto/
LOCATION:Cortile delle Statue della Federico II – Napoli\, Via Paladino\, 39\, Napoli\, Italia
CATEGORIES:Musica,Nuova Orchestra Scarlatti,UniMusic 2022
ATTACH;FMTTYPE=image/jpeg:https://backup.sistemamedcampania.it/wp-content/uploads/2022/09/10sett.jpg
END:VEVENT
BEGIN:VEVENT
DTSTART;TZID=Europe/Rome:20220909T203000
DTEND;TZID=Europe/Rome:20220909T203000
DTSTAMP:20260420T151954
CREATED:20220905T140530Z
LAST-MODIFIED:20220905T140530Z
UID:7522-1662755400-1662755400@backup.sistemamedcampania.it
SUMMARY:Nuova Orchestra Scarlatti. UniMusic 2022 - Incompiuta 200°
DESCRIPTION:La IV edizione di UniMusic della Nuova Orchestra Scarlatti si apre con Incompiuta 200°: la Sinfonia Incompiuta di Schubert\, il misterioso capolavoro che nel 1822 il giovane Franz non riuscì a portare avanti oltre il secondo movimento\, proposta 200 anni dopo in un’inedita versione completa di un terzo e di un quarto movimento elaborati dal maestro di origine istriana Nicola Samale\, a partire dagli appunti autografi dello stesso Schubert. Una proposta stimolante che sarà preceduta da alcune gemme vocali e strumentali di Durante\, Pergolesi e Porpora alla scoperta del versante più sentimentale e intimo del ‘700 napoletano\, degna introduzione al mondo schubertiano. Dirige la Nuova Orchestra Scarlatti il giovane direttore campano Alfonso Todisco. Partecipa il soprano Gabriella Colecchia. \n\n  \nBiglietti acquistabili presso le prevendite abituali \nal botteghino del Cortile delle Statue un’ora prima dei concerti \ned online su  www.azzurroservice.net  \n  \nInfo: https://www.unimusic.it/ – https://www.nuovaorchestrascarlatti.it/
URL:https://backup.sistemamedcampania.it/evento/nuova-orchestra-scarlatti-unimusic-2022-incompiuta-200/
LOCATION:Cortile delle Statue della Federico II – Napoli\, Via Paladino\, 39\, Napoli\, Italia
CATEGORIES:Musica,Nuova Orchestra Scarlatti,UniMusic 2022
ATTACH;FMTTYPE=image/jpeg:https://backup.sistemamedcampania.it/wp-content/uploads/2022/09/9-sett.jpg
END:VEVENT
END:VCALENDAR