BEGIN:VCALENDAR
VERSION:2.0
PRODID:-//Sistema Med Campania - ECPv6.7.0//NONSGML v1.0//EN
CALSCALE:GREGORIAN
METHOD:PUBLISH
X-WR-CALNAME:Sistema Med Campania
X-ORIGINAL-URL:https://backup.sistemamedcampania.it
X-WR-CALDESC:Eventi per Sistema Med Campania
REFRESH-INTERVAL;VALUE=DURATION:PT1H
X-Robots-Tag:noindex
X-PUBLISHED-TTL:PT1H
BEGIN:VTIMEZONE
TZID:Europe/Rome
BEGIN:DAYLIGHT
TZOFFSETFROM:+0100
TZOFFSETTO:+0200
TZNAME:CEST
DTSTART:20200329T010000
END:DAYLIGHT
BEGIN:STANDARD
TZOFFSETFROM:+0200
TZOFFSETTO:+0100
TZNAME:CET
DTSTART:20201025T010000
END:STANDARD
END:VTIMEZONE
BEGIN:VEVENT
DTSTART;TZID=Europe/Rome:20200930T203000
DTEND;TZID=Europe/Rome:20200930T203000
DTSTAMP:20260419T211405
CREATED:20200928T085847Z
LAST-MODIFIED:20200928T085847Z
UID:6041-1601497800-1601497800@backup.sistemamedcampania.it
SUMMARY:Nuova Orchestra Scarlatti. UniMusic Festival-Omaggio a Beethoven
DESCRIPTION:L’ edizione 2020 dell’ UniMusic Festival della Nuova Orchestra Scarlatti si chiuderà con un Omaggio a Beethoven nei 250 anni dalla nascita. Un programma sinfonico-corale che vedrà accanto alla Nuova Orchestra Scarlatti il Coro Chopin diretti da Stefano Miceli\, che si è guadagnato una notorietà internazionale con debutti nelle più prestigiose sale del mondo\, dalla Berliner Philharmonie alla Sydney Opera House\, dal Gewandhaus di Lipsia alla Carnegie Hall di New York. Il programma beethoveniano prevede la Seconda Sinfonia op. 36\, vitalissimo capolavoro giovanile con cui il genio di Bonn saluta Haydn e inaugura l’Ottocento\, e la Fantasia corale op. 80 per pianoforte\, soli\, coro e orchestra\, suggestiva anticipazione dell’Inno alla Gioia della Nona Sinfonia. \n  \nACQUISTA IL TUO BIGLIETTO ONLINE:  \nhttps://www.azzurroservice.net/biglietti/omaggio-a-beethoven/#.X3GlUi1abEY \n  \nINFO: https://www.unimusic.it \n 
URL:https://backup.sistemamedcampania.it/evento/nuova-orchestra-scarlatti-unimusic-festival-omaggio-a-beethoven/
LOCATION:Cortile delle Statue della Federico II – Napoli\, Via Paladino\, 39\, Napoli\, Italia
CATEGORIES:Musica,Nuova Orchestra Scarlatti,UniMusic festival 2020
ATTACH;FMTTYPE=image/jpeg:https://backup.sistemamedcampania.it/wp-content/uploads/2020/09/omaggio-a-beethoven.jpg
END:VEVENT
BEGIN:VEVENT
DTSTART;TZID=Europe/Rome:20200926T193000
DTEND;TZID=Europe/Rome:20200926T193000
DTSTAMP:20260419T211405
CREATED:20200921T152256Z
LAST-MODIFIED:20200921T152256Z
UID:6023-1601148600-1601148600@backup.sistemamedcampania.it
SUMMARY:Nuova Orchestra Scarlatti. UniMusic Festival-Sul Sur\, ChiAsso Duo
DESCRIPTION:Per il festival UniMusic della Nuova Orchestra Scarlatti ritornaSul Sur – A South American Anthology\, un inedito viaggio attraverso il mondo sonoro del ‘900 sudamericano\, suggestivo impasto di tradizioni locali\, influssi classici europei e musica popolare: dalla raffinata Saudade di Roland Dyens a un appassionato interprete della musica brasiliana come Ernesto Nazareth\, da Augustín Barrios che ricantò il folclore delle terre latinoamericane (da lui percorse in lungo in largo in una vita errabonda) con una vena di malinconico romanticismo\, a Paulinho Nogueira\, l’eclettico maestro di Toquino che mescola nelle sue amate Bachianinhas barocco e bossa nova. Protagonista di questo excursus il Chi Asso Duo\, costituito da Valerio Celentano alla chitarra e da Marco Cuciniello al contrabbasso\, che propongono degli arrangiamenti originali ad hoc per la loro particolare formazione. \n  \n musiche di  R. Dyens\, E. Nazareth\, A. Barrios\, P. Nogueira\, A. Yupanqui\, J. Morel\, E. Gismonti. \n  \nACQUISTA IL TUO BIGLIETTO ONLINE : https://www.azzurroservice.net/biglietti/sul-sur/#.X2jDHC1abEY \nINFO: https://www.unimusic.it \n  \n 
URL:https://backup.sistemamedcampania.it/evento/nuova-orchestra-scarlatti-unimusic-festival-sul-sur-chiasso-duo/
LOCATION:Chiesa di San Lorenzo Maggiore\, Piazza San Gaetano\, 316\, Napoli\, Italia
CATEGORIES:Musica,Nuova Orchestra Scarlatti,UniMusic festival 2020
ATTACH;FMTTYPE=image/jpeg:https://backup.sistemamedcampania.it/wp-content/uploads/2020/09/sulsur.jpg
END:VEVENT
BEGIN:VEVENT
DTSTART;TZID=Europe/Rome:20200924T193000
DTEND;TZID=Europe/Rome:20200924T193000
DTSTAMP:20260419T211405
CREATED:20200921T094910Z
LAST-MODIFIED:20200921T094910Z
UID:6015-1600975800-1600975800@backup.sistemamedcampania.it
SUMMARY:Nuova Orchestra Scarlatti. UniMusic Festival 2020-Scarlatti Camera
DESCRIPTION:L’ UniMusic festival 2020 della Nuova Orchestra Scarlatti prosegue nella Chiesa di San Marcellino\,  per Scarlatti Camera un appuntamento imperdibile con due gemme della musica da camera\, nel segno del più autentico piacere dell’ascolto: il romanticismo felice\, appassionato e avvolgente del Quartetto per archi op. 44 n 2 di Felix Mendelssohn\, e la luminosità perfetta di uno dei capolavori del Mozart più maturo\, il Quintetto per clarinetto e archi K. 581. In scena i Solisti della Nuova Orchestra Scarlatti: al clarinetto Gaetano Russo\, e nel ruolo di primo violino un’ospite d’eccezione\, Salvatore Quaranta\, salernitano d’origine\, collaboratore in qualità di Primo violino delle più prestigiose Orchestre italiane e straniere\, nonché dei Cameristi della Scala\, sia come Solista che come Primo violino. \n  \nACQUISTA IL TUO BIGLIETTO ONLINE:  \nhttps://www.azzurroservice.net/biglietti/i-solisti-della-nuova-orchestra-scarlatti-scarlatti-camera/#.X2h2fC1abEY \n  \nINFO: https://www.unimusic.it
URL:https://backup.sistemamedcampania.it/evento/nuova-orchestra-scarlatti-unimusic-festival-2020-scarlatti-camera/
LOCATION:Chiesa dei SS. Marcellino e Festo\, Largo S. Marcellino\, Napoli\, 80138\, Italia
CATEGORIES:Musica,Nuova Orchestra Scarlatti,UniMusic festival 2020
ATTACH;FMTTYPE=image/jpeg:https://backup.sistemamedcampania.it/wp-content/uploads/2020/09/scarlatti-camera.jpg
END:VEVENT
BEGIN:VEVENT
DTSTART;TZID=Europe/Rome:20200922T203000
DTEND;TZID=Europe/Rome:20200922T203000
DTSTAMP:20260419T211405
CREATED:20200918T124300Z
LAST-MODIFIED:20200918T124300Z
UID:6003-1600806600-1600806600@backup.sistemamedcampania.it
SUMMARY:Nuova Orchestra Scarlatti. UniMusic Festival 2020 -Serenate
DESCRIPTION:L’ UniMusic festival 2020 della Nuova Orchestra Scarlatti si sposterà nel modernissimo Complesso Universitario di San Giovanni a Teduccio per Serenate\, un brillante  programma di capolavori per strumenti a fiato di Beethoven\, Dvořák e Richard Strauss. \n  \nIngresso gratuito con prenotazione obbligatoria a info@unimusic.it indicando nome\, cognome\, recapito telefonico. \n  \nINFO: https://www.unimusic.it
URL:https://backup.sistemamedcampania.it/evento/nuova-orchestra-scarlatti-unimusic-festival-2020-serenate/
LOCATION:Auditorium Federico II San Giovanni a Teduccio\, corso Nicolangelo Protopisani\, 70\,\, Napoli\, Italia
CATEGORIES:Musica,Nuova Orchestra Scarlatti,UniMusic festival 2020
ATTACH;FMTTYPE=image/jpeg:https://backup.sistemamedcampania.it/wp-content/uploads/2020/09/serenate.jpg
END:VEVENT
BEGIN:VEVENT
DTSTART;TZID=Europe/Rome:20200920T203000
DTEND;TZID=Europe/Rome:20200920T203000
DTSTAMP:20260419T211405
CREATED:20200915T111744Z
LAST-MODIFIED:20200915T112741Z
UID:5997-1600633800-1600633800@backup.sistemamedcampania.it
SUMMARY:Nuova Orchestra Scarlatti. UniMusic Festival 2020 -Omaggio a Morricone
DESCRIPTION:Il prossimo appuntamento dell’ UniMusic festival 2020 della Nuova Orchestra Scarlatti sarà un Omaggio a Morricone\, il maestro recentemente scomparso che ha saputo fare del suo inconfondibile stile – mix di stilemi barocchi e sound della pop music – la cifra di successo mondiale delle sue indimenticabili colonne sonore. \nPer l’occasione accanto alla Nuova Orchestra Scarlatti ci sarà un solista d’eccezione\, il trombettista Nello Salza\, unanimemente considerato ‘la Tromba del cinema italiano’\, acclamato interprete della musica da film. \n  \nNello Salza tromba \nVincenzo Romano pianoforte\, \nDavid Medina basso\, \nGianfranco Romano batteria\, \nNuova Orchestra Scarlatti  \n  \nACQUISTA IL TUO BIGLIETTO ONLINE https://biglietteria.azzurroservice.it/tolonline/frmrepliche.aspx?IDMAN=6184&IDPV=59 \n  \nINFO: https://www.unimusic.it
URL:https://backup.sistemamedcampania.it/evento/nuova-orchestra-scarlatti-unimusic-festival-2020-omaggio-a-morricone/
LOCATION:Cortile delle Statue della Federico II – Napoli\, Via Paladino\, 39\, Napoli\, Italia
CATEGORIES:Musica,Nuova Orchestra Scarlatti,UniMusic festival 2020
ATTACH;FMTTYPE=image/jpeg:https://backup.sistemamedcampania.it/wp-content/uploads/2020/09/salza.jpg
END:VEVENT
BEGIN:VEVENT
DTSTART;TZID=Europe/Rome:20200912T193000
DTEND;TZID=Europe/Rome:20200912T193000
DTSTAMP:20260419T211405
CREATED:20200908T175654Z
LAST-MODIFIED:20200908T175654Z
UID:5974-1599939000-1599939000@backup.sistemamedcampania.it
SUMMARY:Nuova Orchestra Scarlatti. UniMusic Festival 2020 -Concerto sinfonico dell’Orchestra Scarlatti Junior
DESCRIPTION:L’ UniMusic festival 2020 della Nuova Orchestra Scarlatti sarà inaugurato con il Concerto sinfonico dell’Orchestra Scarlatti Junior: 110 tra ragazze e ragazzi di età compresa tra gli 11 e i 20 anni\, componenti dell’Orchestra giovanile napoletana animeranno un programma sinfonico di grande respiro e grandi emozioni\, dall’Egmont di Beethoven alla Marcia trionfale di Berlioz\, fino al sogno hollywoodiano di The Sound of Music di Richard Rodgers. Dirigeranno Marco Attura e Gaetano Russo. La serata sarà arricchita dalla partecipazione straordinaria dello scrittore Maurizio De Giovanni\, una delle più popolari e amate figure dell’attuale scena culturale partenopea. \n  \nInfo: https://www.nuovaorchestrascarlatti.it \n 
URL:https://backup.sistemamedcampania.it/evento/nuova-orchestra-scarlatti-unimusic-festival-2020-concerto-sinfonico-dellorchestra-scarlatti-junior/
LOCATION:Cortile delle Statue della Federico II – Napoli\, Via Paladino\, 39\, Napoli\, Italia
CATEGORIES:Musica,Nuova Orchestra Scarlatti,UniMusic festival 2020
ATTACH;FMTTYPE=image/jpeg:https://backup.sistemamedcampania.it/wp-content/uploads/2020/09/concerto-sinfonico-dellorchestra-scarlatti-junior.jpg
END:VEVENT
BEGIN:VEVENT
DTSTART;TZID=Europe/Rome:20200908T203000
DTEND;TZID=Europe/Rome:20200908T203000
DTSTAMP:20260419T211405
CREATED:20200907T164043Z
LAST-MODIFIED:20200907T164215Z
UID:5954-1599597000-1599597000@backup.sistemamedcampania.it
SUMMARY:Nuova Orchestra Scarlatti. UniMusic Festival 2020 - Euterpe & Terpsicore
DESCRIPTION:La Nuova Orchestra Scarlatti riparte con la seconda edizione dell “UniMusic festival 2020″ \, ideato e realizzato in partnership con l’Università ‘Federico II. lL’ anteprima è nel Chiostro di San Lorenzo Maggiore con Euterpe & Terpsicore\, uniti di nuovo in un ‘gioco’ raffinato tra suoni\, voci\, un momento di danza. \nIl programma spazia dalla brillante Trio-sonata di Domenico Gallo\, un po’ veneziana e un po’ napoletana\, a Giuseppe Sammartini che nel suo Concerto per flauto dolce alterna vivace stile galante e meridionale malinconia\, dal Pergolesi geniale di Chi disse ca la femmena al brio comico della Sinfonia d’Opera di Paisiello; da Cimarosa\, che prima con Madama Erlecca inneggia alla libertà in un crescendo già quasi rossiniano e poi fa cantare a un sognante Pulcinella la sua Serenata\, al sogno tardo romantico della Fantasia per corno e archi del tedesco Franz Joseph Strauss; dai poetici\, deliziosi Valzer di Šostakovič – accompagnati per l’occasione da una inedita coreografia – alla dolcissima Ave Maria per clarinetto e archi e alla travolgente Fuga di Astor Piazzolla.  \n  \nmusiche vocali e strumentali di: Gallo\, G. Sammartini\, G. Pergolesi\, G. Paisiello\, Cimarosa\, F. J. Strauss\, D. Šostakovič\, A. Piazzolla  \n  \nsoprano Chiara Polese \nflauto dolce  e violino Lorenza Maio \ncornoLuca Martingano \nflauto Marilù Grieco \nclarinetto Gaetano Russo \nballerini Lorenza Maio\, Mirko Melandri \n  \n  \nInfo: https://www.nuovaorchestrascarlatti.it
URL:https://backup.sistemamedcampania.it/evento/nuova-orchestra-scarlatti-unimusic-festival-2020-euterpe-terpsicore/
LOCATION:Chiesa di San Lorenzo Maggiore\, Piazza San Gaetano\, 316\, Napoli\, Italia
CATEGORIES:Musica,Nuova Orchestra Scarlatti,UniMusic festival 2020
ATTACH;FMTTYPE=image/jpeg:https://backup.sistemamedcampania.it/wp-content/uploads/2020/09/euterpe-e-terpsicore-unimusic.jpg
END:VEVENT
END:VCALENDAR