BEGIN:VCALENDAR
VERSION:2.0
PRODID:-//Sistema Med Campania - ECPv6.7.0//NONSGML v1.0//EN
CALSCALE:GREGORIAN
METHOD:PUBLISH
X-ORIGINAL-URL:https://backup.sistemamedcampania.it
X-WR-CALDESC:Eventi per Sistema Med Campania
REFRESH-INTERVAL;VALUE=DURATION:PT1H
X-Robots-Tag:noindex
X-PUBLISHED-TTL:PT1H
BEGIN:VTIMEZONE
TZID:Europe/Rome
BEGIN:DAYLIGHT
TZOFFSETFROM:+0100
TZOFFSETTO:+0200
TZNAME:CEST
DTSTART:20190331T010000
END:DAYLIGHT
BEGIN:STANDARD
TZOFFSETFROM:+0200
TZOFFSETTO:+0100
TZNAME:CET
DTSTART:20191027T010000
END:STANDARD
END:VTIMEZONE
BEGIN:VEVENT
DTSTART;TZID=Europe/Rome:20190727T203000
DTEND;TZID=Europe/Rome:20190727T203000
DTSTAMP:20260419T211436
CREATED:20190722T104350Z
LAST-MODIFIED:20190722T104350Z
UID:4863-1564259400-1564259400@backup.sistemamedcampania.it
SUMMARY:Nuova Orchestra Scarlatti-UniMusic. Maria di Buenos Aires
DESCRIPTION:Ultimo appuntamento di UniMusica\, il Festival della Musica e della Cultura della  Nuova Orchestra Scarlatti\, realizzato in partnership con l’Università Federico II.  \nChiuderanno il festival gli Artisti Cilentani Associati\, accompagnati dalla Nuova Orchestra Scarlatti  con una proposta di forte appeal\, Maria di Buenos Aires\, l’appassionata\, toccante ‘Opera Tango’ capolavoro di Astor Piazzolla. \n  \n info: https://www.nuovaorchestrascarlatti.it/
URL:https://backup.sistemamedcampania.it/evento/nuova-orchestra-scarlatti-unimusic-maria-di-buenos-aires/
LOCATION:Cortile delle Statue della Federico II – Napoli\, Via Paladino\, 39\, Napoli\, Italia
CATEGORIES:Musica,Nuova Orchestra Scarlatti,UniMusic. Festival della Musica e della Cultura
ATTACH;FMTTYPE=image/jpeg:https://backup.sistemamedcampania.it/wp-content/uploads/2019/07/Maria-di-Buenos-Aires.jpg
END:VEVENT
BEGIN:VEVENT
DTSTART;TZID=Europe/Rome:20190721T203000
DTEND;TZID=Europe/Rome:20190721T203000
DTSTAMP:20260419T211436
CREATED:20190717T090353Z
LAST-MODIFIED:20190717T090353Z
UID:4859-1563741000-1563741000@backup.sistemamedcampania.it
SUMMARY:Nuova Orchestra Scarlatti-UniMusic. ScarlattInJazz
DESCRIPTION:Il Prossimo appuntamento di UniMusica\, il Festival della Musica e della Cultura della  Nuova Orchestra Scarlatti\, realizzato in partnership con l’Università Federico II\, vedrà protaginista il Jazz. Bruno Persico al pianoforte e la Nuova Orchestra Scarlatti ci guideranno in un programma che spazia da Domenico Scarlatti\, Händel\,  Beethoven\, Bernstein\,  Ellington e Wilson. \n  \n info: https://www.nuovaorchestrascarlatti.it/
URL:https://backup.sistemamedcampania.it/evento/nuova-orchestra-scarlatti-unimusic-scarlattinjazz/
LOCATION:Cortile – Maschio Angioino\, Via Vittorio Emanuele III\,\, Napoli\, 80133\, Italia
CATEGORIES:Musica,Nuova Orchestra Scarlatti,UniMusic. Festival della Musica e della Cultura
ATTACH;FMTTYPE=image/jpeg:https://backup.sistemamedcampania.it/wp-content/uploads/2019/07/scarlattinjazz.jpg
END:VEVENT
BEGIN:VEVENT
DTSTART;TZID=Europe/Rome:20190719T193000
DTEND;TZID=Europe/Rome:20190719T193000
DTSTAMP:20260419T211436
CREATED:20190710T105405Z
LAST-MODIFIED:20190710T105405Z
UID:4857-1563564600-1563564600@backup.sistemamedcampania.it
SUMMARY:Nuova Orchestra Scarlatti-UniMusic. Maurizio Marino
DESCRIPTION:La Nuova Orchestra Scarlatti torna con la rassegna UniMusica\, il Festival della Musica e della Cultura \nPer il prossimo appuntamento del Festival UniMusic realizzato in partnership con l’Università Federico II\, la Nuova Orchestra Scarlatti accompagna l’ oboista Maurizio Marino nella Chiesa dei SS Marcellino e Festo. \n  \n  \nAlle 18:45 per i partecipanti al concerto ci sarà la visita guida al Complesso dei SS Marcellino e Festo a cura dell’ Associazione Respiriamo Arte \n  \n info: https://www.nuovaorchestrascarlatti.it/ \n 
URL:https://backup.sistemamedcampania.it/evento/nuova-orchestra-scarlatti-unimusic-maurizio-marino/
LOCATION:Chiesa dei SS. Marcellino e Festo\, Largo S. Marcellino\, Napoli\, 80138\, Italia
CATEGORIES:Musica,Nuova Orchestra Scarlatti,UniMusic. Festival della Musica e della Cultura
ATTACH;FMTTYPE=image/jpeg:https://backup.sistemamedcampania.it/wp-content/uploads/2019/07/maurizio-marino.jpg
END:VEVENT
BEGIN:VEVENT
DTSTART;TZID=Europe/Rome:20190712T193000
DTEND;TZID=Europe/Rome:20190712T193000
DTSTAMP:20260419T211436
CREATED:20190710T105103Z
LAST-MODIFIED:20190710T105103Z
UID:4853-1562959800-1562959800@backup.sistemamedcampania.it
SUMMARY:Nuova Orchestra Scarlatti-UniMusic. Aurelio Bertucci
DESCRIPTION:La Nuova Orchestra Scarlatti torna con la rassegna UniMusica\, il Festival della Musica e della Cultura \nPer il prossimo appuntamento del Festival UniMusic realizzato in partnership con l’Università Federico II\, la Nuova Orchestra Scarlatti accompagna il Violoncello di Aurelio Bertucci ella Chiesa dei SS Marcellino e Festo. \n  \n  \nAlle 18:45 per i partecipanti al concerto ci sarà la visita guida al Complesso dei SS Marcellino e Festo a cura dell’ Associazione Respiriamo Arte \n  \n info: https://www.nuovaorchestrascarlatti.it/ \n 
URL:https://backup.sistemamedcampania.it/evento/nuova-orchestra-scarlatti-unimusic-aurelio-bertucci/
LOCATION:Chiesa dei SS. Marcellino e Festo\, Largo S. Marcellino\, Napoli\, 80138\, Italia
CATEGORIES:Musica,Nuova Orchestra Scarlatti,UniMusic. Festival della Musica e della Cultura
ATTACH;FMTTYPE=image/jpeg:https://backup.sistemamedcampania.it/wp-content/uploads/2019/07/aurelio-bertucci.jpg
END:VEVENT
BEGIN:VEVENT
DTSTART;TZID=Europe/Rome:20190711T110000
DTEND;TZID=Europe/Rome:20190711T120000
DTSTAMP:20260419T211436
CREATED:20190621T125718Z
LAST-MODIFIED:20230531T095246Z
UID:4780-1562842800-1562846400@backup.sistemamedcampania.it
SUMMARY:Nuova Orchestra Scarlatti-UniMusic. Musica al Museo di Mineralogia
DESCRIPTION:Per Il Festival UniMusic\, della  Nuova Orchestra Scarlatti  realizzato in partnership con l’Università Federico II\, appuntamento con i  concerti nei Musei Unina. Tutti i giovedì di luglio  ingresso gratuito ai Musei di Mineralogia/Zoologia/ Antropologia/Paleontologia /Fisica con le incursioni musicali a cura della Nuova Orchestra Scarlatti. \n  \n  \n info: https://www.nuovaorchestrascarlatti.it/
URL:https://backup.sistemamedcampania.it/evento/nuova-orchestra-scarlatti-unimusic-musica-al-museo-di-mineralogia/
LOCATION:Museo di Mineralogia – Napoli\, Largo S. Marcellino\, 10\, Napoli\, 80134\, Italia
CATEGORIES:Musica,Nuova Orchestra Scarlatti,UniMusic. Festival della Musica e della Cultura
ATTACH;FMTTYPE=image/jpeg:https://backup.sistemamedcampania.it/wp-content/uploads/2019/06/nos-nel-museo-d-mineralogia.jpg
END:VEVENT
BEGIN:VEVENT
DTSTART;TZID=Europe/Rome:20190709T193000
DTEND;TZID=Europe/Rome:20190709T193000
DTSTAMP:20260419T211436
CREATED:20190701T110951Z
LAST-MODIFIED:20190701T110951Z
UID:4814-1562700600-1562700600@backup.sistemamedcampania.it
SUMMARY:Nuova Orchestra Scarlatti-UniMusic. Daniela Cammarano
DESCRIPTION:La Nuova Orchestra Scarlatti torna con la rassegna UniMusica\, il Festival della Musica e della Cultura \nPer il prossimo appuntamento del Festival UniMusic realizzato in partnership con l’Università Federico II\, la Nuova Orchestra Scarlatti accompagna la violinista salernitana Daniela Cammarano in un repertorio che spazia tra Vivaldi e Piazzolla. \n \n  \n  \n info: https://www.nuovaorchestrascarlatti.it/
URL:https://backup.sistemamedcampania.it/evento/nuova-orchestra-scarlatti-unimusic-daniela-cammarano-2/
LOCATION:Auditorium Federico II San Giovanni a Teduccio\, corso Nicolangelo Protopisani\, 70\,\, Napoli\, Italia
CATEGORIES:Musica,Nuova Orchestra Scarlatti,UniMusic. Festival della Musica e della Cultura
ATTACH;FMTTYPE=image/jpeg:https://backup.sistemamedcampania.it/wp-content/uploads/2019/06/daniela-cammarano-per-nos.jpg
END:VEVENT
BEGIN:VEVENT
DTSTART;TZID=Europe/Rome:20190706T193000
DTEND;TZID=Europe/Rome:20190706T193000
DTSTAMP:20260419T211436
CREATED:20190621T130326Z
LAST-MODIFIED:20190621T130326Z
UID:4784-1562441400-1562441400@backup.sistemamedcampania.it
SUMMARY:Nuova Orchestra Scarlatti-UniMusic. Daniela Cammarano
DESCRIPTION:La Nuova Orchestra Scarlatti torna con la rassegna UniMusica\, il Festival della Musica e della Cultura \nPer il prossimo appuntamento del Festival UniMusic realizzato in partnership con l’Università Federico II\, la Nuova Orchestra Scarlatti accompagna la violinista salernitana Daniela Cammarano in un repertorio che spazia tra Vivaldi e Piazzolla.\n \n  \nIl concerto sarà preceduto dalla visita guidata a cura dell’associazione Respiriamo Arte \n \n  \n info: https://www.nuovaorchestrascarlatti.it/
URL:https://backup.sistemamedcampania.it/evento/nuova-orchestra-scarlatti-unimusic-daniela-cammarano/
LOCATION:Chiesa dei SS. Marcellino e Festo\, Largo S. Marcellino\, Napoli\, 80138\, Italia
CATEGORIES:Musica,Nuova Orchestra Scarlatti,UniMusic. Festival della Musica e della Cultura
ATTACH;FMTTYPE=image/jpeg:https://backup.sistemamedcampania.it/wp-content/uploads/2019/06/daniela-cammarano-per-nos.jpg
END:VEVENT
BEGIN:VEVENT
DTSTART;TZID=Europe/Rome:20190704T110000
DTEND;TZID=Europe/Rome:20190704T120000
DTSTAMP:20260419T211436
CREATED:20190621T125450Z
LAST-MODIFIED:20230531T095309Z
UID:4776-1562238000-1562241600@backup.sistemamedcampania.it
SUMMARY:Nuova Orchestra Scarlatti-UniMusic. Musica al Museo di Paleontologia
DESCRIPTION:Per Il Festival UniMusic\, della  Nuova Orchestra Scarlatti  realizzato in partnership con l’Università Federico II\, appuntamento con i  concerti nei Musei Unina. Tutti i giovedì di luglio  ingresso gratuito ai Musei di Mineralogia/Zoologia/ Antropologia/Paleontologia /Fisica con le incursioni musicali a cura della Nuova Orchestra Scarlatti. \n  \n  \n info: https://www.nuovaorchestrascarlatti.it/ \n 
URL:https://backup.sistemamedcampania.it/evento/nuova-orchestra-scarlatti-unimusic-musica-al-museo-di-paleontologia/
LOCATION:Museo di Paleontologia – Napoli\, Largo S. Marcellino\, 10\, Napoli\, 80134
CATEGORIES:Musica,Nuova Orchestra Scarlatti,UniMusic. Festival della Musica e della Cultura
ATTACH;FMTTYPE=image/jpeg:https://backup.sistemamedcampania.it/wp-content/uploads/2019/06/nos-nel-museo-di-paleontologia.jpg
END:VEVENT
BEGIN:VEVENT
DTSTART;TZID=Europe/Rome:20190630T203000
DTEND;TZID=Europe/Rome:20190630T203000
DTSTAMP:20260419T211436
CREATED:20190619T130044Z
LAST-MODIFIED:20190626T130556Z
UID:4764-1561926600-1561926600@backup.sistemamedcampania.it
SUMMARY:Nuova Orchestra Scarlatti-UniMusic. Musica e Benessere
DESCRIPTION:La Nuova Orchestra Scarlatti torna con la rassegna UniMusica\, il Festival della Musica e della Cultura realizzato in partnership con l’Università Federico II.  \nPer il secondo appuntamento la Nuova Orchestra Scarlatti diretta da Beatrice Venezi propone Musica e Benessere\, un concerto per tutti all’insegna del piacere dell’ascolto \nMusiche di W.A. Mozart\n \n  \n info: https://www.nuovaorchestrascarlatti.it/ \n  \nfoto di copertina: Klaus Bunker
URL:https://backup.sistemamedcampania.it/evento/nuova-orchestra-scarlatti-unimusic-musica-e-benessere/
LOCATION:Sala Dei baroni – Maschio Angioino\, Via Vittorio Emanuele III\, Napoli\, 80133\, Italia
CATEGORIES:Musica,Nuova Orchestra Scarlatti,UniMusic. Festival della Musica e della Cultura
ATTACH;FMTTYPE=image/jpeg:https://backup.sistemamedcampania.it/wp-content/uploads/2019/06/musica-e-benessere-Nuova-Orchestra-Scarlatti-1.jpg
END:VEVENT
BEGIN:VEVENT
DTSTART;TZID=Europe/Rome:20190622T193000
DTEND;TZID=Europe/Rome:20190622T193000
DTSTAMP:20260419T211436
CREATED:20190617T135325Z
LAST-MODIFIED:20190617T135325Z
UID:4755-1561231800-1561231800@backup.sistemamedcampania.it
SUMMARY:Nuova Orchestra Scarlatti-UniMusic.Concerto Inaugurale
DESCRIPTION:La Nuova Orchestra Scarlatti torna con la rassegna UniMusica\, il Festival della Musica e della Cultura realizzato in partnership con l’Università Federico II. Il  Concerto Inaugurale è affidato ai più di 100 giovanissimi dell’Orchestra Scarlatti Junior (cuore pulsante della nuova Comunità delle Orchestre Scarlatti) che saranno protagonisti di un programma sinfonico carico di energia e di emozioni\, diretti da Daniele Moles\, Gaetano Russo e Bruno Persico  \nMusiche di van Beethoven\, G. Bizet\, J. Sibelius\,  E.Morricone\, B. Persico \n  \n info: https://www.nuovaorchestrascarlatti.it/ \n  \nfoto di copertina: Klaus bunker
URL:https://backup.sistemamedcampania.it/evento/nuova-orchestra-scarlatti-unimusic-concerto-inaugurale/
LOCATION:Cortile delle Statue della Federico II – Napoli\, Via Paladino\, 39\, Napoli\, Italia
CATEGORIES:Musica,Nuova Orchestra Scarlatti,UniMusic. Festival della Musica e della Cultura
ATTACH;FMTTYPE=image/jpeg:https://backup.sistemamedcampania.it/wp-content/uploads/2019/06/UniMusic-concerto-inaugurale.jpg
END:VEVENT
END:VCALENDAR