BEGIN:VCALENDAR
VERSION:2.0
PRODID:-//Sistema Med Campania - ECPv6.7.0//NONSGML v1.0//EN
CALSCALE:GREGORIAN
METHOD:PUBLISH
X-WR-CALNAME:Sistema Med Campania
X-ORIGINAL-URL:https://backup.sistemamedcampania.it
X-WR-CALDESC:Eventi per Sistema Med Campania
REFRESH-INTERVAL;VALUE=DURATION:PT1H
X-Robots-Tag:noindex
X-PUBLISHED-TTL:PT1H
BEGIN:VTIMEZONE
TZID:Europe/Rome
BEGIN:DAYLIGHT
TZOFFSETFROM:+0100
TZOFFSETTO:+0200
TZNAME:CEST
DTSTART:20180325T010000
END:DAYLIGHT
BEGIN:STANDARD
TZOFFSETFROM:+0200
TZOFFSETTO:+0100
TZNAME:CET
DTSTART:20181028T010000
END:STANDARD
END:VTIMEZONE
BEGIN:VEVENT
DTSTART;TZID=Europe/Rome:20181226T113000
DTEND;TZID=Europe/Rome:20181226T170000
DTSTAMP:20260419T211119
CREATED:20181220T134505Z
LAST-MODIFIED:20181220T134505Z
UID:4290-1545823800-1545843600@backup.sistemamedcampania.it
SUMMARY:Orchestra da Camera di Caserta. Autunno Musicale 2018 - Concerto per un giorno di Festa. Giovanni Angeleri & Orchestra da Camera di Caserta
DESCRIPTION:Torna la consueta rassegna dell’ Orchestra da Camera di Caserta\, Autunno Musicale\, giunta alla sua  XXIV edizione. Ultimo appuntamento il giorno Santo Stefano con un Concerto per un giorno di Festa  con  il violino di Giovanni Angeleri\, Premio Paganini 1997\, accompagnato dall’Orchestra da Camera di Caserta \n  \n  \ninfo: https://www.autunnomusicale.com/
URL:https://backup.sistemamedcampania.it/evento/orchestra-da-camera-di-caserta-autunno-musicale-2018-concerto-per-un-giorno-di-festa-giovanni-angeleri-orchestra-da-camera-di-caserta/
LOCATION:Reggia di Caserta. Cappella Palatina\, Viale Douhet 2/a\, Caserta (CE)\, 81100\, Italia
CATEGORIES:Associazione Anna Jervolino,Autunno Musicale. Suoni e Luoghi d'Arte 2018,Musica,Orchestra da Camera di Caserta
ATTACH;FMTTYPE=image/jpeg:https://backup.sistemamedcampania.it/wp-content/uploads/2018/12/giovanni-angeleri.jpg
END:VEVENT
BEGIN:VEVENT
DTSTART;TZID=Europe/Rome:20181216T113000
DTEND;TZID=Europe/Rome:20181216T170000
DTSTAMP:20260419T211119
CREATED:20181214T140017Z
LAST-MODIFIED:20181214T140017Z
UID:4256-1544959800-1544979600@backup.sistemamedcampania.it
SUMMARY:Orchestra da Camera di Caserta. Autunno Musicale 2018 - Orchestra da Camera di Caserta & Huw Morgan
DESCRIPTION:Torna la consueta rassegna dell’ Orchestra da Camera di Caserta\, Autunno Musicale\, giunta alla sua  XXIV edizione. Prossimo appuntamento con Huw Morgan alla  tromba\, accompagnato dall’Orchestra da Camera di Caserta \n  \nProgramma: \nGiuseppe Torelli Sonata in re per tromba\, archi e cembalo G.1; Concerto in re maggiore per tromba archi e cembalo (Estienne Roger 188) \nArcangelo Corelli Concerto Grosso in re maggiore op. VI/4; Concerto Grosso op. VI/8 Fatto per la Notte di Natale \nGeorg Philipp Telemann Concerto in re maggiore per tromba\, archi e cembalo TWV 51/D7 \n  \n  \nJohann Baptist Georg Neruda Concerto in mi bemolle maggiore per corno da caccia\, archi e cembalo \n  \n  \ninfo: https://www.autunnomusicale.com/
URL:https://backup.sistemamedcampania.it/evento/orchestra-da-camera-di-caserta-autunno-musicale-2018-orchestra-da-camera-di-caserta-huw-morgan/
LOCATION:Reggia di Caserta. Cappella Palatina\, Viale Douhet 2/a\, Caserta (CE)\, 81100\, Italia
CATEGORIES:Associazione Anna Jervolino,Autunno Musicale. Suoni e Luoghi d'Arte 2018,Musica,Orchestra da Camera di Caserta
ATTACH;FMTTYPE=image/jpeg:https://backup.sistemamedcampania.it/wp-content/uploads/2018/12/orchestra-huw-morgan.jpg
END:VEVENT
BEGIN:VEVENT
DTSTART;TZID=Europe/Rome:20181214T193000
DTEND;TZID=Europe/Rome:20181214T193000
DTSTAMP:20260419T211119
CREATED:20181214T135546Z
LAST-MODIFIED:20181214T135847Z
UID:4253-1544815800-1544815800@backup.sistemamedcampania.it
SUMMARY:Orchestra da Camera di Caserta. Autunno Musicale 2018 - Suono & Sacro. Huw Morgan & Livio De Luca
DESCRIPTION:Torna la consueta rassegna dell’ Orchestra da Camera di Caserta\, Autunno Musicale\, giunta alla sua  XXIV edizione. Prossimo appuntamento con Huw Morgan alla  tromba\, accompagnato all’organo da Livio De Luca. \n  \nProgramma: \nAlessandro Scarlatti  Toccata XI in la maggiore \nGiuseppe Torelli Concerto in re maggiore per tromba e organo (edizione a cura di Etienne Roger) \nCarlo Cotumacci  Tre Toccate \nThomas Arne  Due Organ solo \nJohn Stanley Suite n.1 / Trumpet Voluntary (versione di Edward H. Tarr) \nJohann Sebastian Bach Fuga in do minore BWV 575 \n Johann Sebastian Bach Concerto in re maggiore BWV 972 / da Vivaldi (versione per tromba e organo di Huw Morgan) \n  \n  \ninfo: https://www.autunnomusicale.com/
URL:https://backup.sistemamedcampania.it/evento/orchestra-da-camera-di-caserta-autunno-musicale-2018-suono-sacro-huw-morgan-livio-de-luca/
LOCATION:Chiesa dell’ Annunziata\, Via Annunziata\, 4\, Piedimonte Matese (CE)\, 81016
CATEGORIES:Associazione Anna Jervolino,Autunno Musicale. Suoni e Luoghi d'Arte 2018,Musica,Orchestra da Camera di Caserta
ATTACH;FMTTYPE=image/jpeg:https://backup.sistemamedcampania.it/wp-content/uploads/2018/12/huw-morgan-e-Livio-de-luca.jpg
END:VEVENT
BEGIN:VEVENT
DTSTART;TZID=Europe/Rome:20181209T173000
DTEND;TZID=Europe/Rome:20181209T173000
DTSTAMP:20260419T211119
CREATED:20181203T110630Z
LAST-MODIFIED:20181203T110630Z
UID:4198-1544376600-1544376600@backup.sistemamedcampania.it
SUMMARY:Orchestra da Camera di Caserta. Autunno Musicale 2018 - Antithesis
DESCRIPTION:Torna la consueta rassegna dell’ Orchestra da Camera di Caserta\, Autunno Musicale\, giunta alla sua  XXIV edizione. Prossimo appuntamento con il Piano Duo Antithesis\, Petros Moschos & Dimitris Karydis. \n  \nProgramma:  \nJohannes Brahms  \nSedici Valzer op.39 \nFranz Schubert  \nFantasia in fa minore D940 \n Maurice Ravel  \nMa mere l’oye \n Georges Bizet  \nJeux d’enfants op.22 \n  \ninfo: https://www.autunnomusicale.com/
URL:https://backup.sistemamedcampania.it/evento/orchestra-da-camera-di-caserta-autunno-musicale-2018-antithesis/
LOCATION:Museo Archeologico di Calatia\, Via Caudina\, 353\, Maddaloni (CE)\, 81024\, Italia
CATEGORIES:Associazione Anna Jervolino,Autunno Musicale. Suoni e Luoghi d'Arte 2018,Musica,Orchestra da Camera di Caserta
ATTACH;FMTTYPE=image/jpeg:https://backup.sistemamedcampania.it/wp-content/uploads/2018/12/Duo-Antithesis.jpg
END:VEVENT
BEGIN:VEVENT
DTSTART;TZID=Europe/Rome:20181208T113000
DTEND;TZID=Europe/Rome:20181208T170000
DTSTAMP:20260419T211119
CREATED:20181203T104213Z
LAST-MODIFIED:20181203T104238Z
UID:4195-1544268600-1544288400@backup.sistemamedcampania.it
SUMMARY:Orchestra da Camera di Caserta. Autunno Musicale 2018 - Koch & Erzhan Kulibaev
DESCRIPTION:Torna la consueta rassegna dell’ Orchestra da Camera di Caserta\, Autunno Musicale\, giunta alla sua  XXIV edizione. Prossimo appuntamento con Juliana Koch all’oboe e Erzhan Kulibaev al violino. \n  \nProgramma: \nCarl Philipp Emanuel Bach- Sonata in la minore * \nNiccolò Paganini- Quattro Capricci op.1 ** n.1 – Andante\, n.5 – Agitato\, n.17 – Sostenuto\, Andante\, n.24 – Tema con variazioni (Quasi presto) \n Wolfgang Amadeus Mozart-Tre Duetti (dal Flauto Magico) \n Gilles Silvestrini- dai Sei Tableaux *: Hotel Roches Noire à Trouville\, Boulevard des Capucines\, Le Ballet Espagnol \n Johann Sebastian Bach-Partita n.1 in si minore BWV 1002 ** \n Béla Bartók-Danze Popolari Rumene \n  \n*oboe solo \n**violino solo \n  \ninfo: https://www.autunnomusicale.com/
URL:https://backup.sistemamedcampania.it/evento/orchestra-da-camera-di-caserta-autunno-musicale-2018-koch-erzhan-kulibaev/
LOCATION:Museo Archeologico di Calatia\, Via Caudina\, 353\, Maddaloni (CE)\, 81024\, Italia
CATEGORIES:Associazione Anna Jervolino,Autunno Musicale. Suoni e Luoghi d'Arte 2018,Musica,Orchestra da Camera di Caserta
ATTACH;FMTTYPE=image/jpeg:https://backup.sistemamedcampania.it/wp-content/uploads/2018/12/koch.Kulibaev.jpg
END:VEVENT
BEGIN:VEVENT
DTSTART;TZID=Europe/Rome:20181201T193000
DTEND;TZID=Europe/Rome:20181201T193000
DTSTAMP:20260419T211119
CREATED:20181130T144614Z
LAST-MODIFIED:20181130T144614Z
UID:4180-1543692600-1543692600@backup.sistemamedcampania.it
SUMMARY:Orchestra da Camera di Caserta. Autunno Musicale 2018- Trio Adorno
DESCRIPTION:Torna la consueta rassegna dell’ Orchestra da Camera di Caserta\, Autunno Musicale\, giunta alla sua  XXIV edizione. Prossimo appuntamento con il giovanissimo Trio Adorno \n  \nProgramma: \nFranz Joseph Haydn \n Trio in mi minore Hob XV/12 \n Robert Schuman \nTrio in sol minore op.110 \nAnton Arensky \nTrio in re minore op. 32 \n  \ninfo: https://www.autunnomusicale.com/
URL:https://backup.sistemamedcampania.it/evento/orchestra-da-camera-di-caserta-autunno-musicale-2018-trio-adorno/
LOCATION:Museo Campano di Capua\, Via Roma\, 68\, Capua CE\, 81043
CATEGORIES:Associazione Anna Jervolino,Autunno Musicale. Suoni e Luoghi d'Arte 2018,Orchestra da Camera di Caserta
ATTACH;FMTTYPE=image/jpeg:https://backup.sistemamedcampania.it/wp-content/uploads/2018/11/trio-adorno.jpg
END:VEVENT
BEGIN:VEVENT
DTSTART;TZID=Europe/Rome:20181125T173000
DTEND;TZID=Europe/Rome:20181125T173000
DTSTAMP:20260419T211119
CREATED:20181123T151423Z
LAST-MODIFIED:20181123T151423Z
UID:4144-1543167000-1543167000@backup.sistemamedcampania.it
SUMMARY:Orchestra da Camera di Caserta. Autunno Musicale 2018 - A-Solo. Domenico Nordio
DESCRIPTION:Torna la consueta rassegna dell’ Orchestra da Camera di Caserta\, Autunno Musicale\, giunta alla sua  XXIV edizione. Prossimo appuntamento con il violinista Domenico Nordio in A- Solo \n  \nProgramma: \nJohann Sebastian Bach \nSonata n.1 in sol minore BWV 1001 \nHeinrich Ignaz Franz Biber \nPassacaglia \nMax Reger \nCiaccona in sol minore op.117 n.4 \nJohann Sebastian Bach \nPartita n.2 in re minore BWV 1004 \n  \nFoto di copertina Paolo Dal Prato \n  \ninfo: https://www.autunnomusicale.com/
URL:https://backup.sistemamedcampania.it/evento/orchestra-da-camera-di-caserta-autunno-musicale-2018-a-solo-domenico-nordio/
LOCATION:Museo Campano di Capua\, Via Roma\, 68\, Capua CE\, 81043
CATEGORIES:Associazione Anna Jervolino,Autunno Musicale. Suoni e Luoghi d'Arte 2018,Musica,Orchestra da Camera di Caserta
ATTACH;FMTTYPE=image/jpeg:https://backup.sistemamedcampania.it/wp-content/uploads/2018/11/domenico-nordio.jpg
END:VEVENT
BEGIN:VEVENT
DTSTART;TZID=Europe/Rome:20181124T193000
DTEND;TZID=Europe/Rome:20181124T193000
DTSTAMP:20260419T211119
CREATED:20181123T150617Z
LAST-MODIFIED:20181123T150617Z
UID:4141-1543087800-1543087800@backup.sistemamedcampania.it
SUMMARY:Orchestra da Camera di Caserta. Autunno Musicale 2018 - Massimiliano Damerini
DESCRIPTION:Torna la consueta rassegna dell’ Orchestra da Camera di Caserta\, Autunno Musicale\, giunta alla sua  XXIV edizione. Prossimo appuntamento con Massimiliano Damerini che la critica internazionale  ha definito uno dei tre massimi pianisti italiani con Benedetti Michelangeli e Pollini. \n  \nProgramma: \nLudwig van Beethoven \nSonata in fa maggiore op.54 \nSonata in do maggiore op.53 / Waldstein \n Claude Debussy \nSuite Bergamasque \nMaurice Ravel \nJeux d’eau \nLa Valse \n  \ninfo: https://www.autunnomusicale.com/
URL:https://backup.sistemamedcampania.it/evento/orchestra-da-camera-di-caserta-autunno-musicale-2018-massimiliano-damerini/
LOCATION:Museo Campano di Capua\, Via Roma\, 68\, Capua CE\, 81043
CATEGORIES:Associazione Anna Jervolino,Autunno Musicale. Suoni e Luoghi d'Arte 2018,Musica,Orchestra da Camera di Caserta
ATTACH;FMTTYPE=image/jpeg:https://backup.sistemamedcampania.it/wp-content/uploads/2018/11/damerini.jpg
END:VEVENT
BEGIN:VEVENT
DTSTART;TZID=Europe/Rome:20181118T173000
DTEND;TZID=Europe/Rome:20181118T173000
DTSTAMP:20260419T211119
CREATED:20181115T141612Z
LAST-MODIFIED:20181116T114156Z
UID:4076-1542562200-1542562200@backup.sistemamedcampania.it
SUMMARY:Orchestra da Camera di Caserta. Autunno Musicale 2018 - Filippo Gorini
DESCRIPTION:Torna la consueta rassegna dell’ Orchestra da Camera di Caserta\, Autunno Musicale\, giunta alla sua  XXIV edizione. Prossimo appuntamento con il pianoforte di Filippo Gorini. \n  \nProgramma: \nRobert Schumann \nKreisleriana op.16 \nLudwig van Beethoven \nSonata n.29 in si bemolle maggiore op.106 / Hammerklavier \n  \nFoto di copertina di Mat Hennek \n  \ninfo: https://www.autunnomusicale.com/
URL:https://backup.sistemamedcampania.it/evento/orchestra-da-camera-di-caserta-autunno-musicale-2018-filippo-gorini/
LOCATION:Museo Campano di Capua\, Via Roma\, 68\, Capua CE\, 81043
CATEGORIES:Associazione Anna Jervolino,Autunno Musicale. Suoni e Luoghi d'Arte 2018,Musica,Orchestra da Camera di Caserta
ATTACH;FMTTYPE=image/jpeg:https://backup.sistemamedcampania.it/wp-content/uploads/2018/11/gorini.jpg
END:VEVENT
BEGIN:VEVENT
DTSTART;TZID=Europe/Rome:20181117T193000
DTEND;TZID=Europe/Rome:20181117T193000
DTSTAMP:20260419T211119
CREATED:20181115T135518Z
LAST-MODIFIED:20181116T114335Z
UID:4072-1542483000-1542483000@backup.sistemamedcampania.it
SUMMARY:Orchestra da Camera di Caserta. Autunno Musicale 2018 - Josephine Olech & Orchestra da Camera di Caserta
DESCRIPTION:Torna la consueta rassegna dell’ Orchestra da Camera di Caserta\, Autunno Musicale\, giunta alla sua  XXIV edizione. Prossimo appuntamento con Josephine Olech al flauto accompagnata dall’Orchestra da Camera di Caserta\, diretti dal M° Antonino Cascio in un repertorio tra Devienne\, Mozart e Haydn. \n  \ninfo: https://www.autunnomusicale.com/
URL:https://backup.sistemamedcampania.it/evento/orchestra-da-camera-di-caserta-autunno-musicale-2018-josephine-olech-orchestra-da-camera-di-caserta/
LOCATION:Chiesa dell’ Annunziata\, Via Annunziata\, 4\, Piedimonte Matese (CE)\, 81016
CATEGORIES:Associazione Anna Jervolino,Autunno Musicale. Suoni e Luoghi d'Arte 2018,Musica,Orchestra da Camera di Caserta
ATTACH;FMTTYPE=image/jpeg:https://backup.sistemamedcampania.it/wp-content/uploads/2018/11/olech.jpg
END:VEVENT
BEGIN:VEVENT
DTSTART;TZID=Europe/Rome:20181116T200000
DTEND;TZID=Europe/Rome:20181116T200000
DTSTAMP:20260419T211119
CREATED:20181114T150333Z
LAST-MODIFIED:20181116T114434Z
UID:4061-1542398400-1542398400@backup.sistemamedcampania.it
SUMMARY:Orchestra da Camera di Caserta. Autunno Musicale 2018 - Josephine Olech &  Kamelia Miladinova
DESCRIPTION:Torna la consueta rassegna dell’ Orchestra da Camera di Caserta\, Autunno Musicale\, giunta alla sua  XXIV edizione. Prossimo appuntamento con Josephine Olech al flauto e Kamelia Miladinova al pianoforte \n programma:  \nClaude Debussy \nSyrinx  per flauto solo \nPrélude à l’après-midi d’un faune \n(Versione per flauto e pianoforte)  \nCharles – Maria Widor \nSuite per flauto e pianoforte op.34 \nSergey Prokofiev \nSonata n.2 op.94 per flauto e pianoforte \n  \n  \ninfo: https://www.autunnomusicale.com/
URL:https://backup.sistemamedcampania.it/evento/orchestra-da-camera-di-caserta-autunno-musicale-2018-josephine-olech-kamelia-miladinova/
LOCATION:Museo Archeologico di Calatia\, Via Caudina\, 353\, Maddaloni (CE)\, 81024\, Italia
CATEGORIES:Associazione Anna Jervolino,Autunno Musicale. Suoni e Luoghi d'Arte 2018,Musica,Orchestra da Camera di Caserta
ATTACH;FMTTYPE=image/jpeg:https://backup.sistemamedcampania.it/wp-content/uploads/2018/11/Olech-e-miladinova.jpg
END:VEVENT
END:VCALENDAR