BEGIN:VCALENDAR
VERSION:2.0
PRODID:-//Sistema Med Campania - ECPv6.7.0//NONSGML v1.0//EN
CALSCALE:GREGORIAN
METHOD:PUBLISH
X-WR-CALNAME:Sistema Med Campania
X-ORIGINAL-URL:https://backup.sistemamedcampania.it
X-WR-CALDESC:Eventi per Sistema Med Campania
REFRESH-INTERVAL;VALUE=DURATION:PT1H
X-Robots-Tag:noindex
X-PUBLISHED-TTL:PT1H
BEGIN:VTIMEZONE
TZID:Europe/Rome
BEGIN:DAYLIGHT
TZOFFSETFROM:+0100
TZOFFSETTO:+0200
TZNAME:CEST
DTSTART:20210328T010000
END:DAYLIGHT
BEGIN:STANDARD
TZOFFSETFROM:+0200
TZOFFSETTO:+0100
TZNAME:CET
DTSTART:20211031T010000
END:STANDARD
END:VTIMEZONE
BEGIN:VEVENT
DTSTART;TZID=Europe/Rome:20210825T210000
DTEND;TZID=Europe/Rome:20210825T210000
DTSTAMP:20260422T134443
CREATED:20210802T140415Z
LAST-MODIFIED:20210802T140415Z
UID:6564-1629925200-1629925200@backup.sistemamedcampania.it
SUMMARY:Orchestra Filarmonica Campana. Vivi Musica 2021 - La Boheme
DESCRIPTION:Per Vivi Musica 2021 dell’ Orchestra Filarmonica Campana un momento musicale dedicato all’opera lirica con una selezione de “La Boheme” . Le voci che interpreteranno le parti principali sono quelle di Luana Lombardi e Barbara Massaro\, Marco Ferrante e  Maurizio Esposito e saranno accompagnate al pianoforte da Giuseppe Galiano. \n  \n  \nSoprani Luana Lombardi\, Barbara Massaro\nTenore Marco Ferrante\nBaritono Maurizio Esposito\nPianoforte Giuseppe Galiano \n  \n  \nPer info e prenotazioni https://www.filarmonicacampana.it
URL:https://backup.sistemamedcampania.it/evento/orchestra-filarmonica-campana-vivi-musica-2021-la-boheme/
LOCATION:Villa Comunale – Pagani (Sa)\, Corso Padovano Ettore\, 116\, Pagani SA\, 84016
CATEGORIES:Musica,Orchestra Filarmonica Campana,Vivi Musica 2021
ATTACH;FMTTYPE=image/jpeg:https://backup.sistemamedcampania.it/wp-content/uploads/2021/08/la-boheme.jpg
END:VEVENT
BEGIN:VEVENT
DTSTART;TZID=Europe/Rome:20210822T210000
DTEND;TZID=Europe/Rome:20210822T210000
DTSTAMP:20260422T134443
CREATED:20210802T140009Z
LAST-MODIFIED:20210802T140009Z
UID:6561-1629666000-1629666000@backup.sistemamedcampania.it
SUMMARY:Orchestra Filarmonica Campana. Vivi Musica 2021 - Recital di Canto
DESCRIPTION:Per Vivi Musica 2021 dell’ Orchestra Filarmonica Campana la giovane promessa della lirica italiana Barbara Massaro\, sarà protagonista del “Recital di Canto”  accompagnata da Giuseppe Galiano al pianoforte\, che ci condurranno in un viaggio musicale ed espressivo nelle liriche da camera di Rossini\, Scarlatti\, Tosti e in alcune arie d’opera tratte dal repertorio di Donizetti e Puccini. \n  \nSoprano Barbara Massaro\nPianoforte Giuseppe Galiano \n  \nPer info e prenotazioni https://www.filarmonicacampana.it
URL:https://backup.sistemamedcampania.it/evento/orchestra-filarmonica-campana-vivi-musica-2021-recital-di-canto/
LOCATION:Cortile del Carminello ad Arco – Pagani (Sa)\, Via Giacomo Matteotti\, 32\,\, Pagani SA\, 84016\, Italia
CATEGORIES:Musica,Orchestra Filarmonica Campana,Vivi Musica 2021
ATTACH;FMTTYPE=image/jpeg:https://backup.sistemamedcampania.it/wp-content/uploads/2021/08/recital-di-canto.jpg
END:VEVENT
BEGIN:VEVENT
DTSTART;TZID=Europe/Rome:20210809T210000
DTEND;TZID=Europe/Rome:20210809T210000
DTSTAMP:20260422T134443
CREATED:20210802T135605Z
LAST-MODIFIED:20210802T135610Z
UID:6557-1628542800-1628542800@backup.sistemamedcampania.it
SUMMARY:Orchestra Filarmonica Campana. Vivi Musica 2021-The Young Mozart
DESCRIPTION:Prosegue Vivi Musica 2021 dell’ Orchestra Filarmonica Campana con “The Young Mozart” :  protagonisti il soprano Luana Lombardi\, il cornista Christian Di Crescenzo\, sul podio dell’Orchestra il giovane direttore Giuseppe Galiano. \n  \nProgramma: \nWolfgang Amadeus Mozart\nCassazione n. 2 Kv 99\nMitridate\, re di Ponto\, “Lungi da Te mio bene” Kv 87\nSinfonia n. 29 in la maggiore Kv 201\n \n  \nOrchestra Filarmonica Campana\nSoprano Luana Lombardi  \nCorno Christian Di Crescenzo\nDirettore Giuseppe Galiano \n  \n  \nPer info e prenotazioni https://www.filarmonicacampana.it
URL:https://backup.sistemamedcampania.it/evento/orchestra-filarmonica-campana-vivi-musica-2021-the-young-mozart/
LOCATION:Cortile del Carminello ad Arco – Pagani (Sa)\, Via Giacomo Matteotti\, 32\,\, Pagani SA\, 84016\, Italia
CATEGORIES:Musica,Orchestra Filarmonica Campana,Vivi Musica 2021
ATTACH;FMTTYPE=image/jpeg:https://backup.sistemamedcampania.it/wp-content/uploads/2021/08/the-young-mozart.jpg
END:VEVENT
BEGIN:VEVENT
DTSTART;TZID=Europe/Rome:20210806T210000
DTEND;TZID=Europe/Rome:20210806T210000
DTSTAMP:20260422T134443
CREATED:20210802T122251Z
LAST-MODIFIED:20210802T122251Z
UID:6552-1628283600-1628283600@backup.sistemamedcampania.it
SUMMARY:Orchestra Filarmonica Campana. Vivi Musica 2021 - Corde in Canto
DESCRIPTION:Prossimo appuntamento di  Vivi Musica 2021 dell’ Orchestra Filarmonica Campana “Corde in Canto”con il soprano Annapaola Troiano e il chitarrista Antonio Saturno \n  \nPer info e prenotazioni https://www.filarmonicacampana.it
URL:https://backup.sistemamedcampania.it/evento/orchestra-filarmonica-campana-vivi-musica-2021-corde-in-canto/
LOCATION:Cortile del Carminello ad Arco – Pagani (Sa)\, Via Giacomo Matteotti\, 32\,\, Pagani SA\, 84016\, Italia
CATEGORIES:Musica,Orchestra Filarmonica Campana,Vivi Musica 2021
ATTACH;FMTTYPE=image/jpeg:https://backup.sistemamedcampania.it/wp-content/uploads/2021/08/corde-incanto.jpg
END:VEVENT
BEGIN:VEVENT
DTSTART;TZID=Europe/Rome:20210805T203000
DTEND;TZID=Europe/Rome:20210805T203000
DTSTAMP:20260422T134443
CREATED:20210802T121853Z
LAST-MODIFIED:20210802T121950Z
UID:6548-1628195400-1628195400@backup.sistemamedcampania.it
SUMMARY:Orchestra Filarmonica Campana. Vivi Musica 2021 - La Traviata
DESCRIPTION:Per Vivi Musica 2021 dell’ Orchestra Filarmonica Campana un momento musicale dedicato all’opera lirica con una selezione de “La Traviata” di Giuseppe Verdi Luana Lombardi\, Ivan Lualdi e Maurizio Esposito accompagnati al pianoforte da Giulio Marazia. \n  \nSoprano Luana Lombardi\nTenore Ivan Lualdi\nBaritono Maurizio Esposito\nPianoforte Giulio Marazia \n  \nPer info e prenotazioni https://www.filarmonicacampana.it
URL:https://backup.sistemamedcampania.it/evento/orchestra-filarmonica-campana-vivi-musica-2021-la-traviata/
LOCATION:Villa Comunale – Pagani (Sa)\, Corso Padovano Ettore\, 116\, Pagani SA\, 84016
CATEGORIES:Musica,Orchestra Filarmonica Campana,Vivi Musica 2021
ATTACH;FMTTYPE=image/jpeg:https://backup.sistemamedcampania.it/wp-content/uploads/2021/08/la-traviata.jpg
END:VEVENT
END:VCALENDAR