BEGIN:VCALENDAR
VERSION:2.0
PRODID:-//Sistema Med Campania - ECPv6.7.0//NONSGML v1.0//EN
CALSCALE:GREGORIAN
METHOD:PUBLISH
X-ORIGINAL-URL:https://backup.sistemamedcampania.it
X-WR-CALDESC:Eventi per Sistema Med Campania
REFRESH-INTERVAL;VALUE=DURATION:PT1H
X-Robots-Tag:noindex
X-PUBLISHED-TTL:PT1H
BEGIN:VTIMEZONE
TZID:Europe/Rome
BEGIN:DAYLIGHT
TZOFFSETFROM:+0100
TZOFFSETTO:+0200
TZNAME:CEST
DTSTART:20210328T010000
END:DAYLIGHT
BEGIN:STANDARD
TZOFFSETFROM:+0200
TZOFFSETTO:+0100
TZNAME:CET
DTSTART:20211031T010000
END:STANDARD
BEGIN:DAYLIGHT
TZOFFSETFROM:+0100
TZOFFSETTO:+0200
TZNAME:CEST
DTSTART:20220327T010000
END:DAYLIGHT
BEGIN:STANDARD
TZOFFSETFROM:+0200
TZOFFSETTO:+0100
TZNAME:CET
DTSTART:20221030T010000
END:STANDARD
BEGIN:DAYLIGHT
TZOFFSETFROM:+0100
TZOFFSETTO:+0200
TZNAME:CEST
DTSTART:20230326T010000
END:DAYLIGHT
BEGIN:STANDARD
TZOFFSETFROM:+0200
TZOFFSETTO:+0100
TZNAME:CET
DTSTART:20231029T010000
END:STANDARD
BEGIN:DAYLIGHT
TZOFFSETFROM:+0100
TZOFFSETTO:+0200
TZNAME:CEST
DTSTART:20240331T010000
END:DAYLIGHT
BEGIN:STANDARD
TZOFFSETFROM:+0200
TZOFFSETTO:+0100
TZNAME:CET
DTSTART:20241027T010000
END:STANDARD
END:VTIMEZONE
BEGIN:VEVENT
DTSTART;TZID=Europe/Rome:20240120T170000
DTEND;TZID=Europe/Rome:20240120T170000
DTSTAMP:20260420T010458
CREATED:20240108T172639Z
LAST-MODIFIED:20240108T172833Z
UID:8915-1705770000-1705770000@backup.sistemamedcampania.it
SUMMARY:Orchestra Filarmonica Campana - Rapsodie
DESCRIPTION:Il 20 gennaio del 1752\, a Caserta\, il re posa la prima pietra del cantiere che cambierà le sorti dell’intera area: la Reggia di Caserta. Per festeggiare il 274° anniversario di questa importante ricorrenza e dopo i successi degli ultimi concerti firmati OFC\, l’Orchestra torna nella Cappella Palatina con il concerto Rapsodie. \nQuesto appuntamento ripercorre parte della maggiore letteratura musicale dedicata a questa forma musicale\, ovvero la rapsodia\, un tipo di componimento strumentale libero\, che non segue uno schema fisso\, ma si presenta come un insieme di spunti melodici\, anche molto diversi tra di loro per ritmo e armonia. \n  \nORCHESTRA FILARMONICA CAMPANA \nPASQUALE IANNONE\npianoforte \nGIULIO MARAZIA\ndirettore \n  \nProgramma \nSergej Rachmaninov\nRapsodia su un tema di Paganini op. 43 \nFranz Liszt\nRapsodia Ungherese n. 2 \nGeorge Gershwin\nRapsodia in blu \nPer info www.filarmonicacampana.it
URL:https://backup.sistemamedcampania.it/evento/orchestra-filarmonica-campana-rapsodie/
LOCATION:Reggia di Caserta. Cappella Palatina\, Viale Douhet 2/a\, Caserta (CE)\, 81100\, Italia
CATEGORIES:Musica,Orchestra Filarmonica di Benevento
ATTACH;FMTTYPE=image/jpeg:https://backup.sistemamedcampania.it/wp-content/uploads/2024/01/orchestra-filarmonica-campana-rapsodie-2.jpg
END:VEVENT
BEGIN:VEVENT
DTSTART;TZID=Europe/Rome:20210804T210000
DTEND;TZID=Europe/Rome:20210804T210000
DTSTAMP:20260420T010458
CREATED:20210716T111111Z
LAST-MODIFIED:20210802T141311Z
UID:6529-1628110800-1628110800@backup.sistemamedcampania.it
SUMMARY:Orchestra Filarmonica di Benevento-VII Stagione Concertistica. Recital Lirico\, Rosa Feola
DESCRIPTION:Orgoglio campano\, il soprano Rosa Feola è tra le stelle più luminose del mondo della lirica. Protagonista del concerto di Capodanno della Fenice di Venezia\, la Feola ha una versatilità che le permette di interpretare i ruoli più disparati\, da Mozart a Verdi. A dirigere il recital che la vedrà protagonista sarà il Maestro Daniel Smith. \n  \nRosa Feola\, soprano \nDaniel Smith\,  direttore \n  \nAcquista il tuo biglietto su:  www.i-ticket.it\nBiglietti disponibili presso: iTicket – Cafè Le Trou\, Corso Garibaldi\, Benevento \nPer info: https://www.ofbn.it \n 
URL:https://backup.sistemamedcampania.it/evento/orchestra-filarmonica-di-benevento-vii-stagione-concertistica-recital-lirico-rosa-feola/
LOCATION:Teatro Romano di Benevento\, Piazza Ponzio Telesino\, Benevento BN\, 82100\, Italia
CATEGORIES:Musica,Orchestra Filarmonica di Benevento,VII Stagione Concertistica
ATTACH;FMTTYPE=image/jpeg:https://backup.sistemamedcampania.it/wp-content/uploads/2021/07/feola.jpg
END:VEVENT
BEGIN:VEVENT
DTSTART;TZID=Europe/Rome:20210730T210000
DTEND;TZID=Europe/Rome:20210730T210000
DTSTAMP:20260420T010458
CREATED:20210716T105216Z
LAST-MODIFIED:20210716T105216Z
UID:6526-1627678800-1627678800@backup.sistemamedcampania.it
SUMMARY:Orchestra Filarmonica di Benevento-VII Stagione Concertistica. Peppe Servillo racconta l' Histoire du Soldat
DESCRIPTION:“L’idea di comporre uno spettacolo drammatico per un ‘théâtre ambulant’ mi era […] venuta in mente più di una volta fin dall’inizio della guerra. Il genere di lavoro che immaginavo avrebbe dovuto essere così circoscritto nel numero degli esecutori da consentire rappresentazioni in un circuito di villaggi svizzeri\, e così semplice nella trama da del racconto da poter essere facilmente capito” \nIgor Stravinsky \nA 50 anni dalla sua scomparsa\, l’ Orchestra Filarmonica di Benevento celebra Stravinskij con la voce del Maestro Peppe Servillo. Musica e teatro si fondono nell’imperdibile maestria del compositore russo. \n  \nPeppe Servillo\, voce narrante \nMarcello Panni\, direttore \n  \nAcquista il tuo biglietto su:  www.i-ticket.it\nBiglietti disponibili presso: iTicket – Cafè Le Trou\, Corso Garibaldi\, Benevento \nPer info: https://www.ofbn.it \n 
URL:https://backup.sistemamedcampania.it/evento/orchestra-filarmonica-di-benevento-vii-stagione-concertistica-peppe-servillo-racconta-l-histoire-du-soldat/
LOCATION:Teatro Romano di Benevento\, Piazza Ponzio Telesino\, Benevento BN\, 82100\, Italia
CATEGORIES:Musica,Orchestra Filarmonica di Benevento,VII Stagione Concertistica
ATTACH;FMTTYPE=image/jpeg:https://backup.sistemamedcampania.it/wp-content/uploads/2021/07/servillo.jpg
END:VEVENT
BEGIN:VEVENT
DTSTART;TZID=Europe/Rome:20210723T210000
DTEND;TZID=Europe/Rome:20210723T210000
DTSTAMP:20260420T010458
CREATED:20210716T103858Z
LAST-MODIFIED:20210716T103858Z
UID:6523-1627074000-1627074000@backup.sistemamedcampania.it
SUMMARY:Orchestra Filarmonica di Benevento-VII Stagione Concertistica. Unconventional Cello
DESCRIPTION:Il prossimo appuntamento della VII stagione dell’  Orchestra Filarmonica di Benevento è con un’artista unico nel suo genere che fa della musica un mezzo per comunicare con il pubblico\, fuori dagli schemi\, virtuoso\, istrionico ed immensamente empatico\, il violoncellista e compositore Giovanni Sollima.  Sarà  protagonista di un concerto che spazierà da Haydn a Gulda\, concludendosi con la suite Terra con Variazioni dello stesso Sollima. \n  \nAcquista il tuo biglietto su:  www.i-ticket.it\nBiglietti disponibili presso: iTicket – Cafè Le Trou\, Corso Garibaldi\, Benevento \nPer info: https://www.ofbn.it \n 
URL:https://backup.sistemamedcampania.it/evento/orchestra-filarmonica-di-benevento-vii-stagione-concertistica-unconventional-cello/
LOCATION:Teatro Romano di Benevento\, Piazza Ponzio Telesino\, Benevento BN\, 82100\, Italia
CATEGORIES:Musica,Orchestra Filarmonica di Benevento,VII Stagione Concertistica
ATTACH;FMTTYPE=image/jpeg:https://backup.sistemamedcampania.it/wp-content/uploads/2021/07/sollima.jpg
END:VEVENT
BEGIN:VEVENT
DTSTART;TZID=Europe/Rome:20210711T210000
DTEND;TZID=Europe/Rome:20210711T210000
DTSTAMP:20260420T010458
CREATED:20210709T145210Z
LAST-MODIFIED:20210709T145210Z
UID:6508-1626037200-1626037200@backup.sistemamedcampania.it
SUMMARY:Orchestra Filarmonica di Benevento-VII Stagione Concertistica. Le Quattro Stagioni
DESCRIPTION:Il prossimo appuntamento della VII stagione dell’  Orchestra Filarmonica di Benevento\, è con le Quattro stagioni\, uno tra i primissimi esempi di musica a programma che ha reso Vivaldi celebre anche tra i non addetti ai lavori. La giovanissima violinista Clarissa Bevilacqua\, vincitrice dell’International Mozart Competition Salzburg 2020\, sarà l’interprete di questi quattro capolavori per violino e orchestra condividendo il palcoscenico con la compagnia Balletto di Benevento. Ballerini solisti Anbeta Toromani e Alessandro Macario. \n  \n  \nAcquista il tuo biglietto su:  www.i-ticket.it\nBiglietti disponibili presso: iTicket – Cafè Le Trou\, Corso Garibaldi\, Benevento \nPer info: https://www.ofbn.it
URL:https://backup.sistemamedcampania.it/evento/orchestra-filarmonica-di-benevento-vii-stagione-concertistica-le-quattro-stagioni/
LOCATION:Teatro Romano di Benevento\, Piazza Ponzio Telesino\, Benevento BN\, 82100\, Italia
CATEGORIES:Musica,Orchestra Filarmonica di Benevento,VII Stagione Concertistica
ATTACH;FMTTYPE=image/jpeg:https://backup.sistemamedcampania.it/wp-content/uploads/2021/07/le-quattro-stagioni-copia.jpg
END:VEVENT
BEGIN:VEVENT
DTSTART;TZID=Europe/Rome:20210628T210000
DTEND;TZID=Europe/Rome:20210628T210000
DTSTAMP:20260420T010458
CREATED:20210623T163110Z
LAST-MODIFIED:20210623T163110Z
UID:6466-1624914000-1624914000@backup.sistemamedcampania.it
SUMMARY:Orchestra Filarmonica di Benevento-VII Stagione Concertistica. Pierino e il Lupo
DESCRIPTION:Fin dal suo esordio\, il Festival BCT\, Festival Nazionale del Cinema e della Televisione\, ha scelto di legarsi alla nostra musica e\, dopo un lockdown che ha rafforzato ancor di più il nostro legame\, ritorniamo sul palco del Teatro Romano di Benevento con un gigante del cinema e della televisione italiana. Ad interpretare la voce narrante della favola musicale di Prokofiev sarà Silvio Orlando. Napoletano\, di origine Sannita\, con trascorsi nella musica e interprete di innumerevoli film e serie TV\, Orlando trascinerà grandi e piccini nelle avventure di Pierino e i suoi amici animali. Sul podio di questa avventura ci sarà il Maestro Francesco Lanzillotta. \n  \nAcquista il tuo biglietto su:  www.i-ticket.it\nBiglietti disponibili presso: iTicket – Cafè Le Trou\, Corso Garibaldi\, Benevento \nPer info: https://www.ofbn.it \n 
URL:https://backup.sistemamedcampania.it/evento/orchestra-filarmonica-di-benevento-vii-stagione-concertistica-pierino-e-il-lupo/
LOCATION:Teatro Romano di Benevento\, Piazza Ponzio Telesino\, Benevento BN\, 82100\, Italia
CATEGORIES:Musica,Orchestra Filarmonica di Benevento,VII Stagione Concertistica
ATTACH;FMTTYPE=image/jpeg:https://backup.sistemamedcampania.it/wp-content/uploads/2021/06/pierino-e-il-lupo.jpg
END:VEVENT
BEGIN:VEVENT
DTSTART;TZID=Europe/Rome:20210622T200000
DTEND;TZID=Europe/Rome:20210622T200000
DTSTAMP:20260420T010458
CREATED:20210618T101333Z
LAST-MODIFIED:20210618T101333Z
UID:6455-1624392000-1624392000@backup.sistemamedcampania.it
SUMMARY:Orchestra Filarmonica di Benevento-VII Stagione Concertistica. Concerto di inaugurazione
DESCRIPTION:La VII stagione dell’  OFB si apre con un omaggio ai musicisti russi nello splendido Teatro Romano di Benevento.\nPunta di diamante del concerto inaugurale sarà la pianista Beatrice Rana che eseguirà il celebre concerto n. 2 per pianoforte e orchestra di Rachmaninov. Incorniceranno il Rach 2 le Danze Polovesiane di Borodin e l’ouverture dell’opera Ruslan e Ludmilla di Glinka. \nStanislav Kochanovsky\, direttore\nBeatrice Ran\, pianoforte \n  \nProgramma:  \nM. I. Glinka – Ouverture Ruslan & Liudmila\nS. Rachmaninov – Piano concerto n. 2 in do minore\, op.18\nA. Borodin – Polovetsian Dances \n  \nAcquista il tuo biglietto su:  www.i-ticket.it\nBiglietti disponibili presso: iTicket – Cafè Le Trou\, Corso Garibaldi\, Benevento \nPer info: https://www.ofbn.it
URL:https://backup.sistemamedcampania.it/evento/orchestra-filarmonica-di-benevento-vii-stagione-concertistica-concerto-di-inaugurazione/
LOCATION:Teatro Romano di Benevento\, Piazza Ponzio Telesino\, Benevento BN\, 82100\, Italia
CATEGORIES:Musica,Orchestra Filarmonica di Benevento,VII Stagione Concertistica
ATTACH;FMTTYPE=image/jpeg:https://backup.sistemamedcampania.it/wp-content/uploads/2021/06/concerto-inaugurazione.jpg
END:VEVENT
END:VCALENDAR