BEGIN:VCALENDAR
VERSION:2.0
PRODID:-//Sistema Med Campania - ECPv6.7.0//NONSGML v1.0//EN
CALSCALE:GREGORIAN
METHOD:PUBLISH
X-ORIGINAL-URL:https://backup.sistemamedcampania.it
X-WR-CALDESC:Eventi per Sistema Med Campania
REFRESH-INTERVAL;VALUE=DURATION:PT1H
X-Robots-Tag:noindex
X-PUBLISHED-TTL:PT1H
BEGIN:VTIMEZONE
TZID:Europe/Rome
BEGIN:DAYLIGHT
TZOFFSETFROM:+0100
TZOFFSETTO:+0200
TZNAME:CEST
DTSTART:20200329T010000
END:DAYLIGHT
BEGIN:STANDARD
TZOFFSETFROM:+0200
TZOFFSETTO:+0100
TZNAME:CET
DTSTART:20201025T010000
END:STANDARD
END:VTIMEZONE
BEGIN:VEVENT
DTSTART;TZID=Europe/Rome:20201213T193000
DTEND;TZID=Europe/Rome:20201213T193000
DTSTAMP:20260423T154953
CREATED:20201202T164120Z
LAST-MODIFIED:20201202T164120Z
UID:6210-1607887800-1607887800@backup.sistemamedcampania.it
SUMMARY:Fondazione Pietà de’ Turchini. Il Suono della Parola -La Sinfonia degli Animali
DESCRIPTION:Il Suono della Parola\, il festival di letteratura e musica prodotto dalla Fondazione Pietà de’ Turchini \, a cura di MiNa vagante\, con il sostegno della Regione Campania\, si conclude con un Concerto Reading  sul libro “La Sinfonia degli Animali” di Dan Brown. Con la partecipazione di Dan Brown  \n  \nL’appuntamento\, si potrà seguire online sulla nuova piattaforma live della Fondazione Pietà e’ Turchini   \nhttp://www.turchini.it/live/   \nsulla pagina Facebook Il Suono della Parola  \nhttps://www.facebook.com/ilsuonodellaparola/ \n  \n 
URL:https://backup.sistemamedcampania.it/evento/fondazione-pieta-de-turchini-il-suono-della-parola-la-sinfonia-degli-animali/
CATEGORIES:Fondazione Pietà dei Turchini,Il Suono della Parola VI edizione,Musica
ATTACH;FMTTYPE=image/jpeg:https://backup.sistemamedcampania.it/wp-content/uploads/2020/12/la-sinfonia-degli-animali.jpg
END:VEVENT
BEGIN:VEVENT
DTSTART;TZID=Europe/Rome:20201213T183000
DTEND;TZID=Europe/Rome:20201213T183000
DTSTAMP:20260423T154953
CREATED:20201202T163027Z
LAST-MODIFIED:20201202T163027Z
UID:6205-1607884200-1607884200@backup.sistemamedcampania.it
SUMMARY:Fondazione Pietà de’ Turchini. Il Suono della Parola - Note e Contrappunti
DESCRIPTION:Per Note e Contrappunti de Il Suono della Parola\, il festival di letteratura e musica prodotto dalla Fondazione Pietà de’ Turchini \, a cura di MiNa vagante\, con il sostegno della Regione Campania\, Letture d’autore. Scrittori\, scrittrici e musicisti che scrivono di musica e di vita con Daria Bignardi\, Ramin Bahrami\, federico Vacalebre\, Viola Ardone  \nL’appuntamento\, si potrà seguire online sulla nuova piattaforma live della Fondazione Pietà e’ Turchini   \nhttp://www.turchini.it/live/   \ne sulla pagina Facebook Il Suono della Parola  \nhttps://www.facebook.com/ilsuonodellaparola/
URL:https://backup.sistemamedcampania.it/evento/fondazione-pieta-de-turchini-il-suono-della-parola-note-e-contrappunti-3/
CATEGORIES:Fondazione Pietà dei Turchini,Il Suono della Parola VI edizione,Musica
ATTACH;FMTTYPE=image/jpeg:https://backup.sistemamedcampania.it/wp-content/uploads/2020/12/note-e-contrappunti-2serata.jpg
END:VEVENT
BEGIN:VEVENT
DTSTART;TZID=Europe/Rome:20201212T193000
DTEND;TZID=Europe/Rome:20201212T193000
DTSTAMP:20260423T154953
CREATED:20201202T163410Z
LAST-MODIFIED:20201202T163410Z
UID:6207-1607801400-1607801400@backup.sistemamedcampania.it
SUMMARY:Fondazione Pietà de’ Turchini. Il Suono della Parola - Le Sorelle di Mozart. Storie di interpreti dimenticate\, compositrici geniali e musiciste ribelli. 
DESCRIPTION:La seconda serata de Il Suono della Parola\, il festival di letteratura e musica prodotto dalla Fondazione Pietà de’ Turchini \, a cura di MiNa vagante\, con il sostegno della Regione Campania\, prosegue con Beatrice Venezi  insieme a Lorenzo Pavolini racconteranno Le Sorelle di Mozart. Storie di interpreti dimenticate\, compositrici geniali e musiciste ribelli.  \n  \nL’appuntamento\, si potrà seguire online sulla nuova piattaforma live della Fondazione Pietà e’ Turchini   \nhttp://www.turchini.it/live/   \nsulla pagina Facebook Il Suono della Parola  \nhttps://www.facebook.com/ilsuonodellaparola/
URL:https://backup.sistemamedcampania.it/evento/fondazione-pieta-de-turchini-il-suono-della-parola-le-sorelle-di-mozart-storie-di-interpreti-dimenticate-compositrici-geniali-e-musiciste-ribelli/
CATEGORIES:Fondazione Pietà dei Turchini,Il Suono della Parola VI edizione,Musica
ATTACH;FMTTYPE=image/jpeg:https://backup.sistemamedcampania.it/wp-content/uploads/2020/12/beatrice-venzi.jpg
END:VEVENT
BEGIN:VEVENT
DTSTART;TZID=Europe/Rome:20201212T183000
DTEND;TZID=Europe/Rome:20201212T183000
DTSTAMP:20260423T154953
CREATED:20201202T162724Z
LAST-MODIFIED:20201202T164923Z
UID:6198-1607797800-1607797800@backup.sistemamedcampania.it
SUMMARY:Fondazione Pietà de’ Turchini. Il Suono della Parola - Note e Contrappunti
DESCRIPTION:Per Note e Contrappunti de Il Suono della Parola\, il festival di letteratura e musica prodotto dalla Fondazione Pietà de’ Turchini \, a cura di MiNa vagante\, con il sostegno della Regione Campania\, Letture d’autore. Scrittori\, scrittrici e musicisti che scrivono di musica e di vita con Roberto Andò\, Simonetta Fiori\, Luigi Spina\, Agnese Palumbo\, Ranieri Polese. \n  \nL’appuntamento\, si potrà seguire online sulla nuova piattaforma live della Fondazione Pietà e’ Turchini   \nhttp://www.turchini.it/live/   \ne sulla pagina Facebook Il Suono della Parola  \nhttps://www.facebook.com/ilsuonodellaparola/
URL:https://backup.sistemamedcampania.it/evento/fondazione-pieta-de-turchini-il-suono-della-parola-note-e-contrappunti-2/
CATEGORIES:Fondazione Pietà dei Turchini,Il Suono della Parola VI edizione,Musica
ATTACH;FMTTYPE=image/jpeg:https://backup.sistemamedcampania.it/wp-content/uploads/2020/12/note-e-contrappunti.jpg
END:VEVENT
BEGIN:VEVENT
DTSTART;TZID=Europe/Rome:20201211T193000
DTEND;TZID=Europe/Rome:20201211T193000
DTSTAMP:20260423T154953
CREATED:20201202T161914Z
LAST-MODIFIED:20201202T162616Z
UID:6194-1607715000-1607715000@backup.sistemamedcampania.it
SUMMARY:Fondazione Pietà de’ Turchini. Il Suono della Parola - Raffaello e Mozart\, due vite allo specchio
DESCRIPTION:La seconda parte della prima serata de Il Suono della Parola\, il festival di letteratura e musica prodotto dalla Fondazione Pietà de’ Turchini \, a cura di MiNa vagante\, con il sostegno della Regione Campania sarà un viaggio attraverso l’arte\, la musica e le parole: ospite Stefano Zuffi\, insieme a  Francesca Amirante ci racconterà il suo libro “Eterni ragazzi\, Raffaello e Mozart” \n  \nL’appuntamento\, si potrà seguire online sulla nuova piattaforma live della Fondazione Pietà e’ Turchini   \nhttp://www.turchini.it/live/   \ne sulla pagina Facebook Il Suono della Parola  \nhttps://www.facebook.com/ilsuonodellaparola/
URL:https://backup.sistemamedcampania.it/evento/fondazione-pieta-de-turchini-il-suono-della-parola-note-e-contrappunti/
CATEGORIES:Fondazione Pietà dei Turchini,Il Suono della Parola VI edizione,Musica
ATTACH;FMTTYPE=image/jpeg:https://backup.sistemamedcampania.it/wp-content/uploads/2020/12/raffaello-e-mozart.jpg
END:VEVENT
BEGIN:VEVENT
DTSTART;TZID=Europe/Rome:20201211T190000
DTEND;TZID=Europe/Rome:20201211T190000
DTSTAMP:20260423T154953
CREATED:20201202T164822Z
LAST-MODIFIED:20201202T164822Z
UID:6213-1607713200-1607713200@backup.sistemamedcampania.it
SUMMARY:Fondazione Pietà de’ Turchini. Il Suono della Parola - Note e Contrappunti
DESCRIPTION:Per Note e Contrappunti de Il Suono della Parola\, il festival di letteratura e musica prodotto dalla Fondazione Pietà de’ Turchini \, a cura di MiNa vagante\, con il sostegno della Regione Campania\, Letture d’autore. Scrittori\, scrittrici e musicisti che scrivono di musica e di vita con Simonetta Agnello Hornby\, Nicola Campogrande\, Alice Cappagli\, Alberto Rollo.  \nL’appuntamento\, si potrà seguire online sulla nuova piattaforma live della Fondazione Pietà e’ Turchini   \nhttp://www.turchini.it/live/   \ne sulla pagina Facebook Il Suono della Parola  \nhttps://www.facebook.com/ilsuonodellaparola/
URL:https://backup.sistemamedcampania.it/evento/fondazione-pieta-de-turchini-il-suono-della-parola-note-e-contrappunti-4/
CATEGORIES:Fondazione Pietà dei Turchini,Il Suono della Parola VI edizione,Musica
ATTACH;FMTTYPE=image/jpeg:https://backup.sistemamedcampania.it/wp-content/uploads/2020/12/note-e-contrappunti-1-serata.jpg
END:VEVENT
BEGIN:VEVENT
DTSTART;TZID=Europe/Rome:20201211T183000
DTEND;TZID=Europe/Rome:20201211T183000
DTSTAMP:20260423T154953
CREATED:20201202T161337Z
LAST-MODIFIED:20201202T161337Z
UID:6190-1607711400-1607711400@backup.sistemamedcampania.it
SUMMARY:Fondazione Pietà de’ Turchini. Il Suono della Parola - Omaggio a Gianni Rodari
DESCRIPTION:Torna\, in versione interamente digitale\, Il Suono della Parola\, il festival di letteratura e musica prodotto dalla Fondazione Pietà de’ Turchini \, a cura di MiNa vagante\, con il sostegno della Regione Campania. \nIl Primo appuntamento sarà un omaggio a Gianni Rodari\, in parole In parole con Filastrocca Canterina\, una lettura di Cecilia\, Gabriele\, Giulia\, Livia\, Lorenzo\, Viola e in musica con  protagonista Le Voci del 48 il Coro di voci bianche diretto dal M° Salvatore Murru\, accompagnati al pianoforte da Massimo Tomei. \n  \nL’appuntamento\, si potrà seguire online sulla nuova piattaforma live della Fondazione Pietà e’ Turchini   \nhttp://www.turchini.it/live/   \ne sulla pagina Facebook Il Suono della Parola  \nhttps://www.facebook.com/ilsuonodellaparola/
URL:https://backup.sistemamedcampania.it/evento/fondazione-pieta-de-turchini-il-suono-della-parola-omaggio-a-gianni-rodari/
CATEGORIES:Fondazione Pietà dei Turchini,Il Suono della Parola VI edizione,Musica
ATTACH;FMTTYPE=image/jpeg:https://backup.sistemamedcampania.it/wp-content/uploads/2020/12/omaggio-a-rodari.jpg
END:VEVENT
END:VCALENDAR