BEGIN:VCALENDAR
VERSION:2.0
PRODID:-//Sistema Med Campania - ECPv6.7.0//NONSGML v1.0//EN
CALSCALE:GREGORIAN
METHOD:PUBLISH
X-WR-CALNAME:Sistema Med Campania
X-ORIGINAL-URL:https://backup.sistemamedcampania.it
X-WR-CALDESC:Eventi per Sistema Med Campania
REFRESH-INTERVAL;VALUE=DURATION:PT1H
X-Robots-Tag:noindex
X-PUBLISHED-TTL:PT1H
BEGIN:VTIMEZONE
TZID:Europe/Rome
BEGIN:DAYLIGHT
TZOFFSETFROM:+0100
TZOFFSETTO:+0200
TZNAME:CEST
DTSTART:20170326T010000
END:DAYLIGHT
BEGIN:STANDARD
TZOFFSETFROM:+0200
TZOFFSETTO:+0100
TZNAME:CET
DTSTART:20171029T010000
END:STANDARD
BEGIN:DAYLIGHT
TZOFFSETFROM:+0100
TZOFFSETTO:+0200
TZNAME:CEST
DTSTART:20180325T010000
END:DAYLIGHT
BEGIN:STANDARD
TZOFFSETFROM:+0200
TZOFFSETTO:+0100
TZNAME:CET
DTSTART:20181028T010000
END:STANDARD
END:VTIMEZONE
BEGIN:VEVENT
DTSTART;TZID=Europe/Rome:20180512T203000
DTEND;TZID=Europe/Rome:20180512T203000
DTSTAMP:20260419T234222
CREATED:20180430T090229Z
LAST-MODIFIED:20180430T090229Z
UID:3541-1526157000-1526157000@backup.sistemamedcampania.it
SUMMARY:Passo Continuo. Napoli al centro della Musica. Albino e Plautilla
DESCRIPTION:Passo Continuo 2017/2018  Fondazione Pietà dei Turchini \nIntermezzo buffo da Silla dittatore di Leonardo Vinci. Trascrizione delle partiture\, Maurizio Rea Consulenza scientifica di Paologiovanni Maione e Francesco Cotticelli \n  \nNaomi Rivieccio\, soprano \nFilippo Morace\, basso \nBruno Leone\, burattini \n Talenti Vulcanici \n Stefano Demicheli\, direttore \n  \ninfo:\n \nhttp://www.turchini.it/it/concerti-eventi/ \n 
URL:https://backup.sistemamedcampania.it/evento/passo-continuo-napoli-al-centro-della-musica-albino-e-plautilla/
LOCATION:Chiesa Santa Caterina da Siena\, Via Santa Caterina da Siena\, 38\, Napoli
CATEGORIES:Fondazione Pietà dei Turchini,Musica,Passo Continuo 2017-18
ATTACH;FMTTYPE=image/jpeg:https://backup.sistemamedcampania.it/wp-content/uploads/2018/04/albino-e-plautilla.jpg
END:VEVENT
BEGIN:VEVENT
DTSTART;TZID=Europe/Rome:20180413T203000
DTEND;TZID=Europe/Rome:20180413T203000
DTSTAMP:20260419T234222
CREATED:20180409T143707Z
LAST-MODIFIED:20180409T143707Z
UID:3466-1523651400-1523651400@backup.sistemamedcampania.it
SUMMARY:Passo Continuo. Napoli al centro della Musica. Amori sospirati e amori disperati in commedia
DESCRIPTION:Passo Continuo 2017/2018  Fondazione Pietà dei Turchini \nGiuseppina Bridelli\, mezzosoprano \nEnsemble Galanterie a Plettri \nAnnarita Addessi\, Andrea Benucci\, Elena Parasacco\, Pietro Marchese\, mandolini \nLuca Petrosino\, mandolone \nLeonardo Massa\, violoncello \nDavor Krkljus\, clavicembalo \nMauro Squillante\, mandolino e direzione \n  \nNei primi decenni del Settecento\, Napoli è un cantiere inesauribile di idee spettacolari che promuove\, strenuamente\, producendo forme e stili destinati a essere modelli da emulare e declinare. Tra le botteghe più laboriose vi è quella destinata alla produzione delle chellete per musica\, il lemma napoletano prescelto per i nuovi manufatti indica «una qualunque cosa» offrendo un giusto riferimento sull’entità del fenomeno delle “commeddeje”\, il cui raggio d’azione è assai esteso e poco circoscrivibile.  \nProgramma: \nGiovanni Battista Gervasio: Sinfonia per mandolini e basso – allegro spiritoso assai\, larghetto\, allegro. \nAria di Clarice n.8 (Locandiera) \nAria di Flaviuccia (Finta vedova) \nAria di Giacinta n.4 (Locandiera) \nNicola Conforto: Concerto per mandolino e orchestra – allegro\, andante\, allegretto moderata \nAria di Bettina in Fa (Finta vedova) \nAria di Clarice n.12 (Locandiera) \nAria di Frasia n.5 (Locandiera) \nAria di Bettina in Sol (Finta vedova) \ninfo:\n \nhttp://www.turchini.it/it/concerti-eventi/ \n 
URL:https://backup.sistemamedcampania.it/evento/passo-continuo-napoli-al-centro-della-musica-amori-sospirati-amori-disperati-commedia/
LOCATION:Chiesa Santa Caterina da Siena\, Via Santa Caterina da Siena\, 38\, Napoli
CATEGORIES:Fondazione Pietà dei Turchini,Musica,Passo Continuo 2017-18
ATTACH;FMTTYPE=image/jpeg:https://backup.sistemamedcampania.it/wp-content/uploads/2018/04/amori-sospirati-amori-disperati.jpg
END:VEVENT
BEGIN:VEVENT
DTSTART;TZID=Europe/Rome:20180321T203000
DTEND;TZID=Europe/Rome:20180321T203000
DTSTAMP:20260419T234222
CREATED:20180314T144229Z
LAST-MODIFIED:20180314T144229Z
UID:3365-1521664200-1521664200@backup.sistemamedcampania.it
SUMMARY:Passo Continuo. Contemporaneamente Antica. Se i languidi miei sguardi
DESCRIPTION:Passo Continuo 2017/2018  Fondazione Pietà dei Turchini \n\n\nFrancesca Biliotti soprano\nStefano Demicheli clavicembalo\n\n\nUn concerto intorno alla Lettera amorosa di Claudio Monteverdi per la Giornata Europea della Musica Antica (EDEM) \nIntoduzione a cura di Dino Villatico \ninfo: \nhttp://www.turchini.it/it/concerti-eventi/ \n  \n 
URL:https://backup.sistemamedcampania.it/evento/passo-continuo-contemporaneamente-antica-languidi-miei-sguardi/
LOCATION:Chiesa Santa Caterina da Siena\, Via Santa Caterina da Siena\, 38\, Napoli
CATEGORIES:Fondazione Pietà dei Turchini,Musica,Passo Continuo 2017-18
ATTACH;FMTTYPE=image/jpeg:https://backup.sistemamedcampania.it/wp-content/uploads/2018/03/monteverdi.jpg
END:VEVENT
BEGIN:VEVENT
DTSTART;TZID=Europe/Rome:20180220T203000
DTEND;TZID=Europe/Rome:20180220T203000
DTSTAMP:20260419T234222
CREATED:20180214T111016Z
LAST-MODIFIED:20180214T111016Z
UID:3266-1519158600-1519158600@backup.sistemamedcampania.it
SUMMARY:Passo Continuo. Riscopriamo l'ottocento. Identità Parallele: Francia e Italia
DESCRIPTION:Passo Continuo 2017/2018  Fondazione Pietà dei Turchini \n Eric Porche clarinetto \n Luca Signorini violoncello \nDario Candela  pianoforte \nTre solisti d’eccezione in un programma fortemente impegnato dove Napoli incontra Parigi in un’alternanza di capolavori della musica da camera. \nProgramma: \nM. Pilati \nSonata per violoncello e pianoforte in la \n I Moderato mosso\, II Tema con variazioni\, III Animato  \nG. Fauré \nTrio per cl. vlc e pf  \nI Allegro ma non troppo\, II Andantino\, III Allegro Vivo  \nN. Rota \nTrio per cl\, vlc\, e pf  \nI Allegro\, II Andante\, III Allegrissimo \nConcerto nell’ambito della mostra “Da De Nittis a Gemito. I napoletani a Parigi negli anni dell’Impressionismo” \ninfo: \nhttp://www.turchini.it/it/concerti-eventi/ \n 
URL:https://backup.sistemamedcampania.it/evento/passo-continuo-riscopriamo-lottocento-identita-parallele-francia-italia/
LOCATION:Palazzo Zevallos\, Via Toledo 185\, Napoli
CATEGORIES:Fondazione Pietà dei Turchini,Musica,Passo Continuo 2017-18
ATTACH;FMTTYPE=image/jpeg:https://backup.sistemamedcampania.it/wp-content/uploads/2018/02/identita-parallele.jpg
END:VEVENT
BEGIN:VEVENT
DTSTART;TZID=Europe/Rome:20180210T203000
DTEND;TZID=Europe/Rome:20180210T203000
DTSTAMP:20260419T234222
CREATED:20180207T140933Z
LAST-MODIFIED:20180207T141220Z
UID:3231-1518294600-1518294600@backup.sistemamedcampania.it
SUMMARY:Passo Continuo. Riscopriamo l'ottocento. Alèe - Retour
DESCRIPTION:Passo Continuo 2017/2018  Fondazione Pietà dei Turchini \n\n\nAllée – Retour  \nMaria Ercolano\, soprano \nAntonio Maione\, pianoforte \nIl programma  rappresenta un viaggio nel tempo e vuole evocare le atmosfere di quel periodo straordinario ed irripetibile che va sotto il nome di Belle Époque. I brani che lo compongono ben illustrano il fitto interscambio di stili e di idee che in quegli anni avvenne tra Napoli e la capitale francese. \nMusiche di Tosti\, Denza\, Satie\, Saint Saens. \nConcerto nell’ambito della mostra “Da De Nittis a Gemito. I napoletani a Parigi negli anni dell’Impressionismo” \ninfo: \nhttp://www.turchini.it/it/concerti-eventi/
URL:https://backup.sistemamedcampania.it/evento/passo-continuo-riscopriamo-lottocento-alee-retour/
LOCATION:Palazzo Zevallos\, Via Toledo 185\, Napoli
CATEGORIES:Fondazione Pietà dei Turchini,Musica,Passo Continuo 2017-18
ATTACH;FMTTYPE=image/jpeg:https://backup.sistemamedcampania.it/wp-content/uploads/2018/02/allèe-retour.jpg
END:VEVENT
BEGIN:VEVENT
DTSTART;TZID=Europe/Rome:20180206T203000
DTEND;TZID=Europe/Rome:20180206T203000
DTSTAMP:20260419T234222
CREATED:20180129T104413Z
LAST-MODIFIED:20180207T141303Z
UID:3205-1517949000-1517949000@backup.sistemamedcampania.it
SUMMARY:Passo Continuo. Riscopriamo l'ottocento. Promenade Napolitaine
DESCRIPTION:Passo Continuo 2017/2018  Fondazione Pietà dei Turchini \nGabriella Colecchia\, mezzosoprano \nDario Candela\, pianoforte \nMusiche di Françis Poulenc\, Franco Alfano\, Gabriel Fauré\, Mario Pilati. \nConcerto nell’ambito della mostra “Da De Nittis a Gemito. I napoletani a Parigi negli anni dell’Impressionismo” \ninfo: \nhttp://www.turchini.it/it/concerti-eventi/
URL:https://backup.sistemamedcampania.it/evento/passo-continuo-riscopriamo-lottocento-promenade-napolitaine/
LOCATION:Palazzo Zevallos\, Via Toledo 185\, Napoli
CATEGORIES:Fondazione Pietà dei Turchini,Musica,Passo Continuo 2017-18
ATTACH;FMTTYPE=image/jpeg:https://backup.sistemamedcampania.it/wp-content/uploads/2018/01/promenade-napolitaine.jpg
END:VEVENT
BEGIN:VEVENT
DTSTART;TZID=Europe/Rome:20180128T200000
DTEND;TZID=Europe/Rome:20180128T200000
DTSTAMP:20260419T234222
CREATED:20180112T134624Z
LAST-MODIFIED:20180112T134624Z
UID:3132-1517169600-1517169600@backup.sistemamedcampania.it
SUMMARY:Passo Continuo. Contemporaneamente Antica: Entre Italia y España - I Bassifondi Ensemble
DESCRIPTION:Nella splendida cornice del palazzo Zevallos I Bassifondi presentano Entre Italia y España. Le influenze del dominio Spagnolo nell’Italia del Seicento\, sono i colori di un quadro musicale che dialoga costantemente tra i chitarristi e i liutisti delle due penisole. Prestiti\, scambi e mode riecheggiano e si fondono in un grande fiume di note\, ritmi\, forme di danza\, sulla base di un comune fine\, tutto barocco: la Meraviglia! \n“I Bassifondi”\, ensemble fondato da Simone Vallerotonda\,  ha per obiettivo quello di riscoprire e offrire al pubblico la musica per Liuto\, Arciliuto\, Tiorba e Chitarra con il basso continuo in una versione da camera. \ninfo: \nhttp://www.turchini.it/it/concerti-eventi/ \n  \n 
URL:https://backup.sistemamedcampania.it/evento/passo-continuo-contemporaneamente-antica-entre-italia-y-espana-bassifondi-ensemble/
LOCATION:Palazzo Zevallos\, Via Toledo 185\, Napoli
CATEGORIES:Fondazione Pietà dei Turchini,Musica,Passo Continuo 2017-18
ATTACH;FMTTYPE=image/jpeg:https://backup.sistemamedcampania.it/wp-content/uploads/2018/01/bassifondi.jpg
END:VEVENT
BEGIN:VEVENT
DTSTART;TZID=Europe/Rome:20180114T190000
DTEND;TZID=Europe/Rome:20180114T190000
DTSTAMP:20260419T234222
CREATED:20171227T121508Z
LAST-MODIFIED:20180112T134638Z
UID:3102-1515956400-1515956400@backup.sistemamedcampania.it
SUMMARY:Passo Continuo. Contemporaneamente Antica: Ariel Ramirez - Missa Criolla
DESCRIPTION:Maria Ercolano\, soprano \nCappella Musicale di Sant’Antonino \nAntonio Maione\, direttore \n\nIl programma è interamente dedicato al musicista argentino Ariel Ramìrez\,  autore dei due brani  la Misa Criolla e Navidad Nuestra\, le sue opere più note e probabilmente i suoi capolavori. \nLa Misa Criolla\,  sposa la tradizione classica della Messa\, intesa come forma musicale\, con sonorità e  ritmi tipici del Sudamerica. Le cinque parti dell’ Ordinarium Missae vengono infatti associati ad altrettante forme musicali della tradizione popolare di quella terra. La strumentazione prevede\, accanto a strumenti “classici” come il pianoforte e il clavicembalo\, strumenti folclorici come il charango\, una chitarra a cinque corde dal suono caratteristico\, oltre ad una grande varietà di percussioni. \n  \nhttp://www.turchini.it/it/concerti-eventi/ \n 
URL:https://backup.sistemamedcampania.it/evento/contemporaneamente-antica-ariel-ramirez-missa-criolla/
LOCATION:Chiesa Santa Caterina da Siena\, Via Santa Caterina da Siena\, 38\, Napoli
CATEGORIES:Fondazione Pietà dei Turchini,Musica,Passo Continuo 2017-18
ATTACH;FMTTYPE=image/jpeg:https://backup.sistemamedcampania.it/wp-content/uploads/2017/12/missa-criolla.jpg
END:VEVENT
BEGIN:VEVENT
DTSTART;TZID=Europe/Rome:20171115T203000
DTEND;TZID=Europe/Rome:20171115T203000
DTSTAMP:20260419T234222
CREATED:20171114T114711Z
LAST-MODIFIED:20171114T115329Z
UID:2846-1510777800-1510777800@backup.sistemamedcampania.it
SUMMARY:Vedrai che amore – un viaggio alla riscoperta delle cantate e delle sonate di Johann Adolf Hasse
DESCRIPTION:Veronika Kralova\, soprano | Le Musiche Nove | Claudio Osele\, direttore
URL:https://backup.sistemamedcampania.it/evento/vedrai-che-amore-un-viaggio-alla-riscoperta-delle-cantate-e-delle-sonate-di-johann-adolf-hasse/
CATEGORIES:Fondazione Pietà dei Turchini,Musica,Passo Continuo 2017-18
ATTACH;FMTTYPE=image/jpeg:https://backup.sistemamedcampania.it/wp-content/uploads/2017/11/Johann_Adolph_Hasse_by_Balthasar_Denner.jpg
END:VEVENT
END:VCALENDAR