BEGIN:VCALENDAR
VERSION:2.0
PRODID:-//Sistema Med Campania - ECPv6.7.0//NONSGML v1.0//EN
CALSCALE:GREGORIAN
METHOD:PUBLISH
X-ORIGINAL-URL:https://backup.sistemamedcampania.it
X-WR-CALDESC:Eventi per Sistema Med Campania
REFRESH-INTERVAL;VALUE=DURATION:PT1H
X-Robots-Tag:noindex
X-PUBLISHED-TTL:PT1H
BEGIN:VTIMEZONE
TZID:Europe/Rome
BEGIN:DAYLIGHT
TZOFFSETFROM:+0100
TZOFFSETTO:+0200
TZNAME:CEST
DTSTART:20220327T010000
END:DAYLIGHT
BEGIN:STANDARD
TZOFFSETFROM:+0200
TZOFFSETTO:+0100
TZNAME:CET
DTSTART:20221030T010000
END:STANDARD
BEGIN:DAYLIGHT
TZOFFSETFROM:+0100
TZOFFSETTO:+0200
TZNAME:CEST
DTSTART:20230326T010000
END:DAYLIGHT
BEGIN:STANDARD
TZOFFSETFROM:+0200
TZOFFSETTO:+0100
TZNAME:CET
DTSTART:20231029T010000
END:STANDARD
END:VTIMEZONE
BEGIN:VEVENT
DTSTART;TZID=Europe/Rome:20230924T210000
DTEND;TZID=Europe/Rome:20230924T210000
DTSTAMP:20260420T004827
CREATED:20230923T221846Z
LAST-MODIFIED:20230923T221846Z
UID:8676-1695589200-1695589200@backup.sistemamedcampania.it
SUMMARY:Progetto Sonora - Armando Rizzo Trio
DESCRIPTION:Armando Rizzo Trio nasce dall’idea di Armando Rizzo di portare la fisarmonica in ambienti ancora oggi poco abituali per questo strumento e riscoprire i compositori che hanno scritto musica per fisarmonica. \nL’idea è quella di unire il vecchio al nuovo\, creare\, attraverso il repertorio fisarmonico\, nuove sonorità ed esplorare nuovi orizzonti musicali\, con una continua ricerca di consonanze e dissonanze. \nArmando Rizzo fisarmonica \nCorrado Cirillo contrabasso e basso elettrico \nLuca Mignano batteria \nPer info www.progettosonora.it – info@progettosonora.it – 331 831 3993  \n 
URL:https://backup.sistemamedcampania.it/evento/progetto-sonora-armando-rizzo-trio/
LOCATION:Sala Assoli\, Vico Lungo Teatro Nuovo 110\, Napoli
CATEGORIES:Contemporary Speech,Musica,Progetto Sonora
ATTACH;FMTTYPE=image/jpeg:https://backup.sistemamedcampania.it/wp-content/uploads/2023/09/progetto-sonora-contemporary-speech-2.jpg
END:VEVENT
BEGIN:VEVENT
DTSTART;TZID=Europe/Rome:20230923T210000
DTEND;TZID=Europe/Rome:20230923T210000
DTSTAMP:20260420T004827
CREATED:20230922T154701Z
LAST-MODIFIED:20230922T155647Z
UID:8657-1695502800-1695502800@backup.sistemamedcampania.it
SUMMARY:Progetto Sonora - Pejman Tadayon Trio - Non siamo sufi
DESCRIPTION:Artista poliedrico\, diviso tra musica e pittura\, Pejman Tadayon come compositore e musicista si presenta con un nuovo progetto in Trio in cui risuona la sua stessa condizione esistenziale\, sospesa tra due culture diverse. Nativo di Esfahan\, città d’arte iraniana\,  e arrivato in Italia ancora giovane\, si è formato infatti nella ricchezza della tradizione persiana che ha avuto poi modo di confrontare con le molteplici suggestioni raccolte lungo la sua permanenza in Occidente. \nNon siamo sufi si prospetta pertanto come l’omaggio che un artista rivolge alla sua stessa formazione\, con la trasposizione in musica di alcune poesie di quattro grandi mistici persiani come Rumi\, Omar Khayyam\, Hafez e Saadì. Le musiche sono originali\, di sua composizione\, eseguite con gli strumenti classici della tradizione persiana in modo da rievocare le sonorità più pertinenti a quei versi\, tradotti però in italiano. \nSi va così svelando una verità più grande\, affidata alle pagine forse più significative della tradizione sufi: un sentimento di estraneità\, ad ogni appartenenza rigidamente intesa\, è indispensabile per vivere in piena libertà. \nPer info info@progettosonora.it – 331 831 3993 – www.progettosonora.it
URL:https://backup.sistemamedcampania.it/evento/progetto-sonora-pejman-tadayon-trio-non-siamo-sufi/
LOCATION:Sala Assoli\, Vico Lungo Teatro Nuovo 110\, Napoli
CATEGORIES:Contemporary Speech,Musica,Progetto Sonora
ATTACH;FMTTYPE=image/jpeg:https://backup.sistemamedcampania.it/wp-content/uploads/2023/09/progetto-sonora-contemporary-speech-1.jpg
END:VEVENT
BEGIN:VEVENT
DTSTART;TZID=Europe/Rome:20230917T210000
DTEND;TZID=Europe/Rome:20230917T210000
DTSTAMP:20260420T004827
CREATED:20230917T124915Z
LAST-MODIFIED:20230917T124915Z
UID:8631-1694984400-1694984400@backup.sistemamedcampania.it
SUMMARY:Progetto Sonora - Katarína Máliková Solo
DESCRIPTION:Katarína Máliková è una cantante (classe 1990)\, pianista\, compositrice e produttrice proveniente dalla regione montuosa di Horehronie\, nella Slovacchia centrale. Ha iniziato come artista di formazione classica\, e nel suo percorso artistico si è concentrata sulle sonorità tradizionali della sua terra d’origine arrivando ad essere una musicista acclamata a livello internazionale. \nLa sua musica è difficile da descrivere\, poiché viaggia attraverso un intero ventaglio di generi\, ma la base è in qualche modo costante: una brillante esecuzione pianistica con voci di gamma alta\, che spesso camminano sull’orlo delle possibilità in ogni registro. \nPer info info@progettosonora.it – 331 831 3993 – www.progettosonora.it
URL:https://backup.sistemamedcampania.it/evento/progetto-sonora-katarina-malikova-solo/
LOCATION:Sala Assoli\, Vico Lungo Teatro Nuovo 110\, Napoli
CATEGORIES:Contemporary Speech,Musica,Progetto Sonora
ATTACH;FMTTYPE=image/jpeg:https://backup.sistemamedcampania.it/wp-content/uploads/2023/09/progetto-sonora-contemporary-speech.jpg
END:VEVENT
BEGIN:VEVENT
DTSTART;TZID=Europe/Rome:20230916T210000
DTEND;TZID=Europe/Rome:20230916T210000
DTSTAMP:20260420T004827
CREATED:20230914T210303Z
LAST-MODIFIED:20230914T210303Z
UID:8618-1694898000-1694898000@backup.sistemamedcampania.it
SUMMARY:Progetto Sonora - Gabriele Pieranunzi e Paolo Carlini duo
DESCRIPTION:Il duo Gabriele Pieranunzi e Paolo Carlini è formato da due straordinari interpreti di musica classica e contemporanea e di fama internazionale. \nNell’ambito della rassegna promossa da Progetto Sonora\, Contemporary Speech\, il duetto vuole proporre la parabola del virtuosismo da camera dall’800 fino ai nostri giorni. \nAlle sulfuree composizioni di Niccolò Paganini si accompagnano le meravigliose pagine di poetica compositiva contemporanea di Carlo Boccadoro e Azio Corghi. \nPer info 331 831 3993 – info@progettosonora.it – www.progettosonora.it
URL:https://backup.sistemamedcampania.it/evento/progetto-sonora-gabriele-pieranunzi-e-paolo-carlini-duo/
LOCATION:Sala Assoli\, Vico Lungo Teatro Nuovo 110\, Napoli
CATEGORIES:Contemporary Speech,Musica,Progetto Sonora
ATTACH;FMTTYPE=image/jpeg:https://backup.sistemamedcampania.it/wp-content/uploads/2023/09/progetto-sonora.jpg
END:VEVENT
BEGIN:VEVENT
DTSTART;TZID=Europe/Rome:20220619T210000
DTEND;TZID=Europe/Rome:20220619T210000
DTSTAMP:20260420T004827
CREATED:20220607T171057Z
LAST-MODIFIED:20220607T171107Z
UID:7487-1655672400-1655672400@backup.sistemamedcampania.it
SUMMARY:Progetto Sonora. Contemporary Speech – Majacosajusta
DESCRIPTION:Chiudono la prima edizione di Contemporary Speech\, rassegna ideata da Progetto Sonora gli Araputo Zen.  La band presenta il suo nuovo lavoro\, “Majacosajusta”\, pubblicato nel 2022 da “NoWords”\, label napoletana sorella più giovane della maggiore “Soundfly”. Il progetto ha visto snellirsi e asciugarsi il lessico musicale del 5et\, grazie a una crescente maturità compositiva e a un maggiore spazio concesso alla componente ritmica\, senza sacrificare la linea melodica\, che resta comunque sufficientemente presente. Autori dei brani sono Bruno Belardi (di due pezzi) e Dario De Luca. Una track-list che\, pur se capace di assorbire influssi e cadenze mediterranee\, del nostro Sud\, della città di Partenope\, così come echi rock\, ethno-prog\, nuance psichedeliche e jazz\, resta ben ancorata a un’omogeneità di fondo. “Majacosajusta” grinta\, freschezza\, creatività\, dinamismo e un interplay tra i performers che assicura un concerto coinvolgente e appassionante. \n  \nAraputo Zen \nDario De Luca chitarra elettrica\, mandolino\, voce \nFrancesco Fabiani chitarre \nAlfredo Pumilia violino \nVincenzo Lamagna contrabbasso \nPasquale Benincasa batteria e percussioni \n  \n  \nAcquista il tuo biglietto online https://www.azzurroservice.net \nPer info: https://www.progettosonora.it/
URL:https://backup.sistemamedcampania.it/evento/progetto-sonora-contemporary-speech/
LOCATION:Teatro dei Piccoli\, Via Marco Polo\, 200\, Napoli\, NA\, 80125\, Italia
CATEGORIES:Contemporary Speech,Musica,Progetto Sonora
ATTACH;FMTTYPE=image/jpeg:https://backup.sistemamedcampania.it/wp-content/uploads/2022/06/araputo-zen.jpg
END:VEVENT
BEGIN:VEVENT
DTSTART;TZID=Europe/Rome:20220618T210000
DTEND;TZID=Europe/Rome:20220618T210000
DTSTAMP:20260420T004827
CREATED:20220607T170712Z
LAST-MODIFIED:20220607T170712Z
UID:7485-1655586000-1655586000@backup.sistemamedcampania.it
SUMMARY:Progetto Sonora. Contemporary Speech – Canzoni
DESCRIPTION:La seconda serata del weekend di Contemporary Speech\, rassegna ideata da Progetto Sonora  vedrà protagonista Alessandro D’Alessandro (organetto preparato ed elettronica)\, considerato uno dei più talentuosi organettisti italiani per la tecnica e la versatilità con cui ha condotto uno strumento della tradizione contadina a confrontarsi con altri stili\, ritmi e armonie. Grazie anche a un uso sapiente dell’elettronica\, durante i suoi concerti\, l’artista riesce a travalicare i confini della musica etnica\, ampliando notevolmente le capacità espressive e il suono dell’organetto in un dialogo agile tra ieri e oggi\, tra forma canzone e suggestioni di world music. Le sonorità e l’organetto di Alessandro D’Alessandro sono l’ossatura fondamentale su cui si innesta un’insolita forma canzone\, in cui riecheggiano riletture di classici di De André\, Conte\, Daniele\, Battisti\, Testa\, Ciampi\, Mesolella. \n  \n  \n  \nAcquista il tuo biglietto onlinehttps://www.azzurroservice.net/ \nPer info: https://www.progettosonora.it/
URL:https://backup.sistemamedcampania.it/evento/progetto-sonora-contemporary-speech-canzoni/
LOCATION:Teatro dei Piccoli\, Via Marco Polo\, 200\, Napoli\, NA\, 80125\, Italia
CATEGORIES:Contemporary Speech,Musica,Progetto Sonora
ATTACH;FMTTYPE=image/jpeg:https://backup.sistemamedcampania.it/wp-content/uploads/2022/06/canzoni.jpg
END:VEVENT
BEGIN:VEVENT
DTSTART;TZID=Europe/Rome:20220617T210000
DTEND;TZID=Europe/Rome:20220617T210000
DTSTAMP:20260420T004827
CREATED:20220607T170420Z
LAST-MODIFIED:20220607T170420Z
UID:7480-1655499600-1655499600@backup.sistemamedcampania.it
SUMMARY:Progetto Sonora. Contemporary Speech – Elementi
DESCRIPTION:La seconda parte della 1° edizione di Contemporary Speech\, rassegna ideata da Progetto Sonora prosegue con il  Samādhi Quartet  in “Elementi”.  Progetto inedito\, Elementi  è uno spettacolo a tutto tondo in cui musica e immagini agiscono sinergicamente accompagnando il pubblico\, attraverso più canali di fruizione\, in un viaggio multisensoriale. I brani originali di Butera\, frutto di una sperimentazione fatta negli anni con sole accordature aperte per la chitarra e nuovi strumenti come la mohan veena e il kanun\, raccontano in note\, in un dialogo fluido con le immagini di Michele Lubrano Lavadera e Alessandro Papa\, le suggestioni dei verdi e lividi paesaggi dell’Irlanda\, così come della polvere di sabbia e pietra dell’India\, passando per il blu ventoso del Mediterraneo e gli incanti rossi del Mali. “Elementi” indaga il rapporto tra uomo e Natura\, traducendolo in un gioco di rimandi tra suoni e colori\, le percezioni a partire dalle quali l’essere umano costruisce e abbraccia la realtà che lo circonda. \n  \nSamādhi Quartet \nAlessandro Butera chitarra elettrica\, \,mohan veena\, kanun; \nFrancesca Del Duca voce e percussioni; \nPasquale Benincasa percussioni; \nMarco Zenini contrabbasso \n  \nAcquista il tuo biglietto online:https://www.azzurroservice.net \nPer info: https://www.progettosonora.it/
URL:https://backup.sistemamedcampania.it/evento/progetto-sonora-contemporary-speech-elementi/
LOCATION:Teatro dei Piccoli\, Via Marco Polo\, 200\, Napoli\, NA\, 80125\, Italia
CATEGORIES:Contemporary Speech,Musica,Progetto Sonora
ATTACH;FMTTYPE=image/jpeg:https://backup.sistemamedcampania.it/wp-content/uploads/2022/06/elementi.jpg
END:VEVENT
BEGIN:VEVENT
DTSTART;TZID=Europe/Rome:20220529T210000
DTEND;TZID=Europe/Rome:20220529T210000
DTSTAMP:20260420T004827
CREATED:20220516T151105Z
LAST-MODIFIED:20220516T151105Z
UID:7407-1653858000-1653858000@backup.sistemamedcampania.it
SUMMARY:Progetto Sonora. Contemporary Speech –Leuca
DESCRIPTION:Contemporary Speech la rassegna musicale a cura di Progetto Sonora\, prosegue  CON Rachele Andrioli e il suo “Leuca”\, progetto di world music. La carismatica cantante e polistrumentista salentina\, una delle voci più significative dell’attuale panorama folk italiano\, si esibirà da sola\, consapevole della sua musicalità magnetica. Grazie a una vocalità e a una timbrica uniche\, a strumenti come il marranzano\, l’ukulele\, il bendir\, il flauto armonico\, il tambourine\, e all’utilizzo di loop station ed electronic boxes\, la cantante evoca rituali ancestrali\, che rapiscono lo spettatore portandolo in un luogo altro. Il pubblico è scortato in un vero e proprio viaggio che attraversa voci\, cadenze e sonorità del Mediterraneo. “Leuca” è un tributo alla musica popolare e al Mediterraneo\, una continua ricerca nella propria terra\, sintesi di innovazione e tradizione. \n  \n  \nAcquista il tuo biglietto online: https://www.azzurroservice.net \nPer info: https://www.progettosonora.it/ \n 
URL:https://backup.sistemamedcampania.it/evento/progetto-sonora-contemporary-speech-leuca/
LOCATION:Teatro dei Piccoli\, Via Marco Polo\, 200\, Napoli\, NA\, 80125\, Italia
CATEGORIES:Contemporary Speech,Musica,Progetto Sonora
ATTACH;FMTTYPE=image/jpeg:https://backup.sistemamedcampania.it/wp-content/uploads/2022/05/leuca.jpg
END:VEVENT
BEGIN:VEVENT
DTSTART;TZID=Europe/Rome:20220528T210000
DTEND;TZID=Europe/Rome:20220528T210000
DTSTAMP:20260420T004827
CREATED:20220516T150810Z
LAST-MODIFIED:20220516T150810Z
UID:7401-1653771600-1653771600@backup.sistemamedcampania.it
SUMMARY:Progetto Sonora. Contemporary Speech – Agoraphilia
DESCRIPTION:Il secondo appuntamento con Progetto Sonora e la rassegna Contemporary Speech è con il Duo “Agorà”\, composto da Domenico Luciano ai sax ed Eugenio Catone al piano che presentano  “Agoraphilia” il nuovo progetto (uscito a maggio 2021 per la storica etichetta Stradivarius Italia Dischi\, è stato realizzato con il supporto di Légère Reeds\, BgStore\, Progetto Sonora) che i due virtuosi presentano al pubblico con l’obiettivo di esplorare nuovi repertori\, partendo dalla condivisione dello spazio sonoro urbano e dal messaggio sensoriale che i linguaggi della nuova musica apportano alla società moderna. “Agoraphilia” propone un percorso che spazia tra le musiche di Takashi Yoshimatsu\, Robert Muczynski\, Daniele Salvatore\, Astor Piazzolla\, Jacob Ter Veldhuis\, Pedro Iturralde e di Eugenio Catone… dando libero sfogo a quel virtuosismo musicale a cui tende spontaneamente la loro natura musicale. \n  \nAcquista il tuo biglietto online: https://www.azzurroservice.net/ \nPer info: https://www.progettosonora.it/
URL:https://backup.sistemamedcampania.it/evento/progetto-sonora-contemporary-speech-agoraphilia/
LOCATION:Teatro dei Piccoli\, Via Marco Polo\, 200\, Napoli\, NA\, 80125\, Italia
CATEGORIES:Contemporary Speech,Musica,Progetto Sonora
ATTACH;FMTTYPE=image/jpeg:https://backup.sistemamedcampania.it/wp-content/uploads/2022/05/duo-agora.jpg
END:VEVENT
BEGIN:VEVENT
DTSTART;TZID=Europe/Rome:20220527T210000
DTEND;TZID=Europe/Rome:20220527T210000
DTSTAMP:20260420T004827
CREATED:20220516T150303Z
LAST-MODIFIED:20220516T150333Z
UID:7398-1653685200-1653685200@backup.sistemamedcampania.it
SUMMARY:Progetto Sonora. Contemporary Speech – Hic et Nunc
DESCRIPTION:Progetto Sonora presenta la 1° edizione di Contemporary Speech\, un’ antologia  di tante piccole ‘prelibatezze uditive’ che hanno in comune una coerenza d’intenti e la qualità artistica dei vari progetti. \nIl primo appuntamento è con Ivano Leva giovane e talentuoso strumentista e compositore napoletano che presenta il suo progetto “Hic et Nunc”\, uscito per la label NovAntiqua. \nTutte le musiche sono originali e trovano la loro peculiarità in una sintesi equilibrata tra il background ricco ed eterogeneo dell’artista partenopeo e l’istintuale libertà dell’improvvisazione. Una medaglia a due facce nutre la sua ispirazione: da un lato\, una struttura compositiva solida\, vigile\, coerente con la propria formazione e la memoria del passato; dall’altro\, la tentazione forte e irresistibile di sondare scenari altri\, grazie all’estro improvvisativo di matrice jazzistica e non solo. L’insindacabile eleganza performativa\, la delicatezza del tocco e la piena padronanza strumentale garantiscono una narrazione in musica sempre misurata e senza strappi\, caratterizzata da stilemi ‘classical-modern’. \n  \nAcquista il tuo biglietto online: https://www.azzurroservice.net/ \nPer info: https://www.progettosonora.it/
URL:https://backup.sistemamedcampania.it/evento/progetto-sonora-contemporary-speech-hic-et-nunc/
LOCATION:Teatro dei Piccoli\, Via Marco Polo\, 200\, Napoli\, NA\, 80125\, Italia
CATEGORIES:Contemporary Speech,Musica,Progetto Sonora
ATTACH;FMTTYPE=image/jpeg:https://backup.sistemamedcampania.it/wp-content/uploads/2022/05/leva.jpg
END:VEVENT
END:VCALENDAR