BEGIN:VCALENDAR
VERSION:2.0
PRODID:-//Sistema Med Campania - ECPv6.7.0//NONSGML v1.0//EN
CALSCALE:GREGORIAN
METHOD:PUBLISH
X-ORIGINAL-URL:https://backup.sistemamedcampania.it
X-WR-CALDESC:Eventi per Sistema Med Campania
REFRESH-INTERVAL;VALUE=DURATION:PT1H
X-Robots-Tag:noindex
X-PUBLISHED-TTL:PT1H
BEGIN:VTIMEZONE
TZID:Europe/Rome
BEGIN:DAYLIGHT
TZOFFSETFROM:+0100
TZOFFSETTO:+0200
TZNAME:CEST
DTSTART:20190331T010000
END:DAYLIGHT
BEGIN:STANDARD
TZOFFSETFROM:+0200
TZOFFSETTO:+0100
TZNAME:CET
DTSTART:20191027T010000
END:STANDARD
END:VTIMEZONE
BEGIN:VEVENT
DTSTART;TZID=Europe/Rome:20190714T223000
DTEND;TZID=Europe/Rome:20190714T223000
DTSTAMP:20260419T211129
CREATED:20190710T104127Z
LAST-MODIFIED:20190710T104127Z
UID:4851-1563143400-1563143400@backup.sistemamedcampania.it
SUMMARY:Progetto Sonora-Dopofestival NTFI 2019. Italian Surf Academy
DESCRIPTION:A chiudere Napoli Teatro festival Italia al  DopoFestival il chitarrista onnivoro e raffinato\, Marco Cappelli che con Italian Surf Academy  propone un viaggio per suoni ed immagini nell’atmosfera vintage dei favolosi anni ’60 e ’70. Con le immagini di VJ Lapsus (aka Andrea Pennisi) e la voce di Chiara Civello come graditissima ospite. \n  \nMarco Cappelli Chitarra\nMario Mazzaro Basso\nEnrico Del Gaudio Batteria\nVj Lapsus Visuals\nChiara Civello Voce \n  \ninfo: https://www.progettosonora.it
URL:https://backup.sistemamedcampania.it/evento/progetto-sonora-dopofestival-ntfi-2019-italian-surf-academy/
LOCATION:Giardino Romantico di Palazzo Reale\, Via San Carlo\, Napoli\, Italia
CATEGORIES:Dopofestival NTFI 2019,Musica,Progetto Sonora
ATTACH;FMTTYPE=image/jpeg:https://backup.sistemamedcampania.it/wp-content/uploads/2019/07/Italian-Surf-academy.jpg
END:VEVENT
BEGIN:VEVENT
DTSTART;TZID=Europe/Rome:20190713T223000
DTEND;TZID=Europe/Rome:20190713T223000
DTSTAMP:20260419T211129
CREATED:20190710T103642Z
LAST-MODIFIED:20190710T104609Z
UID:4849-1563057000-1563057000@backup.sistemamedcampania.it
SUMMARY:Progetto Sonora-Dopofestival NTFI 2019. Bagarija Orkestar\, balkan nights
DESCRIPTION:Torna Napoli Teatro festival Italia e torna il DopoFestival e gli imperdibili appuntamenti musicali  in uno dei luoghi più suggestivi della città il Giardino Romantico di Palazzo Reale. \nUna folle banda di fiati e percussioni che nasce nel 2018 dal cuore cosmopolita di Napoli\, ispirandosi alle fanfare provenienti da Serbia Macedonia Romania e Turchia\, ricreando quel clima di magia collettiva e liberatrice propria delle feste balcaniche\, mantenendo al contempo salde le proprie radici grazie all’ innesto del materiale musicale di cui la città è immensamente ricca\, ma senza pregiudizi di sorta\, tanto attingendo dalla canzone colta e consacrata quanto al fondere il genere cosiddetto neo melodico con dei ritmi dispari tipici bulgari. \n  \nSergio Di Leo Sax\, clarinetto\nLuca Grazioli Tromba\nAntonino Anastasia Tapan\nLuca Cioffi Darbuka\nCiro Riccardi E Dario Spulzo Eufonio\nJoe Zerbib Trombone \n  \n  \ninfo: https://www.progettosonora.it
URL:https://backup.sistemamedcampania.it/evento/progetto-sonora-dopofestival-ntfi-2019-bagarija-orkestar-balkan-nights/
LOCATION:Giardino Romantico di Palazzo Reale\, Via San Carlo\, Napoli\, Italia
CATEGORIES:Dopofestival NTFI 2019,Musica,Progetto Sonora
ATTACH;FMTTYPE=image/jpeg:https://backup.sistemamedcampania.it/wp-content/uploads/2019/07/Bagarija-Orkestar.jpg
END:VEVENT
BEGIN:VEVENT
DTSTART;TZID=Europe/Rome:20190712T223000
DTEND;TZID=Europe/Rome:20190712T223000
DTSTAMP:20260419T211129
CREATED:20190703T133152Z
LAST-MODIFIED:20190703T134631Z
UID:4824-1562970600-1562970600@backup.sistemamedcampania.it
SUMMARY:Progetto Sonora-Dopofestival NTFI 2019. Uanema Swing Orchestra
DESCRIPTION:Torna Napoli Teatro festival Italia e torna il DopoFestival e gli imperdibili appuntamenti musicali  in uno dei luoghi più suggestivi della città il Giardino Romantico di Palazzo Reale. \nChiudete gli occhi e immaginate di essere in una ballroom negli anni ’30 ad Harlem\, a Chicago o a New Orleans e lasciatevi trascinare dal ritmo coinvolgente dello swing dei Uanema Swing Orchestra tra vecchie ballads\, languidi blues e balli scatenati. Uno spettacolo per tutti\, e nessuno rimarrà immobile. \n  \nFabiana Martone Voce\nMassimiliano Sacchi Clarinetto\nCiro Riccardi Tromba\nRino Saggio Sax Tenore\nMario Tammaro Trombone\nDario De Luca Chitarra\nUmberto Lepore Contrabbasso\nSalvatore Rainone Batteria \n  \n  \ninfo: https://www.progettosonora.it
URL:https://backup.sistemamedcampania.it/evento/progetto-sonora-dopofestival-ntfi-2019-swing-orchestra/
LOCATION:Giardino Romantico di Palazzo Reale\, Via San Carlo\, Napoli\, Italia
CATEGORIES:Dopofestival NTFI 2019,Musica,Progetto Sonora
ATTACH;FMTTYPE=image/jpeg:https://backup.sistemamedcampania.it/wp-content/uploads/2019/07/uanema-swing-orchestra.jpg
END:VEVENT
BEGIN:VEVENT
DTSTART;TZID=Europe/Rome:20190712T200000
DTEND;TZID=Europe/Rome:20190712T223000
DTSTAMP:20260419T211129
CREATED:20190701T110315Z
LAST-MODIFIED:20190710T084334Z
UID:4806-1562961600-1562970600@backup.sistemamedcampania.it
SUMMARY:Progetto Sonora-Dopofestival NTFI 2019. The Funkin’ Machine
DESCRIPTION:Torna Napoli Teatro festival Italia e torna il DopoFestival e gli imperdibili appuntamenti musicali  in uno dei luoghi più suggestivi della città il Giardino Romantico di Palazzo Reale. \n The Funkin’ Machine è il progetto di Paolo Petrella\, Roberto Porzio e Andrea de Fazio\, dedicato al recupero delle vere sonorità funk\, del funk anni ’60-’70\, dei Meters\, Jb’s\, Sly and the family stone\, Parliament Funkadelic\, Bootsy Collins. Una piccola all-star di musicisti da sempre appassionati del buon vecchio\, sporco funk. \n  \n  \nRiccardo Betteghella Chitarra e voce\nAndres Balbucea Tastiere e voce\nAlessio Pignorio Chitarra e voce\nRoberto Porzio Tastiere\nVincenzo Lamagna Basso\nAndrea De Fazio Batteria \n  \ninfo: https://www.progettosonora.it
URL:https://backup.sistemamedcampania.it/evento/progetto-sonora-dopofestival-ntfi-2019-the-funkin-machine/
LOCATION:Giardino Romantico di Palazzo Reale\, Via San Carlo\, Napoli\, Italia
CATEGORIES:Dopofestival NTFI 2019,Musica,Progetto Sonora
ATTACH;FMTTYPE=image/jpeg:https://backup.sistemamedcampania.it/wp-content/uploads/2019/07/funkin-machine.jpg
END:VEVENT
BEGIN:VEVENT
DTSTART;TZID=Europe/Rome:20190709T223000
DTEND;TZID=Europe/Rome:20190709T223000
DTSTAMP:20260419T211129
CREATED:20190701T110000Z
LAST-MODIFIED:20190701T110000Z
UID:4804-1562711400-1562711400@backup.sistemamedcampania.it
SUMMARY:Progetto Sonora-Dopofestival NTFI 2019. Fabiana Martone
DESCRIPTION:Torna Napoli Teatro festival Italia e torna il DopoFestival e gli imperdibili appuntamenti musicali  in uno dei luoghi più suggestivi della città il Giardino Romantico di Palazzo Reale. \nMemorandum è l’ultimo lavoro solista di Fabiana Martone\, interprete dalla voce raffinata e ricca di sfumature\, con un curriculum artistico ricco di esperienze importanti in cui spiccano collaborazioni illustri\, protagonista insieme al suo gruppo del prossimo appuntamento del Dopo Festival \n  \nFabiana Martone Voce\nLuigi Esposito Pianoforte e tastiere\nFrancesco Fabiani Chitarre\nUmberto Lepore Basso\nSalvatore Rainone Batteria \n  \ninfo: https://www.progettosonora.it
URL:https://backup.sistemamedcampania.it/evento/progetto-sonora-dopofestival-ntfi-2019-fabiana-martone/
LOCATION:Giardino Romantico di Palazzo Reale\, Via San Carlo\, Napoli\, Italia
CATEGORIES:Dopofestival NTFI 2019,Musica,Progetto Sonora
ATTACH;FMTTYPE=image/jpeg:https://backup.sistemamedcampania.it/wp-content/uploads/2019/06/fabiana-martone.jpg
END:VEVENT
BEGIN:VEVENT
DTSTART;TZID=Europe/Rome:20190706T223000
DTEND;TZID=Europe/Rome:20190706T223000
DTSTAMP:20260419T211129
CREATED:20190624T134322Z
LAST-MODIFIED:20190624T134322Z
UID:4789-1562452200-1562452200@backup.sistemamedcampania.it
SUMMARY:Progetto Sonora-Dopofestival NTFI 2019. Ficufresche
DESCRIPTION:Torna Napoli Teatro festival Italia e torna il DopoFestival e gli imperdibili appuntamenti musicali  in uno dei luoghi più suggestivi della città il Giardino Romantico di Palazzo Reale. \nIl prossimo concerto vedrà protagoniste le Ficufresche. Il Duo vocale femminile. Frutto di una ricerca lunga e rigorosa\, “Canti d’amore e di lavoro del territorio aurunco” presenta un repertorio che valorizza il canto a distesa e soprattutto le voci nelle sfumature più tradizionali del canto contadino. \n  \nImmacolata Argiento Voce e percussioni\nMaura Sciullo Voce e percussioni \n  \n  \ninfo: https://www.progettosonora.it
URL:https://backup.sistemamedcampania.it/evento/progetto-sonora-dopofestival-ntfi-2019-ficufresche/
LOCATION:Giardino Romantico di Palazzo Reale\, Via San Carlo\, Napoli\, Italia
CATEGORIES:Dopofestival NTFI 2019,Musica,Progetto Sonora
ATTACH;FMTTYPE=image/jpeg:https://backup.sistemamedcampania.it/wp-content/uploads/2019/06/ficufresche.jpg
END:VEVENT
BEGIN:VEVENT
DTSTART;TZID=Europe/Rome:20190616T223000
DTEND;TZID=Europe/Rome:20190616T223000
DTSTAMP:20260419T211129
CREATED:20190612T133312Z
LAST-MODIFIED:20190612T133312Z
UID:4730-1560724200-1560724200@backup.sistemamedcampania.it
SUMMARY:Progetto Sonora-Dopofestival NTFI 2019.Gli Araputo Zen
DESCRIPTION:Torna Napoli Teatro festival Italia e torna il DopoFestival e gli imperdibili appuntamenti musicali  in uno dei luoghi più suggestivi della città il Giardino Romantico di Palazzo Reale. \nChiudono la prima settimana di festival Gli Araputo Zen nati fra le strade di Napoli\, città ricca di stimoli e inevitabilmente fonte di grandi inspirazioni. Il quintetto\, propone un’irresistibile miscela musicale che racchiude al proprio interno diversi stili. Energia\, grinta\, creatività sono gli elementi chiave che determinano importanti sviluppi per il percorso artistico di questi giovani musicisti. Una ricerca incessante che ha portato ad una maturazione di uno stile artisticamente onnivoro. Numerose e variegate sono le influenze che possiamo rintracciare nel loro repertorio : World music\, Folk\, Rock\, senza mai dimenticare le proprie radici. quel pizzico di magia tutta partenopea che fa del loro sound un toccasana per lo spirito. Al Dopofestival presenteranno il loro ultimo album\, Maiacosajusta\, di freschissima uscita. \nDario De Luca Chitarra elettrica\, mandolino\, voce\nAlfredo Pumilia Violino\nGabriel D’ario Chitarra acustica\nPasquale Benincasa Batteria \, percussioni\, vibrafono\nBruno Belardi Contrabbasso \n  \ninfo: https://www.progettosonora.it
URL:https://backup.sistemamedcampania.it/evento/progetto-sonora-dopofestival-ntfi-2019-gli-araputo-zen/
LOCATION:Giardino Romantico di Palazzo Reale\, Via San Carlo\, Napoli\, Italia
CATEGORIES:Dopofestival NTFI 2019,Musica,Progetto Sonora
ATTACH;FMTTYPE=image/jpeg:https://backup.sistemamedcampania.it/wp-content/uploads/2019/06/gli-araputo-zen.jpg
END:VEVENT
BEGIN:VEVENT
DTSTART;TZID=Europe/Rome:20190615T223000
DTEND;TZID=Europe/Rome:20190615T223000
DTSTAMP:20260419T211129
CREATED:20190612T132811Z
LAST-MODIFIED:20190612T132811Z
UID:4727-1560637800-1560637800@backup.sistemamedcampania.it
SUMMARY:Progetto Sonora-Dopofestival NTFI 2019.La Miseria Deluxe
DESCRIPTION:Torna Napoli Teatro festival Italia e torna il DopoFestival e gli imperdibili appuntamenti musicali  in uno dei luoghi più suggestivi della città il Giardino Romantico di Palazzo Reale. \nLa Miseria Deluxe è la prossima band ospite. Da Lisbona suona un tango pirata\, rubato ai grandi saloni asettici e restituito alla contaminazione delle vecchie taverne\, dove si mescolano risa di disperazione e deliri poetici con alito di alcool\, tabacco e sudore. Prima che il tango si trasformasse nel marchio di Buenos Aires\, prima che avesse teatri\, palchi e riflettori\, era per la strada\, nei bar malfamati\, tra bicchieri e risa\, lacrime\, risse di marinai e poeti in naufragio che nasceva e dava espressione alle angustie\, alle storie\, agli amori\, alla vita. La Miseria Deluxe ci riporta questo tango. Di bicchiere in mano e fisarmonica in pugno. Di delirio poetico e schiaffo di realtà. Di amore e disamore. Di vita e morte.” (Alice Selecta). Il loro è un tango ctònio\, boemo e viscerale. Non ha il luccichio dei cristalli dei grandi saloni; ha il fulgore affilato dei vetri rotti nelle taverne dei marinai. Non ha la nobile morbidezza dei velluti del sipario di prestigiosi teatri; ha la dolce ruvidità delle stoffe purpuree dei vecchi bordelli. Non ha la fresca effervescenza dello champagne; ha l’aroma intenso di un buon vino rosso ed il calore avvolgente di una grappa fatta in casa. \nDonatello Brida Fisarmonica E Voce\nFilippo Bonini Baraldi Violino\nOmuba Tuba \n  \n  \ninfo: https://www.progettosonora.it
URL:https://backup.sistemamedcampania.it/evento/progetto-sonora-dopofestival-ntfi-2019-la-miseria-deluxe/
LOCATION:Giardino Romantico di Palazzo Reale\, Via San Carlo\, Napoli\, Italia
CATEGORIES:Dopofestival NTFI 2019,Musica,Progetto Sonora
ATTACH;FMTTYPE=image/jpeg:https://backup.sistemamedcampania.it/wp-content/uploads/2019/06/la-miseria-deluxe.jpg
END:VEVENT
BEGIN:VEVENT
DTSTART;TZID=Europe/Rome:20190614T223000
DTEND;TZID=Europe/Rome:20190614T223000
DTSTAMP:20260419T211129
CREATED:20190612T132457Z
LAST-MODIFIED:20190612T132457Z
UID:4722-1560551400-1560551400@backup.sistemamedcampania.it
SUMMARY:Progetto Sonora-Dopofestival NTFI 2019.Bradipos IV
DESCRIPTION:Torna Napoli Teatro festival Italia e torna il DopoFestival e gli imperdibili appuntamenti musicali  in uno dei luoghi più suggestivi della città il Giardino Romantico di Palazzo Reale. \nProssimo appuntamento con i Bradipos IV\,  considerati tra i principali esponenti della musica surf-rock and sixties in Italia ed in Europa.  Dopo i successi di diverse tournée negli States\, attualmente i Bradipos IV sono programmati di diverse stazioni radio statunitensi (Radio Rumpus Room\, Dead End Radio\, Dragsville\, The Wayback Machine Radio Show\, Walk don’t Run\, KFJC) e dopo il concerto al Meet Eventi sono attesi in moltissimi festival in tutta Italia ed Europa prima di partire alla volta del Messico\, dove terranno un tour durante l’estate. La dimensione live è quella ottimale per apprezzare il suono e la grinta dei Bradipos IV che nei loro show propongono pezzi originali e cover di oscure band strumentali dei primi anni sessanta\, alternate a classici surf-rock e rock ’n’ roll. \nMassimiliano Crispi Chitarra\nFrancesco Lo Presti Chitarra\nAmerigo Crispi Basso\nEnrico Ragni Batteria \n  \ninfo: https://www.progettosonora.it \n  \n 
URL:https://backup.sistemamedcampania.it/evento/progetto-sonora-dopofestival-ntfi-2019-bradipos-iv/
LOCATION:Giardino Romantico di Palazzo Reale\, Via San Carlo\, Napoli\, Italia
CATEGORIES:Dopofestival NTFI 2019,Musica,Progetto Sonora
ATTACH;FMTTYPE=image/jpeg:https://backup.sistemamedcampania.it/wp-content/uploads/2019/06/bradipos-IV.jpg
END:VEVENT
BEGIN:VEVENT
DTSTART;TZID=Europe/Rome:20190613T223000
DTEND;TZID=Europe/Rome:20190613T223000
DTSTAMP:20260419T211129
CREATED:20190605T145613Z
LAST-MODIFIED:20190605T145613Z
UID:4717-1560465000-1560465000@backup.sistemamedcampania.it
SUMMARY:Progetto Sonora-Dopofestival NTFI 2019.Brigan
DESCRIPTION:Torna Napoli Teatro festival Italia e torna il DopoFestival e gli imperdibili appuntamenti musicali  in uno dei luoghi più suggestivi della città il Giardino Romantico di Palazzo Reale. \nAppuntamento con i Brigan ospiti fissi di numerosi festival folk internazionali\, il loro ultimo album\, Rúa San Giacomo\, un lavoro in cui la sintesi tra ritmi e melodie galiziane e modi della tradizione del Sud Italia è condotta con estremi rigore e sensibilità\, è entrato nel prestigioso novero dei migliori dischi della Transglobal World Music Chart. \nFrancesco Di Cristofaro Flauti\, Cornamuse Iberiche\, Fisarmonica\, Voce\nIvan Del Vecchio Bouzouki\, Chitarre\nCarmine Scialla Basso acustico\nGabriele Tinto Batteria\, Percussioni Iberiche e del Sud Italia\, Cori \n  \ninfo: https://www.progettosonora.it
URL:https://backup.sistemamedcampania.it/evento/progetto-sonora-dopofestival-ntfi-2019-brigan/
LOCATION:Giardino Romantico di Palazzo Reale\, Via San Carlo\, Napoli\, Italia
CATEGORIES:Dopofestival NTFI 2019,Musica,Progetto Sonora
ATTACH;FMTTYPE=image/jpeg:https://backup.sistemamedcampania.it/wp-content/uploads/2019/06/brigan.jpg
END:VEVENT
BEGIN:VEVENT
DTSTART;TZID=Europe/Rome:20190612T223000
DTEND;TZID=Europe/Rome:20190612T223000
DTSTAMP:20260419T211129
CREATED:20190605T144804Z
LAST-MODIFIED:20190605T144804Z
UID:4714-1560378600-1560378600@backup.sistemamedcampania.it
SUMMARY:Progetto Sonora-Dopofestival NTFI 2019.Hafid Moussaoui
DESCRIPTION:Torna Napoli Teatro festival Italia e torna il DopoFestival e gli imperdibili appuntamenti musicali  in uno dei luoghi più suggestivi della città il Giardino Romantico di Palazzo Reale.  \nProssimo appuntamento con Hafid Moussaoui uno dei migliori virtuosi di oud\, il liuto arabo\, lo strumento più nobile dell’arte musicale\, costruito obbedendo a principi matematici e cosmologici\, di cui si ha testimonianza fin dai primi secoli dopo Cristo.  Hafid Moussaoui è nato da una famiglia di musicisti originari di Bechar\, città del deserto algerino\, ha vinto numerosi concorsi musicali e ha suonato per importanti istituzioni internazionali. Ad accompagnarlo\, il percussionista Francesco Manna\, appassionato studioso delle tradizioni mediorientali. \nHafid Moussaoui\, oud\nFrancesco Manna\, percussioni\nSilvia Rinaldi violino\nLuca Chiavinato liuto barocco\, oud\nFrancesco Ganassin\, clarinetto basso \n  \ninfo: https://www.progettosonora.it
URL:https://backup.sistemamedcampania.it/evento/progetto-sonora-dopofestival-ntfi-2019-hafid-moussaoui/
LOCATION:Giardino Romantico di Palazzo Reale\, Via San Carlo\, Napoli\, Italia
CATEGORIES:Dopofestival NTFI 2019,Musica,Progetto Sonora
ATTACH;FMTTYPE=image/jpeg:https://backup.sistemamedcampania.it/wp-content/uploads/2019/06/Hafid-Moussaoui.jpg
END:VEVENT
BEGIN:VEVENT
DTSTART;TZID=Europe/Rome:20190611T223000
DTEND;TZID=Europe/Rome:20190611T223000
DTSTAMP:20260419T211129
CREATED:20190605T143652Z
LAST-MODIFIED:20190605T143652Z
UID:4711-1560292200-1560292200@backup.sistemamedcampania.it
SUMMARY:Progetto Sonora-Dopofestival NTFI 2019. Greta & The Wheels
DESCRIPTION:Torna Napoli Teatro festival Italia e torna il DopoFestival e gli imperdibili appuntamenti musicali  in uno dei luoghi più suggestivi della città il Giardino Romantico di Palazzo Reale.  \nProssimo appuntamento con Greta & The Wheels la giovane band  propone un repertorio dalle sonorità  new-folk e si fa spazio sulla scena napoletana dal 2017 con il primo EP omonimo (da cui i due singoli “Darwin” e “Swinging in the town”\, utilizzati come soundtrack di alcuni servizi Rai\, in particolare Tg e Kilimangiaro). \nGreta Zuccoli Voce\nCaterina Bianco Violino\nLorenzo Campese Tastiere e Voci\nErnesto Nobili Chitarra\nEmiliano Attolini Chitarra Acustica ed Elettrica \n  \ninfo: https://www.progettosonora.it
URL:https://backup.sistemamedcampania.it/evento/progetto-sonora-dopofestival-ntfi-2019-greta-the-wheels/
LOCATION:Giardino Romantico di Palazzo Reale\, Via San Carlo\, Napoli\, Italia
CATEGORIES:Dopofestival NTFI 2019,Musica,Progetto Sonora
ATTACH;FMTTYPE=image/jpeg:https://backup.sistemamedcampania.it/wp-content/uploads/2019/06/Greta-The-Wheels.jpg
END:VEVENT
BEGIN:VEVENT
DTSTART;TZID=Europe/Rome:20190610T223000
DTEND;TZID=Europe/Rome:20190610T223000
DTSTAMP:20260419T211129
CREATED:20190605T123227Z
LAST-MODIFIED:20190605T123227Z
UID:4705-1560205800-1560205800@backup.sistemamedcampania.it
SUMMARY:Progetto Sonora-Dopofestival NTFI 2019. Suonno D' Ajere
DESCRIPTION:Torna Napoli Teatro festival Italia e torna il DopoFestival e gli imperdibili appuntamenti musicali  in uno dei luoghi più suggestivi della città il Giardino Romantico di Palazzo Reale.  \nTerzo appuntamento con il Suonno D’ Ajere un gruppo che pur partendo da esperienze musicali diverse\, che spaziano dal jazz alla musica leggera\, alla musica popolare e a quella classica\, esplorano il repertorio canoro napoletano dal ‘600 fino ai nostri giorni\, proponendo arrangiamenti che uniscono rigore stilistico a spunti di contaminazione. Ne scaturisce un’esecuzione contemporanea ma che tiene i piedi saldi nella tradizione. Nonostante la scelta della strumentazione richiami le formazioni da “posteggia” del primo ‘900\, l’esecuzione tende ad un approccio più ricercato\, spesso lontano da quello di strada\, con l’intento di ricreare una pertinente ed efficace osmosi tra il popolare e colto\, rappresentativa del continuo scambio tra i due mondi\, punto cardine della musica partenopea. I “Suonno D’Ajere” scelgono di proporre anche brani meno diffusi se non inesplorati. L’intenzione è quella di restituire dignità e spessore a questa tradizione\, slegandola dall’immagine di vetrina per offrirla al pubblico in una forma approfondita. \nIrene Lupe Scarpato Voce\nMarcello Smigliante Gentile Mandolino\, Mandola\, Mandoloncello\nGian Marco Libeccio Chitarra classica \n  \ninfo: https://www.progettosonora.it \n  \nfoto di copertina Giuseppe Riccardi
URL:https://backup.sistemamedcampania.it/evento/progetto-sonora-dopofestival-ntfi-2019-suonno-d-ajere/
LOCATION:Giardino Romantico di Palazzo Reale\, Via San Carlo\, Napoli\, Italia
CATEGORIES:Dopofestival NTFI 2019,Musica,Progetto Sonora
ATTACH;FMTTYPE=image/jpeg:https://backup.sistemamedcampania.it/wp-content/uploads/2019/06/suonno-dajere.jpg
END:VEVENT
BEGIN:VEVENT
DTSTART;TZID=Europe/Rome:20190609T223000
DTEND;TZID=Europe/Rome:20190609T223000
DTSTAMP:20260419T211129
CREATED:20190605T121805Z
LAST-MODIFIED:20190605T122320Z
UID:4696-1560119400-1560119400@backup.sistemamedcampania.it
SUMMARY:Progetto Sonora-Dopofestival NTFI 2019.Le Cardamomò
DESCRIPTION:Torna Napoli Teatro festival Italia e torna il DopoFestival e gli imperdibili appuntamenti musicali  in uno dei luoghi più suggestivi della città il Giardino Romantico di Palazzo Reale.  \nSecondo appuntamento con Le Cardamomò  un eclettico quartetto di musicisti: voce lirica\, violino\, organetti\, fiati e chitarra. Propongono un repertorio ricercato e retrò di chansons francesi\, pezzi onirici e un pò folli\, balli balcanici\, canzoni di altri tempi. Nascono come progetto puramente musicale\, per poi unire ben presto alla performance video-proiezioni\, teatro delle ombre e racconti. \nAntonia Harper Voce e Violino\nMarta Vitalini Organetto e Percussioni\nGioia Di Biagio Organetto e Glockenspiel\nClaudio Montalto Chitarra e fiati \n  \ninfo: https://www.progettosonora.it \n  \nfoto di copertina Tamara Casula
URL:https://backup.sistemamedcampania.it/evento/progetto-sonora-dopofestival-ntfi-2019-le-cardamomo/
LOCATION:Giardino Romantico di Palazzo Reale\, Via San Carlo\, Napoli\, Italia
CATEGORIES:Dopofestival NTFI 2019,Musica,Progetto Sonora
ATTACH;FMTTYPE=image/jpeg:https://backup.sistemamedcampania.it/wp-content/uploads/2019/06/le-cardamomò.jpg
END:VEVENT
BEGIN:VEVENT
DTSTART;TZID=Europe/Rome:20190608T223000
DTEND;TZID=Europe/Rome:20190608T223000
DTSTAMP:20260419T211129
CREATED:20190605T111638Z
LAST-MODIFIED:20190605T122122Z
UID:4672-1560033000-1560033000@backup.sistemamedcampania.it
SUMMARY:Progetto Sonora-Dopofestival NTFI 2019. Romito
DESCRIPTION:Torna Napoli Teatro festival Italia e torna il DopoFestival e gli imperdibili appuntamenti musicali  in uno dei luoghi più suggestivi della città il Giardino Romantico di Palazzo Reale\, dove ascoltare esibizioni live per la programmazione di Progetto Sonora a cura di Massimiliano Sacchi. \nPrimo appuntamento con i Romito il quintetto partenopeo che punta a far incontrare diverse aree musicali\, dall’indie-folk all’elettronica passando per il rock contemporaneo\, con la peculiarità della lingua napoletana. Emozioni\, urgenza\, espressività. Sono le parole chiave di Majorana\, il disco d’esordio\,  con la produzione artistica di Massimo De Vita (Blindur)\, la partecipazione di un autorevole sound engineer come Paolo Alberta (Negrita\, Ligabue\, Jovanotti) e la produzione esecutiva di SoundFly (distribuzione Self).  I brani di Majorana parlano napoletano\, con un respiro internazionale spesso assente nella musica italiana attuale. \nVittorio Romito Voce\nAndrea Pasqualini Chitarra\nCarlo De Luca Chitarra\nNicola Papa Piano E Synth\nWalter Marzocchella Batteria \n  \n  \ninfo: https://www.progettosonora.it
URL:https://backup.sistemamedcampania.it/evento/progetto-sonora-dopofestival-ntfi-2019-romito/
LOCATION:Giardino Romantico di Palazzo Reale\, Via San Carlo\, Napoli\, Italia
CATEGORIES:Dopofestival NTFI 2019,Musica,Progetto Sonora
ATTACH;FMTTYPE=image/jpeg:https://backup.sistemamedcampania.it/wp-content/uploads/2019/06/romito.jpg
END:VEVENT
END:VCALENDAR