BEGIN:VCALENDAR
VERSION:2.0
PRODID:-//Sistema Med Campania - ECPv6.7.0//NONSGML v1.0//EN
CALSCALE:GREGORIAN
METHOD:PUBLISH
X-ORIGINAL-URL:https://backup.sistemamedcampania.it
X-WR-CALDESC:Eventi per Sistema Med Campania
REFRESH-INTERVAL;VALUE=DURATION:PT1H
X-Robots-Tag:noindex
X-PUBLISHED-TTL:PT1H
BEGIN:VTIMEZONE
TZID:Europe/Rome
BEGIN:DAYLIGHT
TZOFFSETFROM:+0100
TZOFFSETTO:+0200
TZNAME:CEST
DTSTART:20200329T010000
END:DAYLIGHT
BEGIN:STANDARD
TZOFFSETFROM:+0200
TZOFFSETTO:+0100
TZNAME:CET
DTSTART:20201025T010000
END:STANDARD
BEGIN:DAYLIGHT
TZOFFSETFROM:+0100
TZOFFSETTO:+0200
TZNAME:CEST
DTSTART:20210328T010000
END:DAYLIGHT
BEGIN:STANDARD
TZOFFSETFROM:+0200
TZOFFSETTO:+0100
TZNAME:CET
DTSTART:20211031T010000
END:STANDARD
END:VTIMEZONE
BEGIN:VEVENT
DTSTART;TZID=Europe/Rome:20211204T193000
DTEND;TZID=Europe/Rome:20211204T193000
DTSTAMP:20260419T223015
CREATED:20211021T151645Z
LAST-MODIFIED:20211021T151645Z
UID:6767-1638646200-1638646200@backup.sistemamedcampania.it
SUMMARY:Talenti Vulcanici. Suoni da Capogiro-Appunti per una sopravvivenza
DESCRIPTION:L’ ultimo appuntamento con Suoni da Capogiro dell’ Associazione Talenti Vulcanici è con la chitarra di Duilio Meucci accompagnato dal quartetto d’ archi formato da Vincenzo Meriani\, Riccardo Zamunier\, Francesco Venga e Matteo Parisi. \n\n\nSe l’epistola fosse una composizione musicale\, Mario Casltenuovo-Tedesco sarebbe stato un Maestro anche di questa forma.\nLe sue lettere\, per circa trent’anni\, hanno steso un ponte di fondamentale importanza per lo sviluppo della chitarra\, tra il mondo musicale europeo e quello del dorato rifugio americano\, dove\, immerso nel verde delle colline di Beverly Hills\, il compositore fiorentino di discendenza ebraica\, sarebbe stato costretto ad un lunghissimo e sofferto esilio dovuto dalla promulgazione delle Leggi Razziali.\nAttraverso i suoi ‘Appunti’\, i suoi scritti\, i suoi ricordi\, e le sue memorie simboliche e musicali\, scopriremo il mondo vivacemente neoclassico di questo grande musicista legato indissolubilmente alla tradizione.\n\n\n\nDuilio Meucci\, chitarra\nVincenzo Meriani\, violino\nRiccardo Zamunier\, violino\nFrancesco Venga\, viola\nMatteo Parisi\, violoncello\n\n\nPrenotazione obbligatoria scrivendo a info@talentivulcanici.it \nInfo:  www.talentivulcanici.it | info@talentivulcanici.it\ntel. 081 7647400 – 329 3836189 \n 
URL:https://backup.sistemamedcampania.it/evento/talenti-vulcanici-suoni-da-capogiro-appunti-per-una-sopravvivenza/
LOCATION:Chiesa Santa Caterina da Siena\, Via Santa Caterina da Siena\, 38\, Napoli
CATEGORIES:Musica,Suoni da Capogiro,Talenti Vulcanici
ATTACH;FMTTYPE=image/jpeg:https://backup.sistemamedcampania.it/wp-content/uploads/2021/10/duilio-meucci.jpg
END:VEVENT
BEGIN:VEVENT
DTSTART;TZID=Europe/Rome:20211119T203000
DTEND;TZID=Europe/Rome:20211119T203000
DTSTAMP:20260419T223015
CREATED:20211021T144939Z
LAST-MODIFIED:20211021T144939Z
UID:6760-1637353800-1637353800@backup.sistemamedcampania.it
SUMMARY:Talenti Vulcanici. Suoni da Capogiro-Il violino fantastico
DESCRIPTION:Il prossimo appuntamento con Suoni da Capogiro dell’ Associazione Talenti Vulcanici è con Margherita Pupulin e \nJuan José Francione.\n\nAll’inizio del Seicento\, uno strumento fino ad allora “servo” della voce inizia a essere usato per sperimentazioni sonore autonome che lo porteranno nel giro di un secolo a diventare il re degli strumenti. Grazie ai pezzi di fantasia\, molto virtuosistici e pieni di invenzioni che oggi diremo sperimentali\,  il violino trova la propria voce\, che produce una forte meraviglia sul pubblico dell’epoca. Seguiamo la storia questo fantasiare\, dai suoi albori ai suoi frutti più maturi\, fra l’Italia e l’Oltralpe.\n\nMusiche di Marini\, Castelo\, Leonarda\, Biber\, Schmelzer\, Boddecker\n\nMargherita Pupulin violino\nJuan José Francione liuto\n\n  \nPrenotazione obbligatoria scrivendo a info@talentivulcanici.it \nInfo:  www.talentivulcanici.it | info@talentivulcanici.it\ntel. 081 7647400 – 329 3836189 \n 
URL:https://backup.sistemamedcampania.it/evento/talenti-vulcanici-suoni-da-capogiro-il-violino-fantastico/
LOCATION:Chiesa di San Rocco a Chiaia\, Riviera di Chiaia\, 254\, Napoli\, 80121\, Italia
CATEGORIES:Musica,Suoni da Capogiro,Talenti Vulcanici
ATTACH;FMTTYPE=image/jpeg:https://backup.sistemamedcampania.it/wp-content/uploads/2021/10/pupulin.jpg
END:VEVENT
BEGIN:VEVENT
DTSTART;TZID=Europe/Rome:20211105T203000
DTEND;TZID=Europe/Rome:20211105T203000
DTSTAMP:20260419T223015
CREATED:20211021T144547Z
LAST-MODIFIED:20211021T144547Z
UID:6757-1636144200-1636144200@backup.sistemamedcampania.it
SUMMARY:Talenti Vulcanici. Suoni da Capogiro-E' si bella la luce del dì
DESCRIPTION:Per Suoni da Capogiro dell’ Associazione Talenti Vulcanici “E’ si bella la luce del dì”  un percorso nella vita avventurosa e tragica di Alessandro Stradella\, il Caravaggio della musica. \nLa sua natura inquieta e insofferente verso l’istituzione si riflette nella sua musica\, così come traspare dalle sue lettere il suo carattere vivace\, allegro e particolarissimo anche agli occhi dei suoi contemporanei. La sua opera abbraccia tre secoli di sapienza musicale\, tra contrappunto rigoroso\, anticipazioni del secolo successivo e intuizioni già tardoromantiche. Le sue indimenticabili sinuosità melodiche\, la sua sensibilità nel porre il testo in musica e il suo gusto per l’accentuazione sui tempi deboli lo trasformano nel Charlie Parker del ‘600.\nLa gioventù a Roma\, i primi successi e le difficoltà che lo obbligano a lasciare la città.\nVenezia\, la sua Agnese\, l’amore e la fuga.\nTorino\, la separazione\, l’attentato\, un’altra volta in cammino.\nGenova\, un nuovo periodo di gioie e rinascita\, ancora inquietudini\, la fine. \n  \nEnsemble Mare Nostrum / Stradella Young Project\nAndrea De Carlo viola da gamba e direzione\nDanilo Pastore controtenore\nLucia Adelaide Di Nicola clavicembalo\nLaura La Vecchia tiorba e chitarra barocca \n  \nPrenotazione obbligatoria scrivendo a info@talentivulcanici.it \nInfo:  www.talentivulcanici.it | info@talentivulcanici.it\ntel. 081 7647400 – 329 3836189 \n 
URL:https://backup.sistemamedcampania.it/evento/talenti-vulcanici-suoni-da-capogiro-e-si-bella-la-luce-del-di/
LOCATION:Chiesa Santa Caterina da Siena\, Via Santa Caterina da Siena\, 38\, Napoli
CATEGORIES:Musica,Suoni da Capogiro,Talenti Vulcanici
ATTACH;FMTTYPE=image/jpeg:https://backup.sistemamedcampania.it/wp-content/uploads/2021/10/5-novembre.jpg
END:VEVENT
BEGIN:VEVENT
DTSTART;TZID=Europe/Rome:20211031T193000
DTEND;TZID=Europe/Rome:20211031T193000
DTSTAMP:20260419T223015
CREATED:20211021T151102Z
LAST-MODIFIED:20211021T151102Z
UID:6764-1635708600-1635708600@backup.sistemamedcampania.it
SUMMARY:Talenti Vulcanici. Suoni da Capogiro-Musica Intima
DESCRIPTION:Per Suoni da Capogiro dell’ Associazione Talenti Vulcanici un concerto che riunisce tre musicisti di origine diversa\, uniti dalla passione per la musica da camera\, tre concertisti internazionali  di universi diversi che si dedicano all’insegnamento e alla trasmissione della musica da numerosi anni. Anton Berovski\, Pia Varri e Dora Cantella: tre artisti che si incontrano regolarmente in Francia e in varie  città d’Italia in occasione di diverse Masterclass\, Accademie \, Workshop e Stage\,  uniti dall’amore per la musica nella loro missione di interpreti e pedagoghi. \n  \nAnton Berovski violino\nPia Varri e Dora Cantella pianoforte \nProgramma\nMozart\, Sonata in mi minore KV 304 per violino e Pianoforte\n\nBeethoven\, Sonata in fa maggiore opus 24\, La Primavera\, per violino e pianoforte \nSchubert\, Fantasia in fa minore per pianoforte a 4 mani op.103 \n  \nPrenotazione obbligatoria scrivendo a info@talentivulcanici.it \nInfo:  www.talentivulcanici.it | info@talentivulcanici.it\ntel. 081 7647400 – 329 3836189 \n 
URL:https://backup.sistemamedcampania.it/evento/talenti-vulcanici-suoni-da-capogiro-musica-intima/
LOCATION:Chiesa di San Rocco a Chiaia\, Riviera di Chiaia\, 254\, Napoli\, 80121\, Italia
CATEGORIES:Musica,Suoni da Capogiro,Talenti Vulcanici
ATTACH;FMTTYPE=image/jpeg:https://backup.sistemamedcampania.it/wp-content/uploads/2021/10/musica-intima.jpg
END:VEVENT
BEGIN:VEVENT
DTSTART;TZID=Europe/Rome:20211023T193000
DTEND;TZID=Europe/Rome:20211023T193000
DTSTAMP:20260419T223015
CREATED:20211020T135617Z
LAST-MODIFIED:20211020T135617Z
UID:6753-1635017400-1635017400@backup.sistemamedcampania.it
SUMMARY:Talenti Vulcanici. Suoni da Capogiro-Mendelssohn a Napoli
DESCRIPTION:Per Suoni da Capogiro dell’ Associazione Talenti Vulcanici Roberto Prosseda al pianoforte sarà impegnato in un programma dedicato a Felix Mendelssohn\n \nL’esecuzione dei brani sarà alternata con la lettura di alcune lettere di Mendelssohn dall’Italia\, tratte dal volume “Mendelssohn: Lettere dall’Italia”\, a cura di Raoul Meloncelli (Fogola Editore\, Torino) \n  \nProgramma: \nSei Romanze Senza Parole op. 19 n. 6\, op. 38 n. 2\, op. 38 n. 6\, op. 53 n. 2\, op. 19 n. 1\, op. 62 n. 6\nFantasia op. 15 su “The Last Rose of Summer”\nTrois Fantaisies ou Caprices op. 16\nRondò Capriccioso op. 14 \n \nAcquista il tuo biglietto su: https://www.azzurroservice.net\nPrenotazione obbligatoria scrivendo a info@talentivulcanici.it \nInfo:  www.talentivulcanici.it | info@talentivulcanici.it\ntel. 081 7647400 – 329 3836189 \n 
URL:https://backup.sistemamedcampania.it/evento/talenti-vulcanici-suoni-da-capogiro-mendelssohn-a-napoli/
LOCATION:Chiesa Santa Caterina da Siena\, Via Santa Caterina da Siena\, 38\, Napoli
CATEGORIES:Musica,Suoni da Capogiro,Talenti Vulcanici
ATTACH;FMTTYPE=image/jpeg:https://backup.sistemamedcampania.it/wp-content/uploads/2021/10/prosseda.jpg
END:VEVENT
BEGIN:VEVENT
DTSTART;TZID=Europe/Rome:20211017T183000
DTEND;TZID=Europe/Rome:20211017T183000
DTSTAMP:20260419T223015
CREATED:20211011T155200Z
LAST-MODIFIED:20211011T155200Z
UID:6718-1634495400-1634495400@backup.sistemamedcampania.it
SUMMARY:Talenti Vulcanici. Suoni da Capogiro-Jean-Philippe Rameau\, fra scienza e delirio dei sensi
DESCRIPTION:Per Suoni da Capogiro dell’ Associazione Talenti Vulcanici  “Jean-Philippe Rameau\, fra scienza e delirio dei sensi” . \nPartendo da un dettaglio di un famoso quadro di Watteau\, L’Embarquement pour Cythère (una donna si volta di tre quarti mentre il suo galante la porta verso l’imbarco: i protagonisti si stanno avviando verso l’isola dell’amore o la stanno lasciando?)\, questo recital si pone su una soglia: nel passato\, gli splendori dell’Ancien Régime al suo culmine\, la civiltà fastosa della Versailles barocca; nel futuro\, la decadenza di quei fasti e l’inquietante ma magnetico ignoto. Jean-Philippe Rameau abita questa soglia.\nNon solo: vi è in lui il conflitto profondo\, che genera un’arte sorprendente\, fra la mentalità scientifica\, cartesiana e una visione magica\, irrazionale\, che lo porta a intuizioni completamente svincolate dal suo tempo – e forse da ogni tempo. Attraverso le ultime raccolte di Pièces de Clavecin\, in cui si alternano tradizionali danze e suggestivi brani dai titoli immaginifici\, faremo un viaggio fra i visionari paradossi di colui che è considerato il padre della musica francese.\nL’interpretazione al pianoforte di Luca Ciammarughi è anche un omaggio a Camille Saint-Saëns nel centenario dalla morte: fu infatti Saint-Saëns\, a fine Ottocento\, a dirigere la prima edizione delle Opere Complete di Rameau\, suonando inoltre i lavori tastieristici dell’illustre avo sullo strumento moderno. \n\n  \nLuca Ciammarughi\, pianoforte e cembalo \n\nProgramma:\n– Gavotte et six doublesSuite in sol maggiore\n– Les Tricotets\n– L’indifférente\n– Menuet I et II\n– La Poule\n– Les Triolets\n– Les Sauvages\n– L’Enharmonique\n– L’Egyptienne\n– La Livri\n– L’Indiscrète (dalle Pièces de Clavecin en Concerts)\n– La Dauphine \nAcquista il tuo biglietto su:  https://www.azzurroservice.net\nPrenotazione obbligatoria scrivendo a info@talentivulcanici.it\n\nInfo: www.talentivulcanici.it | info@talentivulcanici.it\ntel. 081 7647400 – 329 3836189
URL:https://backup.sistemamedcampania.it/evento/talenti-vulcanici-suoni-da-capogiro-jean-philippe-rameau-fra-scienza-e-delirio-dei-sensi/
LOCATION:Chiesa Santa Caterina da Siena\, Via Santa Caterina da Siena\, 38\, Napoli
CATEGORIES:Musica,Suoni da Capogiro,Talenti Vulcanici
ATTACH;FMTTYPE=image/jpeg:https://backup.sistemamedcampania.it/wp-content/uploads/2021/10/luca-ciammarughi.jpg
END:VEVENT
BEGIN:VEVENT
DTSTART;TZID=Europe/Rome:20211015T203000
DTEND;TZID=Europe/Rome:20211015T203000
DTSTAMP:20260419T223015
CREATED:20211011T154408Z
LAST-MODIFIED:20211011T155208Z
UID:6715-1634329800-1634329800@backup.sistemamedcampania.it
SUMMARY:Talenti Vulcanici. Suoni da Capogiro-Jokes!
DESCRIPTION:Il prossimo appuntamento della stagione 2021 dell’ Associazione Talenti Vulcanici Suoni da Capogiro è con il Quintetto Bislacco. \n\n\nDa diversi anni portiamo avanti una ricerca musicale che spazia in tutti i generi\, contraddistinta da entusiasmo\, curiosità\, leggerezza\, ma non priva di accuratezza e impegno. Il nostro obiettivo è quello di far conoscere al pubblico la bella musica\, senza etichette\, e senza classifiche\, sorprendendo l’ascoltatore con piccole citazioni o arditi accostamenti celati nel fluire della partitura. Tutte le composizioni che eseguiamo sono arrangiamenti\, trascrizioni o musiche originali del Quintetto Bislacco e per ogni brano cerchiamo la caratterizzazione e l’organico strumentale più adatti per ottenere un suono unico e originale. Nei nostri concerti amiamo coinvolgere la platea presentando i brani e commentando le gag musicali\, offriamo uno spettacolo incomparabile\, con un suono naturale e ricco\, proprio degli strumenti classici\, mettendo sempre a fuoco la chiarezza stilistica\n \n\n  \nWalter Zagato violino\nDuilio Galfetti violino\, chitarra\nGustavo Fioravanti viola\nMarco Radaelli violoncello\nFederico Marchesano contrabbasso\n \n  \n  \nAcquista il tuo biglietto su:  https://www.azzurroservice.net\nPrenotazione obbligatoria scrivendo a info@talentivulcanici.it \nInfo:  www.talentivulcanici.it | info@talentivulcanici.it\ntel. 081 7647400 – 329 3836189
URL:https://backup.sistemamedcampania.it/evento/talenti-vulcanici-suoni-da-capogiro-jokes/
LOCATION:Chiesa Santa Caterina da Siena\, Via Santa Caterina da Siena\, 38\, Napoli
CATEGORIES:Musica,Suoni da Capogiro,Talenti Vulcanici
ATTACH;FMTTYPE=image/jpeg:https://backup.sistemamedcampania.it/wp-content/uploads/2021/10/quintetto-bislacco.jpg
END:VEVENT
BEGIN:VEVENT
DTSTART;TZID=Europe/Rome:20211009T193000
DTEND;TZID=Europe/Rome:20211009T193000
DTSTAMP:20260419T223015
CREATED:20211001T104558Z
LAST-MODIFIED:20211001T104558Z
UID:6685-1633807800-1633807800@backup.sistemamedcampania.it
SUMMARY:Talenti Vulcanici. Suoni da Capogiro-(S)Baroccando
DESCRIPTION:Un ponte fra i secoli dove l’impossibile diventa possibile; il prossimo appuntamento della stagione 2021 dell’ Associazione Talenti Vulcanici Suoni da Capogiro  è con Enrico Pieranunzi al pianoforte e Stefano Demicheli al clavicembalo in coproduzione con Festival Barocco Alessandro Stradella. \n  \nProgramma:\nFantasia intorno a Johann Sebastian Bach\n\nJohann Sebastian Bach\nCiaccona dalla Partita n. 2 in re minore BWV 1004\n(trascrizione per clavicembalo di Stefano Demicheli)\n\nBernardo Pasquini\nSonata in si minore per due bassi continui                                                                                                                                                                                   Sonata in re minore per due bassi continui                                                                                                                                                                              Sonata in fa maggiore per due bassi continui\n\nEnrico Pieranunzi (1949)\nThe Kingdom (where nobody dies)\nArrangiamento per pianoforte e clavicembalo – prima esecuzione assoluta\nEl juego y la vision – Fantasia barocca\nArrangiamento per pianoforte e clavicembalo – prima esecuzione assoluta  \n  \n  \n  \nPrenotazione obbligatoria scrivendo a info@talentivulcanici.it \nInfo:\nwww.talentivulcanici.it  – tel. 329 3836189
URL:https://backup.sistemamedcampania.it/evento/talenti-vulcanici-suoni-da-capogiro-sbaroccando/
LOCATION:Chiesa Santa Caterina da Siena\, Via Santa Caterina da Siena\, 38\, Napoli
CATEGORIES:Musica,Suoni da Capogiro,Talenti Vulcanici
ATTACH;FMTTYPE=image/jpeg:https://backup.sistemamedcampania.it/wp-content/uploads/2021/10/sbaroccando.jpg
END:VEVENT
BEGIN:VEVENT
DTSTART;TZID=Europe/Rome:20211001T193000
DTEND;TZID=Europe/Rome:20211001T193000
DTSTAMP:20260419T223015
CREATED:20210929T133554Z
LAST-MODIFIED:20211001T101839Z
UID:6680-1633116600-1633116600@backup.sistemamedcampania.it
SUMMARY:Talenti Vulcanici. Suoni da Capogiro- Dagli Studi a un "Bordél"
DESCRIPTION:Il primo appuntamento della stagione 2021 dell’ Associazione Talenti Vulcanici Suoni da Capogiro  è con Marco Salvio in  “Dagli Studi a un “Bordél” un programma dedicato ad Astor Piazzolla.  \nLa quintessenza della grande tradizione europea e l’irruenza del jazz incontrano il tango di questo giovane argentino\, forse consapevole della nuova lingua musicale che sta nascendo; a prima vista sembra un pidgin\, ma la forza della sua musica ne farà una lingua nuova\, un Nuevo Tango. Nuove le consonanze (sempre più “lontane”\, per dirla con Schönberg?)\, nuova la narrazione timbrica (che emancipa il flauto da pericolosi stereotipi gusto pastello) in una serata nella quale – ancora una volta – mostreremo come “colto” e “popolare”\, “esatto” e “non scritto” non siano che declinazioni della stessa parlata. \n  \n\nMarco Salvio flauto \ncon la partecipazione di Duilio Meucci alla chitarra \n\n\nProgramma:  \nAstor Piazzolla\n6 Tango Études per flauto solo\nHistoire du tango per chitarra e flauto \nAcquista il tuo biglietto: https://www.azzurroservice.net \nPrenotazione obbligatoria scrivendo a info@talentivulcanici.it \nInfo:\nwww.talentivulcanici.it  – tel. 329 3836189 \n 
URL:https://backup.sistemamedcampania.it/evento/talenti-vulcanici-suoni-da-capogiro-dagli-studi-a-un-bordel/
LOCATION:Chiesa di San Rocco a Chiaia\, Riviera di Chiaia\, 254\, Napoli\, 80121\, Italia
CATEGORIES:Musica,Suoni da Capogiro,Talenti Vulcanici
ATTACH;FMTTYPE=image/jpeg:https://backup.sistemamedcampania.it/wp-content/uploads/2021/09/salvio.jpg
END:VEVENT
BEGIN:VEVENT
DTSTART;TZID=Europe/Rome:20210321T173000
DTEND;TZID=Europe/Rome:20210321T183000
DTSTAMP:20260419T223015
CREATED:20210315T170259Z
LAST-MODIFIED:20210315T170259Z
UID:6326-1616347800-1616351400@backup.sistemamedcampania.it
SUMMARY:Fondazione Pietà dei Turchini.Early Music Day-Nicola Antonio Porpora. Ensemble Talenti Vulcanici
DESCRIPTION:In occasione della Giornata Europea della Musica Antica promossa dal REMA\, l’ Ensemble dei Talenti Vulcanici ci regalano il concerto per archi e violoncello in g maggiore di Nicola Antonio Porpora\n  \n\n\n\n\nIl concerto sarà live in streaming su http://www.turchini.it/live/ \nper info: http://www.turchini.it/
URL:https://backup.sistemamedcampania.it/evento/fondazione-pieta-dei-turchini-early-music-day-nicola-antonio-porpora-ensemble-talenti-vulcanici/
CATEGORIES:Fondazione Pietà dei Turchini,Musica,Talenti Vulcanici
ATTACH;FMTTYPE=image/jpeg:https://backup.sistemamedcampania.it/wp-content/uploads/2021/03/early-music-day.jpg
END:VEVENT
BEGIN:VEVENT
DTSTART;TZID=Europe/Rome:20201009T200000
DTEND;TZID=Europe/Rome:20201009T200000
DTSTAMP:20260419T223015
CREATED:20201005T152416Z
LAST-MODIFIED:20201005T152416Z
UID:6071-1602273600-1602273600@backup.sistemamedcampania.it
SUMMARY:Associazione Talenti Vulcanici. Babelicantes - Domenico Scarlatti e l’arte della trascrizione
DESCRIPTION:Babelicantes – suoni diversi dalla Torre di Babele\, è un progetto nato dalla comune visione e collaborazione tra Associazione Talenti Vulcanici e Caméra Musique\, da un’idea di Duilio Meucci\, con l’esigenza di mettere in comunicazione i tanti differenti verbi che abitano il logos musicale.  Un ciclo di percorsi in cui conversazioni e concerti si intersecano.\nPrimo appuntamento con la chitarra di Alberto Mesirca in “Domenico Scarlatti e l’arte della trascrizione”.  \n  \nIdeazione e consulenza artistica  Duilio Meucci \nProduzione esecutiva e organizzazione  Associazione Talenti Vulcanici\nin coproduzione con Caméra Musique \n  \nIngresso libero su prenotazione obbligatoria scrivendo a info@talentivulcanici.it \n info: www.talentivulcanici.it  \n \n 
URL:https://backup.sistemamedcampania.it/evento/associazione-talenti-vulcanici-babelicantes-domenico-scarlatti-e-larte-della-trascrizione/
LOCATION:Chiesa di San Rocco a Chiaia\, Riviera di Chiaia\, 254\, Napoli\, 80121\, Italia
CATEGORIES:Musica,Talenti Vulcanici
ATTACH;FMTTYPE=image/jpeg:https://backup.sistemamedcampania.it/wp-content/uploads/2020/10/mesirca.jpg
END:VEVENT
BEGIN:VEVENT
DTSTART;TZID=Europe/Rome:20200904T203000
DTEND;TZID=Europe/Rome:20200904T203000
DTSTAMP:20260419T223015
CREATED:20200902T170951Z
LAST-MODIFIED:20200902T170951Z
UID:5947-1599251400-1599251400@backup.sistemamedcampania.it
SUMMARY:Talenti Vulcanici-Stabat Mater
DESCRIPTION:Riparte dal Ravello Festival l’attività concertistica dei Talenti Vulcanici della Fondazione Pietà de’ Turchini  Diretti da Stefano Demicheli\, il soprano Silvia Frigato e il controtenore Carlo Vistoli\, accompagnati dall’ensemble si esibirà al Duomo di Ravello\, nell’esecuzione dello  Stabat Mater di Nicola Bonifacio Logròscino.  \ninfo: http://www.talentivulcanici.it \ningresso gratuito fino ad esaurimento posti – prenotazione obbligatoria tel. 089 858422 email boxoffice@ravellofestival.com
URL:https://backup.sistemamedcampania.it/evento/talenti-vulcanici-stabat-mater/
LOCATION:Duomo di Ravello\, Piazza Duomo\, Ravello SA\, 84010\, Italia
CATEGORIES:Fondazione Pietà dei Turchini,Musica,Talenti Vulcanici
ATTACH;FMTTYPE=image/jpeg:https://backup.sistemamedcampania.it/wp-content/uploads/2020/09/stabat-mater.jpg
END:VEVENT
END:VCALENDAR