BEGIN:VCALENDAR
VERSION:2.0
PRODID:-//Sistema Med Campania - ECPv6.7.0//NONSGML v1.0//EN
CALSCALE:GREGORIAN
METHOD:PUBLISH
X-WR-CALNAME:Sistema Med Campania
X-ORIGINAL-URL:https://backup.sistemamedcampania.it
X-WR-CALDESC:Eventi per Sistema Med Campania
REFRESH-INTERVAL;VALUE=DURATION:PT1H
X-Robots-Tag:noindex
X-PUBLISHED-TTL:PT1H
BEGIN:VTIMEZONE
TZID:Europe/Rome
BEGIN:DAYLIGHT
TZOFFSETFROM:+0100
TZOFFSETTO:+0200
TZNAME:CEST
DTSTART:20210328T010000
END:DAYLIGHT
BEGIN:STANDARD
TZOFFSETFROM:+0200
TZOFFSETTO:+0100
TZNAME:CET
DTSTART:20211031T010000
END:STANDARD
BEGIN:DAYLIGHT
TZOFFSETFROM:+0100
TZOFFSETTO:+0200
TZNAME:CEST
DTSTART:20220327T010000
END:DAYLIGHT
BEGIN:STANDARD
TZOFFSETFROM:+0200
TZOFFSETTO:+0100
TZNAME:CET
DTSTART:20221030T010000
END:STANDARD
BEGIN:DAYLIGHT
TZOFFSETFROM:+0100
TZOFFSETTO:+0200
TZNAME:CEST
DTSTART:20230326T010000
END:DAYLIGHT
BEGIN:STANDARD
TZOFFSETFROM:+0200
TZOFFSETTO:+0100
TZNAME:CET
DTSTART:20231029T010000
END:STANDARD
END:VTIMEZONE
BEGIN:VEVENT
DTSTART;TZID=Europe/Rome:20230827T210000
DTEND;TZID=Europe/Rome:20230827T210000
DTSTAMP:20260420T051841
CREATED:20230816T175502Z
LAST-MODIFIED:20230816T175502Z
UID:8547-1693170000-1693170000@backup.sistemamedcampania.it
SUMMARY:Zenit 2000 - Carmen
DESCRIPTION:L’Associazione Zenit 2000 presenta la Carmen di Georges Bizet con la regia di Giovanna Nocetti e la direzione di Massimo Testa. \nNella suggestiva cornice della Cavea Teatrale di Venticano\, l’Orchestra Internazionale della Campania accompagnerà il Coro Lirico Pugliese e il Coro di Voci Bianche Academy Fantasy. \nPer info 339 8226488 – 339 5880749 – www.massimotesta.com
URL:https://backup.sistemamedcampania.it/evento/zenit-2000-carmen/
LOCATION:Cavea Teatrale di Venticano\, Via Quercia 13\, Campanarello\, Avellino\, 83030\, Italia
CATEGORIES:Musica,Zenit 2000
ATTACH;FMTTYPE=image/jpeg:https://backup.sistemamedcampania.it/wp-content/uploads/2023/08/zenit-2000-carmen-di-g-bizet.jpg
END:VEVENT
BEGIN:VEVENT
DTSTART;TZID=Europe/Rome:20230808T190000
DTEND;TZID=Europe/Rome:20230808T190000
DTSTAMP:20260420T051841
CREATED:20230803T162536Z
LAST-MODIFIED:20230803T162657Z
UID:8506-1691521200-1691521200@backup.sistemamedcampania.it
SUMMARY:ZENIT 2000 - Concerto finale del Cours de Master 2022/23
DESCRIPTION:L’Associazione Zenit 2000\, sotto la guida di Massimo Testa\, mette su il concerto finale dei gruppi cameristici del Cours de Master 2022/23 per violoncello tenuto dal Maestro Sandro Meo. \nNel suggestivo scenario dell’ Ex Chiesa del Carmine di Avellino\, martedì 8 agosto alle ore 19\, sono in programma musiche di G. Fauré\, S. Prokofiev\, R. Schumann\, L. Van Beethoven\, M. Bruch. \nPer info 339 8226488 – 339 5880749 – www.massimotesta.com
URL:https://backup.sistemamedcampania.it/evento/zenit-2000-concerto-finale-del-cours-de-master-2022-23/
LOCATION:Ex Chiesa del Carmine\, Via Triggio\, Avellino\, Avellino\, 83100\, Italia
CATEGORIES:Musica,Zenit 2000
ATTACH;FMTTYPE=image/jpeg:https://backup.sistemamedcampania.it/wp-content/uploads/2023/08/zenit-2000-concerto-finale.jpg
END:VEVENT
BEGIN:VEVENT
DTSTART;TZID=Europe/Rome:20230611T183000
DTEND;TZID=Europe/Rome:20230611T183000
DTSTAMP:20260420T051841
CREATED:20230605T162512Z
LAST-MODIFIED:20230605T162512Z
UID:8309-1686508200-1686508200@backup.sistemamedcampania.it
SUMMARY:Zenit 2000 - Accordi concordi e discordi
DESCRIPTION:L’Associazione Zenit 2000 presenta il concerto finale degli ensemble di violoncelli dei Cours de master 2022/23\, tenuto dal Maestro Sandro Meo. In programma\, musiche di Paganini\, Elgar\, Boccherini e Fauré. \nPer info e prenotazioni  339 822 6488 – 339 588 0749 – www.massimotesta.com
URL:https://backup.sistemamedcampania.it/evento/zenit-2000-accordi-concordi-e-discordi/
LOCATION:Sala delle Arti\, Via Provinciale 89\, Manocalzati\, Avellino\, 83030\, Italia
CATEGORIES:Musica,Zenit 2000
ATTACH;FMTTYPE=image/jpeg:https://backup.sistemamedcampania.it/wp-content/uploads/2023/06/zenit-2000-cours-de-master-2223-accordi-concordi-e-discordi.jpg
END:VEVENT
BEGIN:VEVENT
DTSTART;TZID=Europe/Rome:20211127T203000
DTEND;TZID=Europe/Rome:20211127T203000
DTSTAMP:20260420T051841
CREATED:20211119T120210Z
LAST-MODIFIED:20211119T120210Z
UID:6884-1638045000-1638045000@backup.sistemamedcampania.it
SUMMARY:Zenit 2000.Contemporanea...mente 2021-Histoire du Soldat
DESCRIPTION:Nell’ambito della rassegna Contemporanea…mente 2021 l’ Associazione Zenit 2000  ripropone l’omaggio a Igor Stravinsky nel 50°dalla morte del compositore con l’ “Histoire du Soldat” . L’ ensemble Zenit 2000 diretto da Massimo testa  sarà accompagnato dalla voce recitante di Vito Cesaro. \n  \n  \nAcquista i tuoi biglietti:  www.postoriservato.it \nhttps://www.postoriservato.it/showproductlist_sc_4.html?idSpace=102 \n  \nInfo e prenotazioni al 339 8226488 e 339 5880749
URL:https://backup.sistemamedcampania.it/evento/zenit-2000-contemporanea-mente-2021-histoire-du-soldat-2/
LOCATION:Teatro d’ Europa\, Via Valle\, 18\, Cesinali AV\, 83020
CATEGORIES:Musica,Zenit 2000
ATTACH;FMTTYPE=image/jpeg:https://backup.sistemamedcampania.it/wp-content/uploads/2021/11/histoire.jpg
END:VEVENT
BEGIN:VEVENT
DTSTART;TZID=Europe/Rome:20211126T203000
DTEND;TZID=Europe/Rome:20211126T203000
DTSTAMP:20260420T051841
CREATED:20211119T115924Z
LAST-MODIFIED:20211119T115924Z
UID:6879-1637958600-1637958600@backup.sistemamedcampania.it
SUMMARY:Zenit 2000.Contemporanea...mente 2021-Histoire du Soldat
DESCRIPTION:Nell’ambito della rassegna Contemporanea…mente 2021 l’ Associazione Zenit 2000  ripropone l’omaggio a Igor Stravinsky nel 50°dalla morte del compositore con l’ “Histoire du Soldat” . L’ ensemble Zenit 2000 diretto da Massimo testa  sarà accompagnato dalla voce recitante di Vito Cesaro. \n  \n  \nAcquista i tuoi biglietti:  www.postoriservato.it \nhttps://www.postoriservato.it/showproductlist_sc_4.html?idSpace=102 \n  \nInfo e prenotazioni al 339 8226488 e 339 5880749
URL:https://backup.sistemamedcampania.it/evento/zenit-2000-contemporanea-mente-2021-histoire-du-soldat/
LOCATION:Teatro Sociale Aldo Giuffrè\, Via Guicciardini\, 35\, Battipaglia (SA)\, 84091
CATEGORIES:Musica,Zenit 2000
ATTACH;FMTTYPE=image/jpeg:https://backup.sistemamedcampania.it/wp-content/uploads/2021/11/histoire.jpg
END:VEVENT
END:VCALENDAR