BEGIN:VCALENDAR
VERSION:2.0
PRODID:-//Sistema Med Campania - ECPv6.7.0//NONSGML v1.0//EN
CALSCALE:GREGORIAN
METHOD:PUBLISH
X-ORIGINAL-URL:https://backup.sistemamedcampania.it
X-WR-CALDESC:Eventi per Sistema Med Campania
REFRESH-INTERVAL;VALUE=DURATION:PT1H
X-Robots-Tag:noindex
X-PUBLISHED-TTL:PT1H
BEGIN:VTIMEZONE
TZID:Europe/Rome
BEGIN:DAYLIGHT
TZOFFSETFROM:+0100
TZOFFSETTO:+0200
TZNAME:CEST
DTSTART:20250330T010000
END:DAYLIGHT
BEGIN:STANDARD
TZOFFSETFROM:+0200
TZOFFSETTO:+0100
TZNAME:CET
DTSTART:20251026T010000
END:STANDARD
END:VTIMEZONE
BEGIN:VEVENT
DTSTART;TZID=Europe/Rome:20250523T190000
DTEND;TZID=Europe/Rome:20250523T190000
DTSTAMP:20260420T091810
CREATED:20250505T144804Z
LAST-MODIFIED:20250505T145036Z
UID:9172-1748026800-1748026800@backup.sistemamedcampania.it
SUMMARY:ASS. GIUSEPPE MARTUCCI - Giovanni Mascia
DESCRIPTION:Nella sua 50a Stagione concertistica\, l’Associazione Giuseppe Martucci porta\, venerdì 23 maggio (ore 19) nella splendida cornice dell’Auditorium Sveva Sanseverino del Complesso Monumentale San Tommaso d’Aquino a Piedimonte Matese in provincia di Caserta\, il giovane pianista Giovanni Mascia. \nIn programma\, musiche di Haendel\, Gluck\, Bach\, Busoni e Schumann. \nPer maggiori info www.associazionemusicalegiuseppemartucci.it
URL:https://backup.sistemamedcampania.it/evento/ass-giuseppe-martucci-giovanni-mascia/
LOCATION:Complesso monumetale San Tommaso D’Aquino\, Piemonte Matese\, Caserta\, Caserta\, 81016\, Italy
CATEGORIES:Associazione Giuseppe Martucci,Musica
ATTACH;FMTTYPE=image/jpeg:https://backup.sistemamedcampania.it/wp-content/uploads/2025/05/ass-giuseppe-martucci-giovanni-mascia.jpg
END:VEVENT
BEGIN:VEVENT
DTSTART;TZID=Europe/Rome:20250611T210000
DTEND;TZID=Europe/Rome:20250611T210000
DTSTAMP:20260420T091810
CREATED:20250605T105712Z
LAST-MODIFIED:20250605T105712Z
UID:9186-1749675600-1749675600@backup.sistemamedcampania.it
SUMMARY:ORCHESTRA FILARMONICA CAMPANA - Festa a Vico
DESCRIPTION:Il concerto dell’Orchestra Filarmonica Campana chiude la kermesse “Festa a Vico”\, celebre rassegna enogastronomica ideata dallo chef Gennaro Esposito che si svolge dal 9 all’11 giugno. Ci troviamo nella splendida cornice di Vico Equense\, sul lungomare della Marina di Seiano con una splendida vista sul Golfo di Napoli. \nIl programma della serata è proprio un omaggio a Napoli e alla canzone classica napoletana\, attraverso anche nuovi arrangiamenti per soprano\, tenore e orchestra sinfonica. A dirigere torna il Maestro Giovanni Minafra\, mentre i solisti sono il soprano Giuseppina Perna e il tenore Francesco Malapena. \nPer maggiori info www.filarmonicacampana.it
URL:https://backup.sistemamedcampania.it/evento/orchestra-filarmonica-campana-festa-a-vico/
LOCATION:Marina di Seiano\, Via V. Marina Aequa\, Vico Equense\, Napoli\, 80069\, Italy
CATEGORIES:Musica,Orchestra Filarmonica Campana
ATTACH;FMTTYPE=image/jpeg:https://backup.sistemamedcampania.it/wp-content/uploads/2025/06/ofc-festa-a-vico.jpg
END:VEVENT
BEGIN:VEVENT
DTSTART;TZID=Europe/Rome:20250614T210000
DTEND;TZID=Europe/Rome:20250614T210000
DTSTAMP:20260420T091810
CREATED:20250605T145643Z
LAST-MODIFIED:20250605T145643Z
UID:9193-1749934800-1749934800@backup.sistemamedcampania.it
SUMMARY:ORCHESTRA FILARMONICA CAMPANA - Testimoni di Speranza
DESCRIPTION:Il compositore Marco Frisina ha intitolato questo concerto\, pensato per l’Anno Giubilare\, Testimoni di Speranza perché ciascuno di noi è mandato a testimoniare la freschezza del Vangelo\, ad essere testimone autentico di speranza in un mondo ormai invecchiato e stanco. \nA dirigire sarà lo stesso Frisina\, mentre insieme all’Orchestra Filarmonica Campana saranno protagonisti anche il Coro della Diocesi di Salerno e di Roma. La direzione artistica dell’evento\, invece\, è affidata a Remo Grimaldi. \nPer maggiori informazioni www.filarmonicacampana.it
URL:https://backup.sistemamedcampania.it/evento/orchestra-filarmonica-campana-testimoni-di-speranza/
LOCATION:Parrocchia S. Maria e S. Nicola\, Via di Ogliara\, Salerno\, Salerno\, 84135\, Italy
CATEGORIES:Musica,Orchestra Filarmonica Campana
ATTACH;FMTTYPE=image/jpeg:https://backup.sistemamedcampania.it/wp-content/uploads/2025/06/ofc-testimoni-di-speranza.jpg
END:VEVENT
BEGIN:VEVENT
DTSTART;TZID=Europe/Rome:20250725T200000
DTEND;TZID=Europe/Rome:20250725T200000
DTSTAMP:20260420T091810
CREATED:20250717T174510Z
LAST-MODIFIED:20250717T174510Z
UID:9200-1753473600-1753473600@backup.sistemamedcampania.it
SUMMARY:Ass. Giuseppe Martucci - Neapolis Sax Quartett
DESCRIPTION:Venerdì 25 luglio 2025 alle ore 20\, nella suggestiva cornice del Complesso Monumentale S. Tommaso d’Aquino di Piedimonte Matese\, l’Associazione Giuseppe Martucci porta un concerto dedicato al sax\, Neapolis Sax Quartett. \nLa serata vede protagonisti i sassofonisti Alessio Anastasio (Sax alto)\, Mario Dinuzzi (Sax soprano)\, Mario Savarese (Sax tenore) e Federico Siciliani (Sax baritono). \nINGRESSO LIBERO \nPer maggiori info www.associazionemusicalegiuseppemartucci.it
URL:https://backup.sistemamedcampania.it/evento/ass-giuseppe-martucci-neapolis-sax-quartett/
LOCATION:Complesso monumetale San Tommaso D’Aquino\, Piemonte Matese\, Caserta\, Caserta\, 81016\, Italy
CATEGORIES:Associazione Alessandro Scarlatti,Musica
ATTACH;FMTTYPE=image/jpeg:https://backup.sistemamedcampania.it/wp-content/uploads/2025/07/ass-giuseppe-martucci.jpg
END:VEVENT
BEGIN:VEVENT
DTSTART;TZID=Europe/Rome:20250725T210000
DTEND;TZID=Europe/Rome:20250725T210000
DTSTAMP:20260420T091810
CREATED:20250718T175233Z
LAST-MODIFIED:20250718T175233Z
UID:9204-1753477200-1753477200@backup.sistemamedcampania.it
SUMMARY:Orchestra Filarmonica Campana - Hollywood meet classic
DESCRIPTION:La musica ha un ruolo essenziale anche all’interno del cinema. Ci sono le musiche originali composte appositamente per un film\, quindi inedite\, e le musiche non originali ovvero già composte\, reperibili nel panorama musicale esistente e già edito: un film può contenere sia le une che le altre. Questo concerto indaga proprio il rapporto che esiste tra la musica classica (già esistente) e la musica da film (scritta appositamente per il grande schermo). \nOrchestra Filarmonica Campana \nViolino Giulia Rimonda \nDiretto da Giulio Marazia \nMusiche di G. Gershwin\, M. Olinto\, M. Bruch\, J. Williams \nPer maggiori info www.filarmonicacampana.it
URL:https://backup.sistemamedcampania.it/evento/orchestra-filarmonica-campana-hollywood-meet-classic/
LOCATION:Piazza Aldo Moro\, Piazza Aldo Moro\, Battipaglia\, Salerno\, 84091\, Italia
CATEGORIES:Musica,Orchestra Filarmonica Campana
ATTACH;FMTTYPE=image/jpeg:https://backup.sistemamedcampania.it/wp-content/uploads/2025/07/orchestra-filarmonica-campana-hollywood-meets-classic.jpg
END:VEVENT
BEGIN:VEVENT
DTSTART;TZID=Europe/Rome:20250803T210000
DTEND;TZID=Europe/Rome:20250803T210000
DTSTAMP:20260420T091810
CREATED:20250728T131820Z
LAST-MODIFIED:20250728T155628Z
UID:9208-1754254800-1754254800@backup.sistemamedcampania.it
SUMMARY:Orchestra Filarmonica Campana - A JAZZ SYMPHONY
DESCRIPTION:Il concerto è organizzato in collaborazione con il Festival Castelbuono Classica\, rassegna dedicata alla musica d’arte giunta alla sua undicesima edizione\, che offre un cartellone ricco e variegato\, tra note immortali e suggestioni contemporanee. \nLa musica scelta per questa serata è caratterizzta da ritmi irregolari\, sincopati\, da dissonanze\, accordi e note ribattute\, da linee melodiche appena accennate o interrotte. Un repertorio che si distingue per essere un collage\, un mosaico sonoro le cui tessere sono melodie Stomp e Ragtime\, passaggi solistici\, elementi sinfonici\, tra cui un valzer viennese. \nORCHESTRA FILARMONICA CAMPANA \nSALVATORE MICELLI sassofono \nGIULIO MARAZIA direttore \nProgramma \nDmitri Shostakovitch Selezione dalle “Jazz Suites no. 1-2” \nGeorge Antheil A Jazz Symphony \nJacques Ibert Concertino da camera per sassofono contralto e 11 strumenti \nDuke Ellington Harlem Suite \nPer maggiori info www.filarmonica campana.it
URL:https://backup.sistemamedcampania.it/evento/orchestra-filarmonica-campana-a-jazz-symphony/
LOCATION:Chiostro di S. Francesco di Castelbuono\, Piazza S. Francesco 5\, Castelbuono\, Palermo\, 90013\, Italy
CATEGORIES:Musica,Orchestra Filarmonica Campana
ATTACH;FMTTYPE=image/jpeg:https://backup.sistemamedcampania.it/wp-content/uploads/2025/07/foto-evento-3-agosto-2.jpg
END:VEVENT
BEGIN:VEVENT
DTSTART;TZID=Europe/Rome:20250809T204500
DTEND;TZID=Europe/Rome:20250809T204500
DTSTAMP:20260420T091810
CREATED:20250728T154630Z
LAST-MODIFIED:20250728T154658Z
UID:9215-1754772300-1754772300@backup.sistemamedcampania.it
SUMMARY:Orchestra Filarmonica Campana - Concerto per la pace
DESCRIPTION:Questo concerto\, organizzato dal Comune di Praiano nell’ambito del Praiano Chambre and Jazz Festival\, è un evento sull’urgenza di promuovere la pace e sostenere chi soffre per le emergenze sociali causate dai conflitti. \nAttraverso la musica di Astor Piazzolla\, Ennio Morricone\, Nicola Piovani\, Nino Rota\, ci faremo portavoce di un messaggio universale: la pace è un diritto di tutti\, e ciascuno di noi può fare la differenza. Un grido d’unione contro la violenza e l’indifferenza. La musica si fa strumento di solidarietà\, un veicolo di cambiamento sociale e sensibilizzazione. \nOrchestra Filarmonica Campana \nGiancarlo Palena bandoneon  \nStephanie Praduroux Direttrice \nMusiche di A. Piazzolla\, E. Morricone\, N. Rota\, N. Piovani \nPer maggiori info www.filarmonicacampana.it
URL:https://backup.sistemamedcampania.it/evento/orchestra-filarmonica-campana-concerto-per-la-pace/
LOCATION:Piazza S. Gennaro di Praiano\, Piazza San Gennaro\, Praiano\, Salerno\, Italy
CATEGORIES:Musica,Orchestra Filarmonica Campana
ATTACH;FMTTYPE=image/jpeg:https://backup.sistemamedcampania.it/wp-content/uploads/2025/07/ofc-concerto-per-la-pace.jpg
END:VEVENT
END:VCALENDAR