BEGIN:VCALENDAR
VERSION:2.0
PRODID:-//Sistema Med Campania - ECPv6.7.0//NONSGML v1.0//EN
CALSCALE:GREGORIAN
METHOD:PUBLISH
X-WR-CALNAME:Sistema Med Campania
X-ORIGINAL-URL:https://backup.sistemamedcampania.it
X-WR-CALDESC:Eventi per Sistema Med Campania
REFRESH-INTERVAL;VALUE=DURATION:PT1H
X-Robots-Tag:noindex
X-PUBLISHED-TTL:PT1H
BEGIN:VTIMEZONE
TZID:Europe/Rome
BEGIN:DAYLIGHT
TZOFFSETFROM:+0100
TZOFFSETTO:+0200
TZNAME:CEST
DTSTART:20240331T010000
END:DAYLIGHT
BEGIN:STANDARD
TZOFFSETFROM:+0200
TZOFFSETTO:+0100
TZNAME:CET
DTSTART:20241027T010000
END:STANDARD
END:VTIMEZONE
BEGIN:VEVENT
DTSTART;TZID=Europe/Rome:20241107T203000
DTEND;TZID=Europe/Rome:20241107T203000
DTSTAMP:20260423T062806
CREATED:20241106T180912Z
LAST-MODIFIED:20241106T180912Z
UID:9085-1731011400-1731011400@backup.sistemamedcampania.it
SUMMARY:Ass. Alessandro Scarlatti - Michael Barenboim e Natalia Pegarkova
DESCRIPTION:Nell’ambito della Stagione Concertistica 2024/25 dell’Associazione Alessandro Scarlatti\, giovedì 7 novembre (ore 20.30) il Teatro Sannazaro accoglie il concerto del violinista Michael Barenboim e della pianista Natalia Pegarkova. \nDi forte interesse ed originalità il programma che propongono addentrandosi nel repertorio francese di fine Ottocento e inizio Novecento\, con brani scelti tra le composizioni di Maurice Ravel\, Gabriel Fauré\, Lili Boulanger\, Ernest Chausson ed Henri Vieuxtemps. \nUna serata evento per la coppia\, d’arte e di vita\, che diviene occasione di ritorno a Napoli per Michael Barenboim (l’ultima volta nell’aprile del 2018 al Teatro San Carlo) e di “debutto” nel capoluogo partenopeo per Natalia Pegarkova. \nPer info e biglietti www.associazionescarlatti.it
URL:https://backup.sistemamedcampania.it/evento/ass-alessandro-scarlatti-michael-barenboim-e-natalia-pegarkova/
LOCATION:Teatro Sannazaro\, Via Chiaia\, 157\, Napoli\, 80121\, Italia
CATEGORIES:Associazione Alessandro Scarlatti.,Musica
ATTACH;FMTTYPE=image/jpeg:https://backup.sistemamedcampania.it/wp-content/uploads/2024/11/ass-alessandro-scarlatti-michael-barenboim-e-natalia-pegarkova.jpg
END:VEVENT
BEGIN:VEVENT
DTSTART;TZID=Europe/Rome:20241108T200000
DTEND;TZID=Europe/Rome:20241108T200000
DTSTAMP:20260423T062806
CREATED:20241106T205851Z
LAST-MODIFIED:20241106T205851Z
UID:9088-1731096000-1731096000@backup.sistemamedcampania.it
SUMMARY:Maggio della Musica - Cronache del dono e della maledizione
DESCRIPTION:Arriva un altro appuntamento di Galop21\, rassegna organizzata dal Maggio della Musica nella suggestiva cornice del Galoppatoio Borbonico della Reggia di Portici. \nVenerdì 8 novembre alle ore 20\, un progetto che fonde al suo interno diversi stili musicali insieme a poesia\, letteratura e ispirazioni cinematografiche. \nDalle più belle musiche per violoncello solo di Giovanni Sollima\, John Zorn\, Mark Summer\, all’elettronica di Whitenoise28; dalle liriche di Esdì\, artista ben noto sulla scena underground italiana\, fino ai riferimenti all’Inferno di Dante nella rilettura storica di Vittorio Gassman. E ancora\, pagine seducenti di Marin Marais\, Perttu Kivilaakso e David Wilde\, per poi chiudere la serata con un brano del celebre rapper americano Kanye West. \nSimone De Sena\, violoncellista \nWhitenoise 28\, elettronica \nEsdì e Lebby J\, rappers \nPer maggiori info www.maggiodellamusica.it
URL:https://backup.sistemamedcampania.it/evento/maggio-della-musica-cronache-del-dono-e-della-maledizione/
LOCATION:Reggia di Portici\, Via Università 100\, Portici (Na)
CATEGORIES:Maggio della Musica,Musica
ATTACH;FMTTYPE=image/jpeg:https://backup.sistemamedcampania.it/wp-content/uploads/2024/11/maggio-della-musica.jpg
END:VEVENT
BEGIN:VEVENT
DTSTART;TZID=Europe/Rome:20241110T190000
DTEND;TZID=Europe/Rome:20241110T190000
DTSTAMP:20260423T062806
CREATED:20241108T215620Z
LAST-MODIFIED:20241108T215620Z
UID:9095-1731265200-1731265200@backup.sistemamedcampania.it
SUMMARY:AKERUSIA DANZA - Deviazione della rondine
DESCRIPTION:Il progetto di Fabrizio Varriale vuole indagare la dimensione onirica\, la paura di cadere e il desiderio di volare. \nSi tratta di un monologo danzato che instaura un accordo tra corpo\, voce e musica\, immergendosi in una composizione di scene evocative e momenti rituali dedicati al racconto dei sogni. \nLa metafora della rondine\, nella sua migrazione verso la primavera\, diviene il sentimento di speranza che accompagna il cammino del performer verso la prima luce dell’alba. \nPer maggiori info www.akerusiadanza.it
URL:https://backup.sistemamedcampania.it/evento/akerusia-danza-deviazione-della-rondine-2/
LOCATION:Palazzo Fazio\, Via Seminario Campano\, 12\, Capua CE\, 81043
CATEGORIES:Akerusia Danza,Danza
ATTACH;FMTTYPE=image/jpeg:https://backup.sistemamedcampania.it/wp-content/uploads/2024/11/akerusia-danza.jpg
END:VEVENT
BEGIN:VEVENT
DTSTART;TZID=Europe/Rome:20241110T210000
DTEND;TZID=Europe/Rome:20241110T210000
DTSTAMP:20260423T062806
CREATED:20241108T195324Z
LAST-MODIFIED:20241108T195324Z
UID:9091-1731272400-1731272400@backup.sistemamedcampania.it
SUMMARY:BORDERLINEDANZA ETS - Sacre
DESCRIPTION:Nell’ambito della rassegna Incontri organizzata dall’Associazione Campania Danza\, domenica 10 novembre al Teatro Comunale Mario Scarpetta di Sala Consilina va in scena Sacre\, per la regia e la coreografia di Claudio Malangone. \nLa compagnia Borderlinedanza rilegge il celebre testo sonoro e coreografico del Rito della primavera\, consulta quindi la sua essenza\, ne conserva la radicalità primordiale ed investiga la traccia trasgressiva che quest’opera continua a trasmettere nella contemporaneità. \nIn un tempo sospeso tra il post-rito e l’inevitabile ciclicità dell’evento\, il gruppo si confronta con le sue differenze di specie e sperimenta varie dinamiche di aggregazione e di risoluzione\, il Rito si ripete danzando per la sopravvivenza. \nPer maggiori info www.compagniaborderlinedanza.it
URL:https://backup.sistemamedcampania.it/evento/borderlinedanza-ets-sacre/
LOCATION:Teatro Mario Scarpetta\, Via Cappuccini\, Sala Consilina\, Salerno\, 84036\, Italia
CATEGORIES:Associazione Campania Danza,Borderline Danza,Danza
ATTACH;FMTTYPE=image/jpeg:https://backup.sistemamedcampania.it/wp-content/uploads/2024/11/borderline-danza-sacre.jpg
END:VEVENT
BEGIN:VEVENT
DTSTART;TZID=Europe/Rome:20241114T110000
DTEND;TZID=Europe/Rome:20241114T110000
DTSTAMP:20260423T062806
CREATED:20241112T175622Z
LAST-MODIFIED:20241112T175622Z
UID:9099-1731582000-1731582000@backup.sistemamedcampania.it
SUMMARY:BORDERLINEDANZA ETS - Scherzetto
DESCRIPTION:Nell’ambito della rassegna Incontri\, organizzata dall’Associazione Campania Danza\, giovedì 14 novembre (ore 11) all’Auditorium Centro Sociale di Salerno va in scena Scherzetto della Compagnia Borderlinedanza. \nIl brano\, attraverso le personificazioni mitologiche della natura umana\, indaga alcuni aspetti razionali e irrazionali\, naturali e quotidiani\, oscuri e misteriosi\, legati all’esistenza. \nCosì il goliardico intreccio dei tre personaggi diventa il pretesto per mettere in scena uno spaccato psicologico e morale di alcune dinamiche sociali\, ampliando e sfumando il concetto di confine tra i generi. \nConcept\, regia e coreografia Claudio Malangone\nAutori/interpreti Alessandro Esposito\, Antonio Formisano\, Pietro Autiero\nSound design e musica dal vivo Alessandro Capasso\nLight Designer Giuseppe Ferrigno\nOrganizzazione Maria Teresa Scarpa e relazioni esterne Hanka Irma Van Dongen\nProduzione Borderlinedanza 2022\, Regione Campania\, con il sostegno del MIC \nPer maggiori info www.compagniaborderlinedanza.it – www.associazionecampaniadanza.com
URL:https://backup.sistemamedcampania.it/evento/borderlinedanza-ets-scherzetto/
LOCATION:Auditorium Centro Sociale di Salerno\, Via Guido Vestuti\, Salerno\, Italia
CATEGORIES:Borderline Danza,Danza
ATTACH;FMTTYPE=image/jpeg:https://backup.sistemamedcampania.it/wp-content/uploads/2024/11/borderline-danza-scherzetto.jpg
END:VEVENT
BEGIN:VEVENT
DTSTART;TZID=Europe/Rome:20241114T203000
DTEND;TZID=Europe/Rome:20241114T203000
DTSTAMP:20260423T062806
CREATED:20241112T185649Z
LAST-MODIFIED:20241112T185649Z
UID:9102-1731616200-1731616200@backup.sistemamedcampania.it
SUMMARY:Ass. Alessandro Scarlatti - Quartetto Adorno
DESCRIPTION:Nella Stagione concertistica 2024/2025 dell’Associazione Alessandro Scarlatti torna ospite il Quartetto Adorno. \nFondato nel 2015\, il nome del quartetto è un omaggio al filosofo Theodor Wiesengrund Adorno che\, in un’epoca di declino musicale e sociale\, individuò nella musica da camera una chiave di salvezza per perpetuare un vero rapporto umano\, secondo i valori del rispetto e dell’anelito alla perfezione. \nGiovedì 14 novembre al Teatro Sannazaro (ore 20.30)\, il Quartetto\, in una serata intitolata American Echoes\, porta un originale programma di musica statunitense con autori nati negli USA o lì arrivati perché la storia o la carriera ce li hanno spinti\, come Samuel Barber\, Mario Castelnuovo-Tedesco\, Bernard Hermann e Antonín Dvořák. \nQuartetto Adorno  \nEdoardo Zosi violino \nLiù Pellicciari violino \nBenedetta Bucci viola \nFrancesco Stefanelli violoncello \nPer info e biglietti www.associazionescarlatti.it \n 
URL:https://backup.sistemamedcampania.it/evento/ass-alessandro-scarlatti-quartetto-adorno/
LOCATION:Teatro Sannazaro\, Via Chiaia\, 157\, Napoli\, 80121\, Italia
CATEGORIES:Associazione Alessandro Scarlatti.,Musica
ATTACH;FMTTYPE=image/jpeg:https://backup.sistemamedcampania.it/wp-content/uploads/2024/11/ass-alessandro-scarlatti-american-echoes-quartetto-adorno.jpg
END:VEVENT
BEGIN:VEVENT
DTSTART;VALUE=DATE:20241116
DTEND;VALUE=DATE:20241118
DTSTAMP:20260423T062806
CREATED:20241115T140731Z
LAST-MODIFIED:20241115T140731Z
UID:9113-1731715200-1731887999@backup.sistemamedcampania.it
SUMMARY:KörpermeetsLeSupplici
DESCRIPTION:Körper prosegue nel suo intento di ospitare artisti e compagnie della scena della danza contemporanea. \nStavolta tocca a Le Supplici\, compagnia messa su da Fabrizio Favale. \nCosì lo SpazioKörper apre le sue porte\, sabato 16 e domenica 17 novembre alle ore 18\, ad alcuni degli ultimi lavori del gruppo come Winter Forrest\, The Halley Solo e Simbiosi.\n \nPer maggiori info www.korper.it \n 
URL:https://backup.sistemamedcampania.it/evento/korpermeetslesupplici/
LOCATION:Spazio  Körper\, Via Vannella Gaetani 27\, Napoli\, Napoli\, 80121\, Italia
CATEGORIES:Danza,Körper
ATTACH;FMTTYPE=image/jpeg:https://backup.sistemamedcampania.it/wp-content/uploads/2024/11/korper-lesupplici.jpg
END:VEVENT
BEGIN:VEVENT
DTSTART;TZID=Europe/Rome:20241116T200000
DTEND;TZID=Europe/Rome:20241116T200000
DTSTAMP:20260423T062806
CREATED:20241115T131436Z
LAST-MODIFIED:20241116T145046Z
UID:9109-1731787200-1731787200@backup.sistemamedcampania.it
SUMMARY:Orchestra Filarmonica Campana - Peregrinazioni
DESCRIPTION:Il concerto vuole celebrare una figura emblematica della musica classica\, Giovan Battista Viotti\, nel bicentenario della sua morte. \nNato nel 1755 a Fontanetto Po\, a pochi chilometri da Vercelli\, è stato un violinista e compositore di fama mondiale\, riconosciuto per aver esercitato un’influenza significativa sulla scuola violinistica francese e per essere stato una figura chiave nel passaggio dal classicismo al romanticismo musicale. \nIn programma\, il Concerto per violino n. 3\, la Sinfonia Veneziana di Antonio Salieri e la Serenata per archi di Ermanno Wolf-Ferrari. Violino solista Fabrizio Giordano\, sul podio il maestro Giovanni Rinaldi. \nPer maggiori info www.filarmonicacampana.it
URL:https://backup.sistemamedcampania.it/evento/orchestra-filarmonica-campana-peregrinazioni/
LOCATION:Chiesa di S. Benedetto\, Via S. Benedetto\, Salerno\, 84122\, Italy
CATEGORIES:Musica,Orchestra Filarmonica Campana
ATTACH;FMTTYPE=image/jpeg:https://backup.sistemamedcampania.it/wp-content/uploads/2024/11/orchestra-filarmonica-campana-peregrinazioni.jpg
END:VEVENT
END:VCALENDAR