BEGIN:VCALENDAR
VERSION:2.0
PRODID:-//Sistema Med Campania - ECPv6.7.0//NONSGML v1.0//EN
CALSCALE:GREGORIAN
METHOD:PUBLISH
X-WR-CALNAME:Sistema Med Campania
X-ORIGINAL-URL:https://backup.sistemamedcampania.it
X-WR-CALDESC:Eventi per Sistema Med Campania
REFRESH-INTERVAL;VALUE=DURATION:PT1H
X-Robots-Tag:noindex
X-PUBLISHED-TTL:PT1H
BEGIN:VTIMEZONE
TZID:Europe/Rome
BEGIN:DAYLIGHT
TZOFFSETFROM:+0100
TZOFFSETTO:+0200
TZNAME:CEST
DTSTART:20230326T010000
END:DAYLIGHT
BEGIN:STANDARD
TZOFFSETFROM:+0200
TZOFFSETTO:+0100
TZNAME:CET
DTSTART:20231029T010000
END:STANDARD
END:VTIMEZONE
BEGIN:VEVENT
DTSTART;VALUE=DATE:20230415
DTEND;VALUE=DATE:20230417
DTSTAMP:20260420T022037
CREATED:20230326T184736Z
LAST-MODIFIED:20230326T191350Z
UID:7949-1681516800-1681689599@backup.sistemamedcampania.it
SUMMARY:Movimento Danza - Giornata Mondiale della Danza
DESCRIPTION:Sabato 15 e domenica 16 aprile\, in occasione dei vent’anni della Giornata Mondiale della Danza\,  a Movimento Danza si svolgeranno due giorni di laboratori di composizione coreografica gratuiti con i guest teacher Alessandro Sciarroni\, Gabriella Stazio\, Adriano Bolognino e Cristina Krystal Rizzo. I laboratori sono rivolti a studenti di danza\, danzatori professionisti e persone che non danzano ma sono interessate a lavorare sul proprio corpo e sulla propria creatività. Il gruppo dei partecipanti sarà formato tramite una selezione. \nINFO:  081.578.0542 – info@movimentodanza.org – www.movimentodanza.org \n 
URL:https://backup.sistemamedcampania.it/evento/movimento-danza-giornata-mondiale-della-danza/
LOCATION:Movimento Danza\, Via Bonito 21/b - Villa Sant' Elmo\, Napoli\, Italia
CATEGORIES:Danza,Movimento Danza
ATTACH;FMTTYPE=image/png:https://backup.sistemamedcampania.it/wp-content/uploads/2023/03/movimento-danza-3.png
END:VEVENT
END:VCALENDAR