BEGIN:VCALENDAR
VERSION:2.0
PRODID:-//Sistema Med Campania - ECPv6.7.0//NONSGML v1.0//EN
CALSCALE:GREGORIAN
METHOD:PUBLISH
X-ORIGINAL-URL:https://backup.sistemamedcampania.it
X-WR-CALDESC:Eventi per Sistema Med Campania
REFRESH-INTERVAL;VALUE=DURATION:PT1H
X-Robots-Tag:noindex
X-PUBLISHED-TTL:PT1H
BEGIN:VTIMEZONE
TZID:Europe/Rome
BEGIN:DAYLIGHT
TZOFFSETFROM:+0100
TZOFFSETTO:+0200
TZNAME:CEST
DTSTART:20230326T010000
END:DAYLIGHT
BEGIN:STANDARD
TZOFFSETFROM:+0200
TZOFFSETTO:+0100
TZNAME:CET
DTSTART:20231029T010000
END:STANDARD
END:VTIMEZONE
BEGIN:VEVENT
DTSTART;TZID=Europe/Rome:20230326T113000
DTEND;TZID=Europe/Rome:20230326T113000
DTSTAMP:20260420T065201
CREATED:20230319T213756Z
LAST-MODIFIED:20230319T214004Z
UID:7898-1679830200-1679830200@backup.sistemamedcampania.it
SUMMARY:Associazione Musicale Igor Stravisky - Jea d'eau et d'amour
DESCRIPTION:Domenica 26 marzo alle ore 11:30 una matinée musicale con aperitivo insieme a due dei più rappresentativi musicisti della loro generazione\, a livello nazionale e internazionale. Giuseppe Nova al flauto e Alessandra Targa all’arpa\, nel concerto dal titolo Jeau d’eau et d’amour\, propongono brani tratti dalla Norma di Bellini\, dalla Carmen di Bizet\, oltre a classici di Donizetti\, Mozart e Tulou. \nGIUSEPPE NOVA\, flauto \nALESSANDRA TARGA\, arpa \nPROGRAMMA \nArcangelo Corelli\, Sonata la Follia n. 6 op. V; Wolfgang Amadeus Mozart\, Andante in do maggiore K 315; Vincenzo Bellini\, Casta Diva (Norma); Gaetano Donizetti\, Sonata (Larghetto\, Allegro Gallemberg); Marcel Grandjany\, The Colorado trail op. 28 per arpa sola; J. Naderman – J. Tulou\, Nocturne\, Tyrolienne de Guillaume Tell\, Rondoletto; Jaques François Ibert\, Entr’acte; Georges Bizet\, Entr’Acte e Variazioni sull’ Habanera (Carmen). \nInfo: 340 571 9845; www.associazionestravinsky.it
URL:https://backup.sistemamedcampania.it/evento/associazione-musicale-igor-stravisky-jea-deau-et-damour/
LOCATION:Sala delle Arti\, Via Provinciale 89\, Manocalzati\, Avellino\, 83030\, Italia
CATEGORIES:Associazione Musicale Igor Stravinsky,Musica
ATTACH;FMTTYPE=image/png:https://backup.sistemamedcampania.it/wp-content/uploads/2023/03/associazione-igor-stravinsky-jea-deau-et-damour.png
END:VEVENT
END:VCALENDAR