BEGIN:VCALENDAR
VERSION:2.0
PRODID:-//Sistema Med Campania - ECPv6.7.0//NONSGML v1.0//EN
CALSCALE:GREGORIAN
METHOD:PUBLISH
X-WR-CALNAME:Sistema Med Campania
X-ORIGINAL-URL:https://backup.sistemamedcampania.it
X-WR-CALDESC:Eventi per Sistema Med Campania
REFRESH-INTERVAL;VALUE=DURATION:PT1H
X-Robots-Tag:noindex
X-PUBLISHED-TTL:PT1H
BEGIN:VTIMEZONE
TZID:Europe/Rome
BEGIN:DAYLIGHT
TZOFFSETFROM:+0100
TZOFFSETTO:+0200
TZNAME:CEST
DTSTART:20230326T010000
END:DAYLIGHT
BEGIN:STANDARD
TZOFFSETFROM:+0200
TZOFFSETTO:+0100
TZNAME:CET
DTSTART:20231029T010000
END:STANDARD
END:VTIMEZONE
BEGIN:VEVENT
DTSTART;TZID=Europe/Rome:20230808T200000
DTEND;TZID=Europe/Rome:20230808T200000
DTSTAMP:20260420T040452
CREATED:20230803T174736Z
LAST-MODIFIED:20230803T174736Z
UID:8512-1691524800-1691524800@backup.sistemamedcampania.it
SUMMARY:Fondazione F.M. Napolitano - Pas de Deux
DESCRIPTION:La rassegna estiva Anacaprifamusica\, organizzata dalla Fondazione Franco Michele Napolitano\, procede con un altro appuntamento alla Mediateca Mario Cacace di Anacapri\, martedì 8 agosto alle ore 20. \nStavolta tocca a uno speciale Pas de Deux tra una viola e un pianoforte: da un lato Dimitri Mattu e dall’altro Angela Oliviero. \nPer info fondazionenapolitano@gmail.com – www.fondazionenapolitano.com
URL:https://backup.sistemamedcampania.it/evento/fondazione-f-m-napolitano-pas-de-deux/
LOCATION:Mediateca Mario Cacace\, Via Giuseppe Orlandi\, Anacapri\, Napoli\, 80071\, Italia
CATEGORIES:Fondazione Franco Michele Napolitano,Musica
ATTACH;FMTTYPE=image/jpeg:https://backup.sistemamedcampania.it/wp-content/uploads/2023/08/fondazione-fm-napolitano-anacaprifamusica1-1.jpg
END:VEVENT
END:VCALENDAR