BEGIN:VCALENDAR
VERSION:2.0
PRODID:-//Sistema Med Campania - ECPv6.7.0//NONSGML v1.0//EN
CALSCALE:GREGORIAN
METHOD:PUBLISH
X-ORIGINAL-URL:https://backup.sistemamedcampania.it
X-WR-CALDESC:Eventi per Sistema Med Campania
REFRESH-INTERVAL;VALUE=DURATION:PT1H
X-Robots-Tag:noindex
X-PUBLISHED-TTL:PT1H
BEGIN:VTIMEZONE
TZID:Europe/Rome
BEGIN:DAYLIGHT
TZOFFSETFROM:+0100
TZOFFSETTO:+0200
TZNAME:CEST
DTSTART:20230326T010000
END:DAYLIGHT
BEGIN:STANDARD
TZOFFSETFROM:+0200
TZOFFSETTO:+0100
TZNAME:CET
DTSTART:20231029T010000
END:STANDARD
END:VTIMEZONE
BEGIN:VEVENT
DTSTART;TZID=Europe/Rome:20230527T180000
DTEND;TZID=Europe/Rome:20230527T180000
DTSTAMP:20260420T050215
CREATED:20230519T162759Z
LAST-MODIFIED:20230519T163423Z
UID:8121-1685210400-1685210400@backup.sistemamedcampania.it
SUMMARY:KÖRPER - KÖRPER meets ANGHIARI DANCE HUB
DESCRIPTION:Continua il format promosso dallo Spazio Körper che vuole dare visibilità ad artisti e compagnie di danza contemporanea. Stavolta tocca ad Anghiari Dance Hub.   \nDiretta da Gerarda Ventura\, è una cooperativa nata nel 2015 per volontà di operatori\, artisti e direttori artistici che lavorano nella danza\, nel teatro contemporaneo e attivi sul territorio nazionale. Una delle missioni di Anghiari Dance Hub è quella di porsi come cerniera\, passaggio tra la formazione e la produzione della danza contemporanea\, accompagnando i giovani coreografi. \nInfo e biglietti: info@korper.it – www.korper.it – https://oooh.events – Selezionare il tipo di biglietto: KORPERmeetsANGHIARI | Serata Intera \n  \n 
URL:https://backup.sistemamedcampania.it/evento/korper-korper-meets-anghiari-dance-hub/
LOCATION:Spazio  Körper\, Via Vannella Gaetani 27\, Napoli\, Napoli\, 80121\, Italia
CATEGORIES:Danza,Körper
ATTACH;FMTTYPE=image/png:https://backup.sistemamedcampania.it/wp-content/uploads/2023/05/korper-korper-meets-anghiari-dance-hub.png
END:VEVENT
END:VCALENDAR