BEGIN:VCALENDAR
VERSION:2.0
PRODID:-//Sistema Med Campania - ECPv6.7.0//NONSGML v1.0//EN
CALSCALE:GREGORIAN
METHOD:PUBLISH
X-ORIGINAL-URL:https://backup.sistemamedcampania.it
X-WR-CALDESC:Eventi per Sistema Med Campania
REFRESH-INTERVAL;VALUE=DURATION:PT1H
X-Robots-Tag:noindex
X-PUBLISHED-TTL:PT1H
BEGIN:VTIMEZONE
TZID:Europe/Rome
BEGIN:DAYLIGHT
TZOFFSETFROM:+0100
TZOFFSETTO:+0200
TZNAME:CEST
DTSTART:20230326T010000
END:DAYLIGHT
BEGIN:STANDARD
TZOFFSETFROM:+0200
TZOFFSETTO:+0100
TZNAME:CET
DTSTART:20231029T010000
END:STANDARD
END:VTIMEZONE
BEGIN:VEVENT
DTSTART;TZID=Europe/Rome:20230401T210000
DTEND;TZID=Europe/Rome:20230401T210000
DTSTAMP:20260420T084027
CREATED:20230331T191633Z
LAST-MODIFIED:20230331T194517Z
UID:7981-1680382800-1680382800@backup.sistemamedcampania.it
SUMMARY:La Bazzarra - Transiti Sonori\, Arianna Art Ensemble
DESCRIPTION:Ad inaugurare Transiti Sonori\, rassegna ideata e diretta da Gigi Di Luca e prodotta da La Bazzarra\, sarà il live set di Arianna Art Ensemble\, protagonista di un viaggio sonoro verso le Terre di Ulisse alla riscoperta delle antiche musiche del Mediterraneo. Il progetto nasce dalla collaborazione tra l’ensemble fondato dal compositore Paolo Rigano e dalla clavicembalista Cinzia Guarino con il polistrumentista Mario Crispi\, esperto di musica etnica e fondatore degli Agricantus. A completare la formazione ci sarà la voce di Debora Troia\, il violino di Federico Brigantino\, le percussioni di Giuseppe Valguarnera e il polistrumentista Silvio Natoli\, al colascione\, bouzouki e oud. Il gruppo vuole proporre un concerto che conduce lo spettatore in un percorso musicale che unisce brani e strumenti antichi europei a strumenti tradizionali dell’area mediterranea. \nINFO: 3287232399 – info@labazzarra.com \nIngresso 10 euro \n  \n 
URL:https://backup.sistemamedcampania.it/evento/la-bazzarra-transiti-sonori-arianna-art-ensemble/
LOCATION:Chiesa di Santa Maria Donnalbina\, Via Donnalbina\, Napoli\, Napoli\, 80100\, Italia
CATEGORIES:La Bazzarra,Musica,Transiti Sonori
ATTACH;FMTTYPE=image/png:https://backup.sistemamedcampania.it/wp-content/uploads/2023/03/la-bazzarra-transiti-sonori-arianna-art-ensemble.png
END:VEVENT
END:VCALENDAR