BEGIN:VCALENDAR
VERSION:2.0
PRODID:-//Sistema Med Campania - ECPv6.7.0//NONSGML v1.0//EN
CALSCALE:GREGORIAN
METHOD:PUBLISH
X-ORIGINAL-URL:https://backup.sistemamedcampania.it
X-WR-CALDESC:Eventi per Sistema Med Campania
REFRESH-INTERVAL;VALUE=DURATION:PT1H
X-Robots-Tag:noindex
X-PUBLISHED-TTL:PT1H
BEGIN:VTIMEZONE
TZID:Europe/Rome
BEGIN:DAYLIGHT
TZOFFSETFROM:+0100
TZOFFSETTO:+0200
TZNAME:CEST
DTSTART:20230326T010000
END:DAYLIGHT
BEGIN:STANDARD
TZOFFSETFROM:+0200
TZOFFSETTO:+0100
TZNAME:CET
DTSTART:20231029T010000
END:STANDARD
END:VTIMEZONE
BEGIN:VEVENT
DTSTART;TZID=Europe/Rome:20230617T120000
DTEND;TZID=Europe/Rome:20230617T120000
DTSTAMP:20260420T071509
CREATED:20230612T133614Z
LAST-MODIFIED:20230612T133721Z
UID:8338-1687003200-1687003200@backup.sistemamedcampania.it
SUMMARY:Progetto Sonora - Armonie en plein air
DESCRIPTION:Nella splendida cornice della Reggia di Caserta\, Progetto Sonora presenta Armonie en plein air. Un concerto itinerante del Sonora Wind 5tet attraverso gli spazi del Parco Reale e le Vie d’acqua \, per godere di musiche di raro ascolto secondo modalità che vogliono ricalcare le atmosfere della Corte Borbonica. \nLa scelta del repertorio è stata fatta in funzione della documentata operatività degli autori a corte alla fine del ‘700\, per la presenza nelle raccolte musicali delle biblioteche personali di Ferdinando di Borbone e Carolina\, e ancora facendo riferimento a testimonianze del periodo murattiano nel cosiddetto decennio francese. \nIl concerto è incluso nel costo ordinario del biglietto della Reggia di Caserta. \nSonora Wind Quintet \nFlauto Antonio Troncone\n \nOboe Piedavide Falco \nClarinetto Sabrina Vito \nCorno Angelo Falzarano\n \nFagotto Alfonso Valletta \nPer info info@progettosonora.it – 331 831 3993 – www.progettosonora.it
URL:https://backup.sistemamedcampania.it/evento/progetto-sonora-armonie-en-plein-air/
LOCATION:Reggia di Caserta\, Piazza Carlo di Borbone\, Caserta CE\, 81100\, Italia
CATEGORIES:Musica,Progetto Sonora
ATTACH;FMTTYPE=image/jpeg:https://backup.sistemamedcampania.it/wp-content/uploads/2023/06/progetto-sonora-armonie-en-plein-air-sonora-wind-5tet.jpg
END:VEVENT
END:VCALENDAR