BEGIN:VCALENDAR
VERSION:2.0
PRODID:-//Sistema Med Campania - ECPv6.7.0//NONSGML v1.0//EN
CALSCALE:GREGORIAN
METHOD:PUBLISH
X-WR-CALNAME:Sistema Med Campania
X-ORIGINAL-URL:https://backup.sistemamedcampania.it
X-WR-CALDESC:Eventi per Sistema Med Campania
REFRESH-INTERVAL;VALUE=DURATION:PT1H
X-Robots-Tag:noindex
X-PUBLISHED-TTL:PT1H
BEGIN:VTIMEZONE
TZID:Europe/Rome
BEGIN:DAYLIGHT
TZOFFSETFROM:+0100
TZOFFSETTO:+0200
TZNAME:CEST
DTSTART:20230326T010000
END:DAYLIGHT
BEGIN:STANDARD
TZOFFSETFROM:+0200
TZOFFSETTO:+0100
TZNAME:CET
DTSTART:20231029T010000
END:STANDARD
END:VTIMEZONE
BEGIN:VEVENT
DTSTART;TZID=Europe/Rome:20231010T203000
DTEND;TZID=Europe/Rome:20231010T203000
DTSTAMP:20260420T082752
CREATED:20231009T192803Z
LAST-MODIFIED:20231009T192803Z
UID:8709-1696969800-1696969800@backup.sistemamedcampania.it
SUMMARY:Nuova Orchestra Scarlatti - Armonie flegree
DESCRIPTION:Armonie flegree\, una rassegna promossa dalla Nuova Orchestra Scarlatti\, in programma dal 3 al 31 ottobre. \nIl progetto rilancia la formula già sperimentata con successo lo scorso anno con appuntamenti di grande musica e spettacolo in territorio flegreo a ingresso gratuito. \nAll’Auditorium Porta del Parco di Bagnoli\, martedì 10 ottobre alle ore 20:30\, Il Maestro di Cappella: il divertente capolavoro di Cimarosa sarà al centro di un brillante programma dedicato alla civiltà musicale napoletana e non solo. \nPer info info@nuovaorchestrascarlatti.it – 081 253 5984 – www.nuovaorchestrascarlatti.it
URL:https://backup.sistemamedcampania.it/evento/nuova-orchestra-scarlatti-armonie-flegree/
LOCATION:Auditorium Porta del Parco\, Via Diocleziano 341\, Napoli\, Napoli\, 80124\, Italia
CATEGORIES:Musica,Nuova Orchestra Scarlatti
ATTACH;FMTTYPE=image/jpeg:https://backup.sistemamedcampania.it/wp-content/uploads/2023/10/nuova-orchestra-scarlatti-2.jpg
END:VEVENT
END:VCALENDAR