BEGIN:VCALENDAR
VERSION:2.0
PRODID:-//Sistema Med Campania - ECPv6.7.0//NONSGML v1.0//EN
CALSCALE:GREGORIAN
METHOD:PUBLISH
X-ORIGINAL-URL:https://backup.sistemamedcampania.it
X-WR-CALDESC:Eventi per Sistema Med Campania
REFRESH-INTERVAL;VALUE=DURATION:PT1H
X-Robots-Tag:noindex
X-PUBLISHED-TTL:PT1H
BEGIN:VTIMEZONE
TZID:Europe/Rome
BEGIN:DAYLIGHT
TZOFFSETFROM:+0100
TZOFFSETTO:+0200
TZNAME:CEST
DTSTART:20230326T010000
END:DAYLIGHT
BEGIN:STANDARD
TZOFFSETFROM:+0200
TZOFFSETTO:+0100
TZNAME:CET
DTSTART:20231029T010000
END:STANDARD
END:VTIMEZONE
BEGIN:VEVENT
DTSTART;TZID=Europe/Rome:20230905T210000
DTEND;TZID=Europe/Rome:20230905T210000
DTSTAMP:20260420T070718
CREATED:20230902T183936Z
LAST-MODIFIED:20230902T183936Z
UID:8584-1693947600-1693947600@backup.sistemamedcampania.it
SUMMARY:Campania Danza - ResExtensa in Nest
DESCRIPTION:Nell’ambito di Incontri\, rassegna di danza contemporanea organizzata dall’Associazione Campania Danza per la direzione artistica di Antonella Iannone\, arriva a Salerno la compagnia ResExtensa con lo spettacolo Nest\, coreografie di Elisa Barucchieri. \nPer info www.associazionecampaniadanza.com – campaniadanza@tiscali.it – 351 239 8684 \nBiglietti acquistabili su www.postoriservato.it
URL:https://backup.sistemamedcampania.it/evento/campania-danza-resextensa-in-nest/
LOCATION:Teatro dei Barbuti di Salerno\, Vicolo Gisolfo II\, 17-19\, Salerno SA\, 84121\, Italia
CATEGORIES:Associazione Campania Danza,Danza
ATTACH;FMTTYPE=image/jpeg:https://backup.sistemamedcampania.it/wp-content/uploads/2023/09/campania-danza-incontri-resextensa-in-nest.jpg
END:VEVENT
BEGIN:VEVENT
DTSTART;VALUE=DATE:20230721
DTEND;VALUE=DATE:20230722
DTSTAMP:20260420T070718
CREATED:20230713T115518Z
LAST-MODIFIED:20230713T152919Z
UID:8414-1689897600-1689983999@backup.sistemamedcampania.it
SUMMARY:Campania Danza - Free time
DESCRIPTION:Torna la rassegna Incontri\, nata nel 2018 allo scopo di diffondere la danza contemporanea nelle sue più svariate sfaccettature. \nStavolta il Teatro dei Barbuti di Salerno\, splendida location nel centro storico\, ospita la compagnia vietnamita Arabesque Dance Company che presenterà il suo nuovo lavoro dal titolo Free time. \nArabesque è stata fondata nel 2008 dal coreografo Nguyen Tan Loc con l’intento di creare interessanti connubi di stili e linguaggi tra classico e moderno e attraverso questi raccontare la cultura vietnamita al resto del mondo. \nPer info campaniadanza@tiscali.it – 089 797 614
URL:https://backup.sistemamedcampania.it/evento/campania-danza-free-time/
LOCATION:Teatro dei Barbuti di Salerno\, Vicolo Gisolfo II\, 17-19\, Salerno SA\, 84121\, Italia
CATEGORIES:Associazione Campania Danza,Danza
ATTACH;FMTTYPE=image/jpeg:https://backup.sistemamedcampania.it/wp-content/uploads/2023/07/campania-danza-free-time.jpg
END:VEVENT
BEGIN:VEVENT
DTSTART;TZID=Europe/Rome:20230422T203000
DTEND;TZID=Europe/Rome:20230422T203000
DTSTAMP:20260420T070718
CREATED:20230419T164456Z
LAST-MODIFIED:20230421T151142Z
UID:8027-1682195400-1682195400@backup.sistemamedcampania.it
SUMMARY:Campania Danza - The l(o)ast jew
DESCRIPTION:Io sono l’ultimo ebreo è il sottotitolo del libro di Chil Rajchman\, uno dei 57 ebrei del Sonderkommando sopravvissuto alla fuga dal lager di Treblinka. La parola l(o)ast all’interno del titolo di questo spettacolo di teatro danza è il risultato dell’accostamento dei termini last (ultimo\, per riprendere la testimonianza di Rajchman appunto)\, e lost (perso\, smarrito\, disperso)\, che si vuole riferire sia alla condizione psicologica degli ebrei costretti all’esperienza dell’Olocausto\, sia al progetto nazifascista di annientamento e dispersione di diverse comunità\, tra cui quella ebraica. \n  \nCoreografie SIMONE LIGUORI \nDrammaturgia EIRENE CAMPAGNA \nDirezione artistica ANTONELLA IANNONE \n  \nINFO: 089797614; campaniadanza@tiscali.it
URL:https://backup.sistemamedcampania.it/evento/campania-danza-the-loast-jew/
LOCATION:Centro Polivalente “Giovani più”\, Via Eroi di Nassirya\, Coperchia di Pellezzano (SA)\, Italia\, 84080
CATEGORIES:Associazione Campania Danza,Danza
ATTACH;FMTTYPE=image/png:https://backup.sistemamedcampania.it/wp-content/uploads/2023/03/campania-danza-the-loast-jew-e1706114162716.png
END:VEVENT
BEGIN:VEVENT
DTSTART;TZID=Europe/Rome:20230416T183000
DTEND;TZID=Europe/Rome:20230416T183000
DTSTAMP:20260420T070718
CREATED:20230323T202422Z
LAST-MODIFIED:20230323T202422Z
UID:7942-1681669800-1681669800@backup.sistemamedcampania.it
SUMMARY:Associazione Campania Danza - The l(o)ast jew
DESCRIPTION:Io sono l’ultimo ebreo è il sottotitolo del libro di Chil Rajchman\, uno dei 57 ebrei del Sonderkommando sopravvissuto alla fuga dal lager di Treblinka. La parola l(o)ast all’interno del titolo di questo spettacolo di teatro danza è il risultato dell’accostamento dei termini last (ultimo\, per riprendere la testimonianza di Rajchman appunto)\, e lost (perso\, smarrito\, disperso)\, che si vuole riferire sia alla condizione psicologica degli ebrei costretti all’esperienza dell’Olocausto\, sia al progetto nazifascista di annientamento e dispersione di diverse comunità\, tra cui quella ebraica. \n  \nCoreografie SIMONE LIGUORI \nDrammaturgia EIRENE CAMPAGNA \nDirezione artistica ANTONELLA IANNONE \n  \nINFO: 089797614; campaniadanza@tiscali.it
URL:https://backup.sistemamedcampania.it/evento/associazione-campania-danza-the-loast-jew/
LOCATION:Teatro 99 Posti\, Via TraversaTorelli\, Avellino AV\, 83013\, Italia
CATEGORIES:Associazione Campania Danza,Danza
ATTACH;FMTTYPE=image/png:https://backup.sistemamedcampania.it/wp-content/uploads/2023/03/campania-danza-the-loast-jew-e1706114162716.png
END:VEVENT
END:VCALENDAR