BEGIN:VCALENDAR
VERSION:2.0
PRODID:-//Sistema Med Campania - ECPv6.7.0//NONSGML v1.0//EN
CALSCALE:GREGORIAN
METHOD:PUBLISH
X-WR-CALNAME:Sistema Med Campania
X-ORIGINAL-URL:https://backup.sistemamedcampania.it
X-WR-CALDESC:Eventi per Sistema Med Campania
REFRESH-INTERVAL;VALUE=DURATION:PT1H
X-Robots-Tag:noindex
X-PUBLISHED-TTL:PT1H
BEGIN:VTIMEZONE
TZID:Europe/Rome
BEGIN:DAYLIGHT
TZOFFSETFROM:+0100
TZOFFSETTO:+0200
TZNAME:CEST
DTSTART:20230326T010000
END:DAYLIGHT
BEGIN:STANDARD
TZOFFSETFROM:+0200
TZOFFSETTO:+0100
TZNAME:CET
DTSTART:20231029T010000
END:STANDARD
END:VTIMEZONE
BEGIN:VEVENT
DTSTART;TZID=Europe/Rome:20230917T200000
DTEND;TZID=Europe/Rome:20230917T200000
DTSTAMP:20260420T022118
CREATED:20230917T163103Z
LAST-MODIFIED:20230917T163103Z
UID:8637-1694980800-1694980800@backup.sistemamedcampania.it
SUMMARY:Nuova Orchestra Scarlatti - Dentro il Barbiere
DESCRIPTION:Dopo l’anteprima al Teatro Partenio\, la Nuova Orchestra Scarlatti\, insieme all’Associazione Zenit 2000\, porta nel Cortile delle Statue della Federico || Dentro il Barbiere\, selezione semiscenica dell’opera il Barbiere di Siviglia di Gioachino Rossini. \nNel ruolo di Rosina il mezzosoprano Giacinta Nicotra\, il Conte di Almaviva è Gaetano Amore\, mentre Figaro è interpretato da Juan Possidente. La narrazione è a cura della voce di Enzo Viccaro e la direzione musicale del maestro Massimo Testa. \nPer info info@nuovaorchestrascarlatti.it – 081 253 5984 – www.nuovaorchestrascarlatti.it
URL:https://backup.sistemamedcampania.it/evento/nuova-orchestra-scarlatti-dentro-il-barbiere/
LOCATION:Cortile delle Statue della Federico II – Napoli\, Via Paladino\, 39\, Napoli\, Italia
CATEGORIES:Musica,Nuova Orchestra Scarlatti
ATTACH;FMTTYPE=image/jpeg:https://backup.sistemamedcampania.it/wp-content/uploads/2023/09/nos-dentro-il-barbiere.jpg
END:VEVENT
BEGIN:VEVENT
DTSTART;TZID=Europe/Rome:20230916T203000
DTEND;TZID=Europe/Rome:20230916T203000
DTSTAMP:20260420T022118
CREATED:20230914T165959Z
LAST-MODIFIED:20230914T170118Z
UID:8605-1694896200-1694896200@backup.sistemamedcampania.it
SUMMARY:Zenit 2000 - Dentro il Barbiere
DESCRIPTION:Per sabato 16 settembre alle ore 20.30\, l’Associazione Zenit 2000 ha messo su\, insieme alla Nuova Orchestra Scarlatti di Napoli\, Dentro il Barbiere\, selezione semiscenica dell’opera il Barbiere di Siviglia di G. Rossini. \nNel ruolo di Rosina il mezzosoprano Giacinta Nicotra\, il Conte di Almaviva è Gaetano Amore\, mentre Figaro è interpretato da Juan Possidente. La narrazione è a cura della voce di Enzo Viccaro e la direzione musicale del maestro Massimo Testa. \nL’evento è dedicato alla memoria del giovane musicista Giovanbattista Cutolo\, tragicamente ucciso: per l’occasione il 50% dell’incasso sarà devoluto a sostegno di un progetto rivolto ai minori nei quartieri napoletani più difficili promosso da Libera\, Associazioni\, nomi e numeri contro le mafie. \nPer info 339 8226488 – 339 5880749 – www.massimotesta.com \nBiglietti www.vivaticket.com
URL:https://backup.sistemamedcampania.it/evento/zenit-2000-dentro-il-barbiere/
LOCATION:Teatro Partenio\, Via Giuseppe Verdi 50\, Avellino\, Avellino\, 83100\, Italia
CATEGORIES:Musica,Zenit 2000
ATTACH;FMTTYPE=image/jpeg:https://backup.sistemamedcampania.it/wp-content/uploads/2023/09/zenit-2000-dentro-il-barbiere.jpg
END:VEVENT
BEGIN:VEVENT
DTSTART;VALUE=DATE:20230809
DTEND;VALUE=DATE:20230810
DTSTAMP:20260420T022118
CREATED:20230807T130207Z
LAST-MODIFIED:20230807T130207Z
UID:8521-1691539200-1691625599@backup.sistemamedcampania.it
SUMMARY:Musicainsieme - Sul sentiero degli dei
DESCRIPTION:Nella meravigliosa Agerola\, una delle perle della Costiera Amalfitana\, tra mare\, monti e scorci mozzafiato arriva una delle più celebri opere liriche della Storia della Musica. \nIl Barbiere di Siviglia di Gioachino Rossini\, con la regia di Antonio De Lucia e la direzione di Leonardo Quadrini\, viene interpretato dall’Orchestra Internazionale della Campania e dai solisti Margherita Pugliese\, Rodrigo Trosino\, Carmine Monaco e Carlo Provenzano. \nPer info leonardo.quadrini.61@gmail.com – www.musicainsieme.info
URL:https://backup.sistemamedcampania.it/evento/musicainsieme-sul-sentiero-degli-dei/
LOCATION:Parco Colonia Montana\, Via Salvatore di Giacomo 8\, Agerola\, Napoli\, 80051\, Italia
CATEGORIES:Musica,Musicainsieme
ATTACH;FMTTYPE=image/jpeg:https://backup.sistemamedcampania.it/wp-content/uploads/2023/08/musicainsieme-sul-sentiero-degli-dei-il-barbiere-di-siviglia-2.jpg
END:VEVENT
END:VCALENDAR