BEGIN:VCALENDAR
VERSION:2.0
PRODID:-//Sistema Med Campania - ECPv6.7.0//NONSGML v1.0//EN
CALSCALE:GREGORIAN
METHOD:PUBLISH
X-WR-CALNAME:Sistema Med Campania
X-ORIGINAL-URL:https://backup.sistemamedcampania.it
X-WR-CALDESC:Eventi per Sistema Med Campania
REFRESH-INTERVAL;VALUE=DURATION:PT1H
X-Robots-Tag:noindex
X-PUBLISHED-TTL:PT1H
BEGIN:VTIMEZONE
TZID:Europe/Rome
BEGIN:DAYLIGHT
TZOFFSETFROM:+0100
TZOFFSETTO:+0200
TZNAME:CEST
DTSTART:20230326T010000
END:DAYLIGHT
BEGIN:STANDARD
TZOFFSETFROM:+0200
TZOFFSETTO:+0100
TZNAME:CET
DTSTART:20231029T010000
END:STANDARD
END:VTIMEZONE
BEGIN:VEVENT
DTSTART;TZID=Europe/Rome:20230318T193000
DTEND;TZID=Europe/Rome:20230318T193000
DTSTAMP:20260420T082310
CREATED:20230315T170733Z
LAST-MODIFIED:20230315T175044Z
UID:7870-1679167800-1679167800@backup.sistemamedcampania.it
SUMMARY:Orchestra Filarmonica Campana - Profonda Leggerezza
DESCRIPTION:Il concerto si apre con la Serenade per chitarra e orchestra d’archi di Malcom Arnold\, autore conosciuto al grande pubblico soprattutto per la sua attività di compositore cinematografico che gli è valsa anche un oscar nel 1958. \nSi prosegue poi con alcune delle prime composizioni di Mendelssohn. Ciò che risalta in questi lavori è la misurata eleganza melodica\, unita ad una brillante e piacevole scorrevolezza ritmica\, espressione di un animo aperto alla felicità della vita. Da un lato non mancano influenze mozartiane e beethoveniane\, ma dall’altro non si possono negare una spigliatezza e freschezza di tono\, in linea con le regole classiche\, ma già protese verso la forma romantica. \nLa serata si conclude infine con Simple Symphony op. 4\, uno dei brani più noti di Benjamin Britten. Composta nel 1934\, quando l’artista inglese aveva soltanto vent’anni\, raccoglie otto temi tratti da alcune opere precedenti e li assembla in modo organico all’interno di una composizione di più ampio respiro. \nInterpreti \nORCHESTRA FILARMONICA CAMPANA \nFEDERICA SEVERINI \nviolino \nPIER CARMINE GARZILLO \npianoforte \nFRANCESCA DE FILIPPIS \nchitarra \nGIULIO MARAZIA \ndirettore \n  \nBiglietti: www.postoriservato.it \nInfo e prenotazioni: info@filarmonicacampana.it; www.filarmonicacampana.it; +39 349 392 5763
URL:https://backup.sistemamedcampania.it/evento/orchestra-filarmonica-campana-profonda-leggerezza/
LOCATION:Chiesa di San Giorgio\, Via Duomo 19\, Salerno\, Salerno\, 84121\, Italia
CATEGORIES:Musica,Orchestra Filarmonica Campana
ATTACH;FMTTYPE=image/png:https://backup.sistemamedcampania.it/wp-content/uploads/2023/03/profonda-leggerezza.png
END:VEVENT
END:VCALENDAR