BEGIN:VCALENDAR
VERSION:2.0
PRODID:-//Sistema Med Campania - ECPv6.7.0//NONSGML v1.0//EN
CALSCALE:GREGORIAN
METHOD:PUBLISH
X-ORIGINAL-URL:https://backup.sistemamedcampania.it
X-WR-CALDESC:Eventi per Sistema Med Campania
REFRESH-INTERVAL;VALUE=DURATION:PT1H
X-Robots-Tag:noindex
X-PUBLISHED-TTL:PT1H
BEGIN:VTIMEZONE
TZID:Europe/Rome
BEGIN:DAYLIGHT
TZOFFSETFROM:+0100
TZOFFSETTO:+0200
TZNAME:CEST
DTSTART:20230326T010000
END:DAYLIGHT
BEGIN:STANDARD
TZOFFSETFROM:+0200
TZOFFSETTO:+0100
TZNAME:CET
DTSTART:20231029T010000
END:STANDARD
END:VTIMEZONE
BEGIN:VEVENT
DTSTART;TZID=Europe/Rome:20230727T200000
DTEND;TZID=Europe/Rome:20230727T200000
DTSTAMP:20260420T053306
CREATED:20230726T153959Z
LAST-MODIFIED:20230726T153959Z
UID:8441-1690488000-1690488000@backup.sistemamedcampania.it
SUMMARY:Fondazione F.M. Napolitano - Buon compleanno RYCO
DESCRIPTION:Arriva la XXI edizione del festival Dal Barocco al Jazz organizzato dalla Fondazione F.M. Napolitano in collaborazione con il Comune di Anacapri e curato nell’ideazione e nella direzione artistica da Maria Sbeglia. \nSi parte giovedì 27 luglio con un evento dal sapore speciale: Buon compleanno RYCO\, il concerto della Rotary Youth Chamber Orchestra a dieci anni dal primo suo debutto\, avvenuto proprio ad Anacapri il 27 luglio 2013. \nL’orchestra d’archi giovanile\, divenuta nel tempo un punto di riferimento nel panorama musicale cittadino\, fu ideata\, infatti\, dalla stessa Maria Sbeglia con l’intento di offrire a giovani musicisti l’opportunità di creare un organico orchestrale stabile. Attraverso lo slogan “Adotta un orchestrale”\, numerosi club Rotary\, ispirati dal progetto di Sbeglia\, hanno offerto borse di studio ai giovani e alle giovani orchestrali\, tra i 16 e i 30 anni\, provenienti dai Conservatori campani. \nLa serata\, che festeggerà il decennale\, vedrà l’orchestra diretta dal Maestro Nicola Colafelice con la partecipazione straordinaria del flautista Salvatore Lombardi. \nPer info fondazionenapolitano@gmail.com – www.fondazionenapolitano.com
URL:https://backup.sistemamedcampania.it/evento/fondazione-f-m-napolitano-buon-compleanno-ryco/
LOCATION:Hotel Caesar Augustus di Anacapri\, Via Giuseppe Orlandi 4\, Anacapri\, Napoli\, 80071\, Italia
CATEGORIES:Fondazione Franco Michele Napolitano,Musica
ATTACH;FMTTYPE=image/jpeg:https://backup.sistemamedcampania.it/wp-content/uploads/2023/07/fondazione-fm-napolitano-dal-barocco-al-jazz-buon-compleanno-ryco.jpg
END:VEVENT
END:VCALENDAR