BEGIN:VCALENDAR
VERSION:2.0
PRODID:-//Sistema Med Campania - ECPv6.7.0//NONSGML v1.0//EN
CALSCALE:GREGORIAN
METHOD:PUBLISH
X-ORIGINAL-URL:https://backup.sistemamedcampania.it
X-WR-CALDESC:Eventi per Sistema Med Campania
REFRESH-INTERVAL;VALUE=DURATION:PT1H
X-Robots-Tag:noindex
X-PUBLISHED-TTL:PT1H
BEGIN:VTIMEZONE
TZID:Europe/Rome
BEGIN:DAYLIGHT
TZOFFSETFROM:+0100
TZOFFSETTO:+0200
TZNAME:CEST
DTSTART:20230326T010000
END:DAYLIGHT
BEGIN:STANDARD
TZOFFSETFROM:+0200
TZOFFSETTO:+0100
TZNAME:CET
DTSTART:20231029T010000
END:STANDARD
END:VTIMEZONE
BEGIN:VEVENT
DTSTART;TZID=Europe/Rome:20230628T210000
DTEND;TZID=Europe/Rome:20230628T210000
DTSTAMP:20260423T032022
CREATED:20230626T110927Z
LAST-MODIFIED:20230626T110927Z
UID:8400-1687986000-1687986000@backup.sistemamedcampania.it
SUMMARY:I Virtuosi Napoletani - Praga incontra Lauro
DESCRIPTION:Continua la IV edizione di Città in concerto\, per la direzione artistica di Massimo Santaniello. \nStavolta l’Orchestra Sinfonica del Conservatorio di Praga arriva al Festival di Lauro\, dove a dirigere sarà sempre Miriam Němcová\, mentre al clarinetto solista ci sarà Natálie Hrdová. \nPROGRAMMA \nA. Dvořák Carnival Overture\, op. 92 \nC.M Weber Clarinet Concerto nr. 1 fa minore op.73 \nA. Dvořák Symphony nr.9 New Word \nIngresso gratuito\, gradita la prenotazione. \nPer info 366 220 2869 – www.ivirtuosinapoletani.it – www.filarmoniciveneti.com
URL:https://backup.sistemamedcampania.it/evento/i-virtuosi-napoletani-praga-incontra-lauro/
LOCATION:Anfiteatro Palazzo Pignatelli\, Vicolo Chianche 5\, Lauro\, Avellino\, 83023\, Italia
CATEGORIES:I Virtuosi Napoletani,Musica
ATTACH;FMTTYPE=image/jpeg:https://backup.sistemamedcampania.it/wp-content/uploads/2023/06/i-virtuosi-napoletani-praga-incontra-lauro-citta-in-concerto-2023.jpg
END:VEVENT
BEGIN:VEVENT
DTSTART;TZID=Europe/Rome:20230627T193000
DTEND;TZID=Europe/Rome:20230627T193000
DTSTAMP:20260423T032022
CREATED:20230623T165639Z
LAST-MODIFIED:20230624T173655Z
UID:8391-1687894200-1687894200@backup.sistemamedcampania.it
SUMMARY:I Virtuosi Napoletani - Praga incontra Napoli
DESCRIPTION:Nell’ambito della IV edizione di Città in concerto\, l’Orchestra Sinfonica del Conservatorio di Praga\, costituita da circa sessanta musicisti\,  incontra la meravigliosa città partenopea! \nNella suggestiva Basilica dello Spirito Santo\, a dirigere sarà Miriam Němcová\, mentre al clarinetto solista troveremo Massimo Santaniello. \nPROGRAMMA \nA. Dvořák Carnival Overture\, op. 92 \nC.M Weber Clarinet Concerto nr. 1 fa minore op.73 \nA. Dvořák Symphony nr.9 New Word \nIngresso gratuito\, gradita la prenotazione. \nPer info 366 220 2869 – www.ivirtuosinapoletani.it – www.filarmoniciveneti.com
URL:https://backup.sistemamedcampania.it/evento/i-virtuosi-napoletani-praga-incontra-napoli/
LOCATION:Basilica dello Spirito Santo\, Via Toledo 402\, Napoli\, Napoli\, 80134\, Italia
CATEGORIES:I Virtuosi Napoletani,Musica
ATTACH;FMTTYPE=image/jpeg:https://backup.sistemamedcampania.it/wp-content/uploads/2023/06/i-virtuosi-napoletani-praga-incontra-napoli.jpg
END:VEVENT
END:VCALENDAR