BEGIN:VCALENDAR
VERSION:2.0
PRODID:-//Sistema Med Campania - ECPv6.7.0//NONSGML v1.0//EN
CALSCALE:GREGORIAN
METHOD:PUBLISH
X-ORIGINAL-URL:https://backup.sistemamedcampania.it
X-WR-CALDESC:Eventi per Sistema Med Campania
REFRESH-INTERVAL;VALUE=DURATION:PT1H
X-Robots-Tag:noindex
X-PUBLISHED-TTL:PT1H
BEGIN:VTIMEZONE
TZID:Europe/Rome
BEGIN:DAYLIGHT
TZOFFSETFROM:+0100
TZOFFSETTO:+0200
TZNAME:CEST
DTSTART:20230326T010000
END:DAYLIGHT
BEGIN:STANDARD
TZOFFSETFROM:+0200
TZOFFSETTO:+0100
TZNAME:CET
DTSTART:20231029T010000
END:STANDARD
END:VTIMEZONE
BEGIN:VEVENT
DTSTART;VALUE=DATE:20230916
DTEND;VALUE=DATE:20230917
DTSTAMP:20260420T032925
CREATED:20230915T162005Z
LAST-MODIFIED:20230915T162447Z
UID:8621-1694822400-1694908799@backup.sistemamedcampania.it
SUMMARY:Borderlinedanza - Collective trip: una questione di gender
DESCRIPTION:Collective trip è il titolo/contenitore del nuovo progetto di Borderlinedanza il cui ambito di indagine è la presenza del pubblico all’interno dell’area performativa. \nPartendo dalla necessità di esplorare\, verificare e mettere in pratica nuove forme di composizione e del mettere in scena\, i performers (danzatori e spettatori) affrontano il tema del gender\, della trasformazione\, dell’amore cercando di mettere in discussione significati\, sensazioni e certezze. \nConcept\, regia e coreografia Claudio Malangone\nPerformers Luigi Aruta\, Adriana Cristiano\, Pietro Autiero\, Antonio Formisano\, Maite Rogers Gastaka\, Giada Ruoppo \nPer info 089 203185 – info@borderlinedanza.it – www.danzacontemporanea.eu
URL:https://backup.sistemamedcampania.it/evento/borderlinedanza-collective-trip-una-questione-di-gender/
LOCATION:Spazio Matta\, Via Gran Sasso 53\, Pescara\, Pescara\, 65124\, Italia
CATEGORIES:Borderline Danza,Danza
ATTACH;FMTTYPE=image/jpeg:https://backup.sistemamedcampania.it/wp-content/uploads/2023/09/borderlinedanza-collective-trip-questione-di-gender.jpg
END:VEVENT
END:VCALENDAR