BEGIN:VCALENDAR
VERSION:2.0
PRODID:-//Sistema Med Campania - ECPv6.7.0//NONSGML v1.0//EN
CALSCALE:GREGORIAN
METHOD:PUBLISH
X-WR-CALNAME:Sistema Med Campania
X-ORIGINAL-URL:https://backup.sistemamedcampania.it
X-WR-CALDESC:Eventi per Sistema Med Campania
REFRESH-INTERVAL;VALUE=DURATION:PT1H
X-Robots-Tag:noindex
X-PUBLISHED-TTL:PT1H
BEGIN:VTIMEZONE
TZID:Europe/Rome
BEGIN:DAYLIGHT
TZOFFSETFROM:+0100
TZOFFSETTO:+0200
TZNAME:CEST
DTSTART:20230326T010000
END:DAYLIGHT
BEGIN:STANDARD
TZOFFSETFROM:+0200
TZOFFSETTO:+0100
TZNAME:CET
DTSTART:20231029T010000
END:STANDARD
END:VTIMEZONE
BEGIN:VEVENT
DTSTART;TZID=Europe/Rome:20230528T180000
DTEND;TZID=Europe/Rome:20230528T180000
DTSTAMP:20260420T032918
CREATED:20230519T172016Z
LAST-MODIFIED:20230519T172016Z
UID:8124-1685296800-1685296800@backup.sistemamedcampania.it
SUMMARY:KÖRPER - Pas de Deux | Collettivo Giulio e Jari
DESCRIPTION:Avvolti nel buio\, due danzatori si muovono secondo traiettorie ora libere e leggere\, ora decise e frammentate\, reinterpretando il tema del pas de deux\, sistema scenico che nella storia del balletto ha sempre messo in luce il profondo valore del legame e della relazione. Il passo a due viene rivisto come possibilità di liberare stati emotivi attraverso intenzioni\, dinamiche e incastri spaziali. La performance di Giulio Petrucci e Jari Boldrini esplora un percorso di paesaggi visivi attraverso il corpo\, attingendo a un immaginario senza tempo per trasmettere nuove forme di virtuosismo e ricreare scorci narrativi utopici. \nInfo e biglietti: info@korper.it – www.korper.it – https://oooh.events/evento/pas-de-deux-biglietti
URL:https://backup.sistemamedcampania.it/evento/korper-pas-de-deux-collettivo-giulio-e-jari/
LOCATION:Spazio  Körper\, Via Vannella Gaetani 27\, Napoli\, Napoli\, 80121\, Italia
CATEGORIES:Danza,Körper
ATTACH;FMTTYPE=image/png:https://backup.sistemamedcampania.it/wp-content/uploads/2023/05/korper-pas-de-deux-collettivo-giulio-e-jari.png
END:VEVENT
END:VCALENDAR