BEGIN:VCALENDAR
VERSION:2.0
PRODID:-//Sistema Med Campania - ECPv6.7.0//NONSGML v1.0//EN
CALSCALE:GREGORIAN
METHOD:PUBLISH
X-WR-CALNAME:Sistema Med Campania
X-ORIGINAL-URL:https://backup.sistemamedcampania.it
X-WR-CALDESC:Eventi per Sistema Med Campania
REFRESH-INTERVAL;VALUE=DURATION:PT1H
X-Robots-Tag:noindex
X-PUBLISHED-TTL:PT1H
BEGIN:VTIMEZONE
TZID:Europe/Rome
BEGIN:DAYLIGHT
TZOFFSETFROM:+0100
TZOFFSETTO:+0200
TZNAME:CEST
DTSTART:20230326T010000
END:DAYLIGHT
BEGIN:STANDARD
TZOFFSETFROM:+0200
TZOFFSETTO:+0100
TZNAME:CET
DTSTART:20231029T010000
END:STANDARD
END:VTIMEZONE
BEGIN:VEVENT
DTSTART;TZID=Europe/Rome:20230924T180000
DTEND;TZID=Europe/Rome:20230924T180000
DTSTAMP:20260420T051743
CREATED:20230923T145533Z
LAST-MODIFIED:20230923T145533Z
UID:8670-1695578400-1695578400@backup.sistemamedcampania.it
SUMMARY:KÖRPERmeetsMOVIMENTODANZA
DESCRIPTION:Domenica 24 settembre alle ore 18\, lo Spazio Körper incontra Movimento Danza\, con la presentazione di due coreografie. \nDa un lato Pandemik Mambo di Gabriella Stazio\, con Sonia Di Gennaro e Michele Simonetti\, fa parte della trilogia “Le danze pandemiche”\, coreografie create durante la pandemia e\, quindi\, con il distanziamento sociale. \nA seguire\, Viceversa di Luna Cenere\, liberamente ispirato all’omonimo libro di Eleonora Marangoni\, che vede protagonista il Perfoming Arts Group – Compagnia Giovani Movimento Danza. \nPer info www.korper.it – info@korper.it – info@movimentodanza.org – 081 245 7415  \n 
URL:https://backup.sistemamedcampania.it/evento/korpermeetsmovimentodanza/
LOCATION:Spazio  Körper\, Via Vannella Gaetani 27\, Napoli\, Napoli\, 80121\, Italia
CATEGORIES:Danza,Körper,Movimento Danza
ATTACH;FMTTYPE=image/jpeg:https://backup.sistemamedcampania.it/wp-content/uploads/2023/09/korper-meets-movimentodanza-pandemik-mambo-viceversa.jpg
END:VEVENT
BEGIN:VEVENT
DTSTART;TZID=Europe/Rome:20230319T183000
DTEND;TZID=Europe/Rome:20230319T183000
DTSTAMP:20260420T051743
CREATED:20230315T175303Z
LAST-MODIFIED:20230316T154216Z
UID:7875-1679250600-1679250600@backup.sistemamedcampania.it
SUMMARY:Movimento Danza - Sulle ali della gravità & Place Is The Space
DESCRIPTION:Movimento Danza va in scena con un doppio spettacolo. Si inizia con Sulle ali della gravità\, una coreografia di Sonia Di Gennaro interpretata da Francesca Gifuni. Tocca poi a Place Is The Space\, creata da Gabriella Stazio e danzata dal Performing Arts Group – Compagnia Giovani Movimento Danza. \nInoltre\, lo stesso giorno dalle ore 16 alle ore 17:45\, Gabriella Stazio terrà un workshop di danza contemporanea. \nInfo: 389 885 6273; info@teatro99posti.com
URL:https://backup.sistemamedcampania.it/evento/movimento-danza/
LOCATION:Teatro 99 Posti\, Via TraversaTorelli\, Avellino AV\, 83013\, Italia
CATEGORIES:Danza,Movimento Danza
ATTACH;FMTTYPE=image/png:https://backup.sistemamedcampania.it/wp-content/uploads/2023/03/movimento-danza.png
END:VEVENT
END:VCALENDAR