BEGIN:VCALENDAR
VERSION:2.0
PRODID:-//Sistema Med Campania - ECPv6.7.0//NONSGML v1.0//EN
CALSCALE:GREGORIAN
METHOD:PUBLISH
X-WR-CALNAME:Sistema Med Campania
X-ORIGINAL-URL:https://backup.sistemamedcampania.it
X-WR-CALDESC:Eventi per Sistema Med Campania
REFRESH-INTERVAL;VALUE=DURATION:PT1H
X-Robots-Tag:noindex
X-PUBLISHED-TTL:PT1H
BEGIN:VTIMEZONE
TZID:Europe/Rome
BEGIN:DAYLIGHT
TZOFFSETFROM:+0100
TZOFFSETTO:+0200
TZNAME:CEST
DTSTART:20230326T010000
END:DAYLIGHT
BEGIN:STANDARD
TZOFFSETFROM:+0200
TZOFFSETTO:+0100
TZNAME:CET
DTSTART:20231029T010000
END:STANDARD
END:VTIMEZONE
BEGIN:VEVENT
DTSTART;TZID=Europe/Rome:20230426T190000
DTEND;TZID=Europe/Rome:20230426T190000
DTSTAMP:20260420T132855
CREATED:20230420T114058Z
LAST-MODIFIED:20230420T114058Z
UID:8038-1682535600-1682535600@backup.sistemamedcampania.it
SUMMARY:Nuova Orchestra Scarlatti - Concerto di Primavera all'Università
DESCRIPTION:Appuntamento per tutti i gusti e tutte le età\, che propone un ricchissimo programma di brillanti pagine vocali e strumentali: da un’ inedita Sinfonia d’Opera di Giovanni Paisiello al Maestro di Cappella di Domenico Cimarosa; e ancora\, dalla luminosa Prima Sinfonia di Franz Joseph Haydn alla Cavatina di Figaro dal Barbiere di Rossini; non mancherà anche una movimentata versione orchestrale della Csárdás\, felice invenzione gitana di Vittorio Monti. Dirige il concerto Francesco Aliberti\, mentre la Nuova Orchestra Scarlatti è accompagnata dal baritono Juan Possidente. \nNuova Orchestra Scarlatti \ndirettore Francesco Aliberti \nbaritono Juan Possidente \nINFO:  081 253 5984 – info@nuovaorchestrascarlatti.it \n  \n 
URL:https://backup.sistemamedcampania.it/evento/nuova-orchestra-scarlatti-concerto-di-primavera-alluniversita/
LOCATION:Reggia di Portici\, Via Università 100\, Portici (Na)
CATEGORIES:Musica,Nuova Orchestra Scarlatti
ATTACH;FMTTYPE=image/png:https://backup.sistemamedcampania.it/wp-content/uploads/2023/04/nuova-orchestra-scarlatti-concerto-di-primavera-alluniversita.png
END:VEVENT
END:VCALENDAR