BEGIN:VCALENDAR
VERSION:2.0
PRODID:-//Sistema Med Campania - ECPv6.7.0//NONSGML v1.0//EN
CALSCALE:GREGORIAN
METHOD:PUBLISH
X-ORIGINAL-URL:https://backup.sistemamedcampania.it
X-WR-CALDESC:Eventi per Sistema Med Campania
REFRESH-INTERVAL;VALUE=DURATION:PT1H
X-Robots-Tag:noindex
X-PUBLISHED-TTL:PT1H
BEGIN:VTIMEZONE
TZID:Europe/Rome
BEGIN:DAYLIGHT
TZOFFSETFROM:+0100
TZOFFSETTO:+0200
TZNAME:CEST
DTSTART:20230326T010000
END:DAYLIGHT
BEGIN:STANDARD
TZOFFSETFROM:+0200
TZOFFSETTO:+0100
TZNAME:CET
DTSTART:20231029T010000
END:STANDARD
END:VTIMEZONE
BEGIN:VEVENT
DTSTART;TZID=Europe/Rome:20230729T210000
DTEND;TZID=Europe/Rome:20230729T210000
DTSTAMP:20260420T051943
CREATED:20230728T183107Z
LAST-MODIFIED:20230728T183107Z
UID:8456-1690664400-1690664400@backup.sistemamedcampania.it
SUMMARY:Orchestra Filarmonica Campana - Confronti Sinfonici
DESCRIPTION:Il concerto Confronti Sinfonici dell’Orchestra Filarmonica Campana vede protagonista il giovane artista  Thomas Guggeis. \nThomas ricopre attualmente il ruolo di “Staatskapellmeister” alla Staatsoper di Berlino; ospite regolare di sale e teatri quali la Semperoper di Dresda\, il Theater an der Wien e la Chamber Opera Munich\, ha collaborato\, tra gli altri\, con i Münchner Symphoniker\, l’Orchestre National de Toulouse\, la Swedish Radio Orchestra\, l’Orchestre de Paris e la Staatskapelle di Dresda. \nIn apertura Guggeis propone oltre all’ Eine Kleine NachtMusik di Wolfgang Amadeus Mozart\, la Sinfonia Concertante di Franz Joseph Haydn. Pezzo forte della serata\, poi\, la Quinta Sinfonia di Jean Sibelius. \nPer info Info: info@filarmonicacampana.it – 349 392 5763 – www.filarmonicacampana.it
URL:https://backup.sistemamedcampania.it/evento/orchestra-filarmonica-campana-confronti-sinfonici/
LOCATION:Castello Mercogliano\, Via Santa Maria 26\, Casamarciano\, Napoli\, 80032\, Italia
CATEGORIES:Musica,Orchestra Filarmonica Campana
ATTACH;FMTTYPE=image/jpeg:https://backup.sistemamedcampania.it/wp-content/uploads/2023/07/ofc-confronti-sinfonici.jpg
END:VEVENT
END:VCALENDAR