BEGIN:VCALENDAR
VERSION:2.0
PRODID:-//Sistema Med Campania - ECPv6.7.0//NONSGML v1.0//EN
CALSCALE:GREGORIAN
METHOD:PUBLISH
X-ORIGINAL-URL:https://backup.sistemamedcampania.it
X-WR-CALDESC:Eventi per Sistema Med Campania
REFRESH-INTERVAL;VALUE=DURATION:PT1H
X-Robots-Tag:noindex
X-PUBLISHED-TTL:PT1H
BEGIN:VTIMEZONE
TZID:Europe/Rome
BEGIN:DAYLIGHT
TZOFFSETFROM:+0100
TZOFFSETTO:+0200
TZNAME:CEST
DTSTART:20230326T010000
END:DAYLIGHT
BEGIN:STANDARD
TZOFFSETFROM:+0200
TZOFFSETTO:+0100
TZNAME:CET
DTSTART:20231029T010000
END:STANDARD
END:VTIMEZONE
BEGIN:VEVENT
DTSTART;TZID=Europe/Rome:20230911T200000
DTEND;TZID=Europe/Rome:20230911T200000
DTSTAMP:20260423T012140
CREATED:20230910T214220Z
LAST-MODIFIED:20230910T214220Z
UID:8596-1694462400-1694462400@backup.sistemamedcampania.it
SUMMARY:Nuova Orchestra Scarlatti - Le Stagioni di Vivaldi e Piazzolla
DESCRIPTION:L’11 settembre\, nella Chiesa dei SS. Marcellino e Festo\, la Nuova Orchestra Scarlatti si accompagna ad eccellenze campane per mettere a confronto dei capolavori della musica: Le Stagioni di Vivaldi e Piazzolla\, con il violinista Francesco De Angelis\, conosciuto a livello internazionale\, e la violonista Daniela Cammarano\, poliedrica solista e prima parte in prestigiose orchestre\, in Italia\, Europa\, America e Giappone. \nPer info 081 253 5984 – info@nuovaorchestrascarlatti.it – www.nuovaorchestrascarlatti.it
URL:https://backup.sistemamedcampania.it/evento/nuova-orchestra-scarlatti-le-stagioni-di-vivaldi-e-piazzolla/
LOCATION:Chiesa dei SS. Marcellino e Festo\, Largo S. Marcellino\, Napoli\, 80138\, Italia
CATEGORIES:Musica,Nuova Orchestra Scarlatti
ATTACH;FMTTYPE=image/jpeg:https://backup.sistemamedcampania.it/wp-content/uploads/2023/09/nuova-orchestra-scarlatti.jpg
END:VEVENT
END:VCALENDAR