BEGIN:VCALENDAR
VERSION:2.0
PRODID:-//Sistema Med Campania - ECPv6.7.0//NONSGML v1.0//EN
CALSCALE:GREGORIAN
METHOD:PUBLISH
X-ORIGINAL-URL:https://backup.sistemamedcampania.it
X-WR-CALDESC:Eventi per Sistema Med Campania
REFRESH-INTERVAL;VALUE=DURATION:PT1H
X-Robots-Tag:noindex
X-PUBLISHED-TTL:PT1H
BEGIN:VTIMEZONE
TZID:Europe/Rome
BEGIN:DAYLIGHT
TZOFFSETFROM:+0100
TZOFFSETTO:+0200
TZNAME:CEST
DTSTART:20230326T010000
END:DAYLIGHT
BEGIN:STANDARD
TZOFFSETFROM:+0200
TZOFFSETTO:+0100
TZNAME:CET
DTSTART:20231029T010000
END:STANDARD
END:VTIMEZONE
BEGIN:VEVENT
DTSTART;TZID=Europe/Rome:20230921T190000
DTEND;TZID=Europe/Rome:20230921T190000
DTSTAMP:20260420T010241
CREATED:20230919T162817Z
LAST-MODIFIED:20230919T162817Z
UID:8650-1695322800-1695322800@backup.sistemamedcampania.it
SUMMARY:Fondazione F.M. Napolitano - Sepè le mokò
DESCRIPTION:Giovedì 21 settembre (ore 19)\, al Parco Attianese di Pianura\, il concerto Sepè le mokò – La musica dei film di Totò firmato dal celebre sassofonista partenopeo Daniele Sepe\, che insieme al suo quartetto\, attraverso le colonne sonore dei film di Totò\, restituirà la ricchezza musicale di alcuni dei più grandi compositori italiani di musica per film: da Piero Piccioni ad Armando Trovajoli\, passando per Carlo Rustichelli\, Lelio Luttazzi\, Alessandro Cicognini e Piero Unliliani. \nPer info e prenotazioni fondazionenapolitano@gmail.com  – www.fondazionenapolitano.com
URL:https://backup.sistemamedcampania.it/evento/fondazione-f-m-napolitano-sepe-le-moko/
LOCATION:Parco Attianese di Pianura\, Via Provinciale Napoli\, Napoli\, Napoli\, 80126\, Italia
CATEGORIES:Fondazione Franco Michele Napolitano,Musica
ATTACH;FMTTYPE=image/jpeg:https://backup.sistemamedcampania.it/wp-content/uploads/2023/09/fondazione-fm-napolitano-daniele-sepe-quartet.jpg
END:VEVENT
BEGIN:VEVENT
DTSTART;TZID=Europe/Rome:20230730T200000
DTEND;TZID=Europe/Rome:20230730T200000
DTSTAMP:20260420T010241
CREATED:20230728T195302Z
LAST-MODIFIED:20230728T200053Z
UID:8460-1690747200-1690747200@backup.sistemamedcampania.it
SUMMARY:Fondazione F.M. Napolitano - Daniele Sepe Quartet
DESCRIPTION:Dal Barocco al Jazz\, festival della Fondazione F.M. Napolitano prosegue domenica 30 luglio (ore 20) con il sassofonista partenopeo Daniele Sepe\, che insieme al suo quartetto (Antonello Iannotta alle percussioni\, Paolo Zamuner al pianoforte\, Roman Gomez al basso\, Massimo Del Pezzo alla batteria) presenterà al pubblico il concerto “Sepè le Mokò – La musica dei film di Totò”. L’album\, che come ricorda Sepe si configura come «un debito di riconoscenza ad Antonio De Curtis»\, attraverso le colonne sonore dei film di Totò\, restituisce la ricchezza musicale di alcuni dei più grandi compositori italiani di musica per film: da Piero Piccioni ad Armando Trovajoli\, passando per Carlo Rustichelli\, Lelio Luttazzi\, Alessandro Cicognini e Piero Unliliani. \nPer info fondazionenapolitano@gmail.com – www.fondazionenapolitano.com
URL:https://backup.sistemamedcampania.it/evento/fondazione-f-m-napolitano-daniele-sepe-in-quartetto/
LOCATION:Hotel Caesar Augustus di Anacapri\, Via Giuseppe Orlandi 4\, Anacapri\, Napoli\, 80071\, Italia
CATEGORIES:Fondazione Franco Michele Napolitano,Musica
ATTACH;FMTTYPE=image/jpeg:https://backup.sistemamedcampania.it/wp-content/uploads/2023/07/fondazione-fm-napolitano-dal-barocco-al-jazz-daniele-sepe-quartet.jpg
END:VEVENT
END:VCALENDAR