BEGIN:VCALENDAR
VERSION:2.0
PRODID:-//Sistema Med Campania - ECPv6.7.0//NONSGML v1.0//EN
CALSCALE:GREGORIAN
METHOD:PUBLISH
X-WR-CALNAME:Sistema Med Campania
X-ORIGINAL-URL:https://backup.sistemamedcampania.it
X-WR-CALDESC:Eventi per Sistema Med Campania
REFRESH-INTERVAL;VALUE=DURATION:PT1H
X-Robots-Tag:noindex
X-PUBLISHED-TTL:PT1H
BEGIN:VTIMEZONE
TZID:Europe/Rome
BEGIN:DAYLIGHT
TZOFFSETFROM:+0100
TZOFFSETTO:+0200
TZNAME:CEST
DTSTART:20230326T010000
END:DAYLIGHT
BEGIN:STANDARD
TZOFFSETFROM:+0200
TZOFFSETTO:+0100
TZNAME:CET
DTSTART:20231029T010000
END:STANDARD
END:VTIMEZONE
BEGIN:VEVENT
DTSTART;VALUE=DATE:20230514
DTEND;VALUE=DATE:20230515
DTSTAMP:20260420T032747
CREATED:20230428T155558Z
LAST-MODIFIED:20230428T155558Z
UID:8071-1684022400-1684108799@backup.sistemamedcampania.it
SUMMARY:Centro di Musica Antica Pietà de' Turchini - Il pazzo e la pazza
DESCRIPTION:Questa è la storia di due pazzi\, un botta e risposta a suon di musica tra due innamorati che\, resi folli dal mal d’amore\, impazziscono a tal punto da arrivare ad uccidersi. Ne rimane uno solo che\, vivo ma non del tutto rinsavito\, vaga come Orfeo in cerca della sua Euridice. Un particolare legame sembra connettere l’estro napoletano ai pazzi per amore\, così una lunga sequela di compositori come Scarlatti\, Giramo\, Farina\, Provenzale\, Caresana\, Farina mettono in musica la follia amorosa in tutte le sue sfaccettature. \nEnsemble Alraune \ncontralto Candida Guida \nvioloncello Augusto Gasbarri \ntiorba e chitarra barocca Fabiano Merlante \nclavicembalo Mario Sollazzo \nInfo e prenotazioni: www.turchini.it – segreteria@turchini.it \n 
URL:https://backup.sistemamedcampania.it/evento/centro-di-musica-antica-pieta-de-turchini-il-pazzo-e-la-pazza/
LOCATION:Museo Correale di Terranova\, Via Correale 50\, Sorrento\, Napoli\, 80067\, Italia
CATEGORIES:Fondazione Pietà dei Turchini,Musica
ATTACH;FMTTYPE=image/png:https://backup.sistemamedcampania.it/wp-content/uploads/2023/04/pieta-de-turchini-il-pazzo-e-la-pazza.png
END:VEVENT
END:VCALENDAR