BEGIN:VCALENDAR
VERSION:2.0
PRODID:-//Sistema Med Campania - ECPv6.7.0//NONSGML v1.0//EN
CALSCALE:GREGORIAN
METHOD:PUBLISH
X-WR-CALNAME:Sistema Med Campania
X-ORIGINAL-URL:https://backup.sistemamedcampania.it
X-WR-CALDESC:Eventi per Sistema Med Campania
REFRESH-INTERVAL;VALUE=DURATION:PT1H
X-Robots-Tag:noindex
X-PUBLISHED-TTL:PT1H
BEGIN:VTIMEZONE
TZID:Europe/Rome
BEGIN:DAYLIGHT
TZOFFSETFROM:+0100
TZOFFSETTO:+0200
TZNAME:CEST
DTSTART:20230326T010000
END:DAYLIGHT
BEGIN:STANDARD
TZOFFSETFROM:+0200
TZOFFSETTO:+0100
TZNAME:CET
DTSTART:20231029T010000
END:STANDARD
END:VTIMEZONE
BEGIN:VEVENT
DTSTART;TZID=Europe/Rome:20230917T210000
DTEND;TZID=Europe/Rome:20230917T210000
DTSTAMP:20260420T095909
CREATED:20230917T135535Z
LAST-MODIFIED:20230917T135535Z
UID:8634-1694984400-1694984400@backup.sistemamedcampania.it
SUMMARY:AKERUSIA DANZA - Forse sì forse no & Deviazione della rondine
DESCRIPTION:Terzo giorno di laboratori e spettacoli per Intrecci d’arte al Sud\, rassegna nell’ambito di Affabulazione\, nella splendida cornice del chiostro e degli spazi interni della Chiesa di Santa Maria dell’Arco a Miano. \nDomenica 17 settembre alle ore 21\, va in scena Forse sì forse no di e con Sabrina D’Aguanno e Sonia Di Gennaro\, musiche di Giosi Cincotti e intermezzo di Althea Esposito e Sabrina Volpe. \nA seguire\, Deviazione della rondine\, un accordo tra corpo\, voce e musica. Autore\, interprete e voce Fabrizio Varriale. \nPer info info@akerusiadanza.it – 081 839 2288 – www.akerusiadanza.it
URL:https://backup.sistemamedcampania.it/evento/akerusia-danza-forse-si-forse-no-deviazione-della-rondine/
LOCATION:Chiesa Santa Maria dell’Arco\, Piazza Madonna dell'Arco 8\, Napoli\, Napoli\, 80145\, Italia
CATEGORIES:Akerusia Danza,Danza
ATTACH;FMTTYPE=image/jpeg:https://backup.sistemamedcampania.it/wp-content/uploads/2023/09/akerusia-danza-intrecci-darte-al-sud.jpg
END:VEVENT
BEGIN:VEVENT
DTSTART;VALUE=DATE:20230429
DTEND;VALUE=DATE:20230430
DTSTAMP:20260420T095909
CREATED:20230420T171321Z
LAST-MODIFIED:20230420T171321Z
UID:8045-1682726400-1682812799@backup.sistemamedcampania.it
SUMMARY:Akerusia Danza - Urgente restare
DESCRIPTION:Un processo danzato fatto di riflessioni sulla distanza interiore che può segnare lo spazio della relazione tra due persone ed il desiderio di trattenere i momenti vissuti sia passati che presenti\, facendo in modo che restino impressi nella memoria. La ricerca coreografica e teatrale è liberamente ispirata alla contrapposizione di due visioni artistiche: la prima è quella derivante dalle opere di\nMarc Chagall che nelle sue figurazioni pittoriche rievoca la memoria con un trasporto emotivo e fortemente onirico; la seconda è quella della fotografa India Lawton che al contempo sembra giocare sofferente con l’idea di essere dimenticati e cancellati. \nUrgente Restare è una rivisitazione di That Day\, presentato al Fillimit 2018 – Festival Internazionale Korespondance – Zdar\, Repubblica Ceca.\nautori ed interpreti Chiara Alborino e Fabrizio Varriale\ndirezione artistica Elena D’Aguanno\ntesti drammaturgici di Giuseppe Pompameo e Enrico Manzo\nvoice over Kalina Georgieva e Fabrizio Varriale\ndisegno luci Ciro Di Matteo\nproduzione Akerusia Danza \nINFO:  0818392288 – info@akerusiadanza.it
URL:https://backup.sistemamedcampania.it/evento/akerusia-danza-urgente-restare-2/
LOCATION:Teatro Elicantropo\, Vico Gerolomini 3\, Napoli\, Napoli\, 80138\, Italia
CATEGORIES:Akerusia Danza,Danza
ATTACH;FMTTYPE=image/png:https://backup.sistemamedcampania.it/wp-content/uploads/2023/04/akerusia-danza-urgente-restare.png
END:VEVENT
END:VCALENDAR