BEGIN:VCALENDAR
VERSION:2.0
PRODID:-//Sistema Med Campania - ECPv6.7.0//NONSGML v1.0//EN
CALSCALE:GREGORIAN
METHOD:PUBLISH
X-ORIGINAL-URL:https://backup.sistemamedcampania.it
X-WR-CALDESC:Eventi per Sistema Med Campania
REFRESH-INTERVAL;VALUE=DURATION:PT1H
X-Robots-Tag:noindex
X-PUBLISHED-TTL:PT1H
BEGIN:VTIMEZONE
TZID:Europe/Rome
BEGIN:DAYLIGHT
TZOFFSETFROM:+0100
TZOFFSETTO:+0200
TZNAME:CEST
DTSTART:20230326T010000
END:DAYLIGHT
BEGIN:STANDARD
TZOFFSETFROM:+0200
TZOFFSETTO:+0100
TZNAME:CET
DTSTART:20231029T010000
END:STANDARD
END:VTIMEZONE
BEGIN:VEVENT
DTSTART;TZID=Europe/Rome:20231011T203000
DTEND;TZID=Europe/Rome:20231011T203000
DTSTAMP:20260420T065310
CREATED:20231009T180509Z
LAST-MODIFIED:20231009T180509Z
UID:8706-1697056200-1697056200@backup.sistemamedcampania.it
SUMMARY:Ass. Alessandro Scarlatti - Federico Colli
DESCRIPTION:L’Associazione Alessandro Scarlatti inaugura la sua stagione\, mercoledì 11 ottobre alle ore 20:30 al Teatro Sannazaro\, con il concerto del pianista Federico Colli. \nElogiato dal Daily Telegraph per “il suo tocco meravigliosamente leggero e la sua eleganza lirica” e definito dalla rivista Gramophone “uno dei pensatori più originali della sua generazione”\, il musicista bresciano è ormai protagonista della scena concertistica internazionale\, grazie alle sue interpretazioni avvincenti e non convenzionali. \nIn programma\, musiche di Domenico Scarlatti\, Mozart e un omaggio a Sergej Prokofev\, nella ricorrenza dei 70 anni dalla sua morte. \nPer info info@associazionescarlatti.it – 081 406 011 – www.associazionescarlatti.it
URL:https://backup.sistemamedcampania.it/evento/ass-alessandro-scarlatti-federico-colli/
LOCATION:Teatro Sannazaro\, Via Chiaia\, 157\, Napoli\, 80121\, Italia
CATEGORIES:Associazione Alessandro Scarlatti.,Musica
ATTACH;FMTTYPE=image/jpeg:https://backup.sistemamedcampania.it/wp-content/uploads/2023/10/ass-alessandro-scarlatti-federico-colli-2.jpg
END:VEVENT
END:VCALENDAR