BEGIN:VCALENDAR
VERSION:2.0
PRODID:-//Sistema Med Campania - ECPv6.7.0//NONSGML v1.0//EN
CALSCALE:GREGORIAN
METHOD:PUBLISH
X-WR-CALNAME:Sistema Med Campania
X-ORIGINAL-URL:https://backup.sistemamedcampania.it
X-WR-CALDESC:Eventi per Sistema Med Campania
REFRESH-INTERVAL;VALUE=DURATION:PT1H
X-Robots-Tag:noindex
X-PUBLISHED-TTL:PT1H
BEGIN:VTIMEZONE
TZID:Europe/Rome
BEGIN:DAYLIGHT
TZOFFSETFROM:+0100
TZOFFSETTO:+0200
TZNAME:CEST
DTSTART:20230326T010000
END:DAYLIGHT
BEGIN:STANDARD
TZOFFSETFROM:+0200
TZOFFSETTO:+0100
TZNAME:CET
DTSTART:20231029T010000
END:STANDARD
END:VTIMEZONE
BEGIN:VEVENT
DTSTART;TZID=Europe/Rome:20230611T180000
DTEND;TZID=Europe/Rome:20230611T180000
DTSTAMP:20260420T082455
CREATED:20230605T132027Z
LAST-MODIFIED:20230605T132428Z
UID:8305-1686506400-1686506400@backup.sistemamedcampania.it
SUMMARY:KÖRPER - ORDINARY PEOPLE | Frantics Dance Company
DESCRIPTION:La Frantics Dance Company è una compagnia di danza sperimentale con sede a Friburgo / Berlino. Dal 2013 il gruppo ha iniziato una propria ricerca nel B-boying\, nell’Hip-hop\, nell’Acrobatica e nella Danza Contemporanea. Il risultato finale è un originale linguaggio immerso in un profondo ambiente teatrale\, che cerca di indagare e mettere in scena l’inconscio umano. \nCoreografia Frantics Dance Company\nPerformance Marco Di Nardo and Juan Tirado\nCon il supporto di Studio Pro Arte Freiburg\, Kultur Baden-Würtemberg\, Sinedomo Dance District \nPer info e biglietti info@korper.it – 081 245 741 – www.korper.it – oooh.events \n  \n  \n 
URL:https://backup.sistemamedcampania.it/evento/korper-ordinary-people-frantics-dance-company/
LOCATION:Spazio  Körper\, Via Vannella Gaetani 27\, Napoli\, Napoli\, 80121\, Italia
CATEGORIES:Danza,Körper
ATTACH;FMTTYPE=image/jpeg:https://backup.sistemamedcampania.it/wp-content/uploads/2023/06/korper-ordinary-people-frantics-dance-company.jpg
END:VEVENT
END:VCALENDAR