BEGIN:VCALENDAR
VERSION:2.0
PRODID:-//Sistema Med Campania - ECPv6.7.0//NONSGML v1.0//EN
CALSCALE:GREGORIAN
METHOD:PUBLISH
X-ORIGINAL-URL:https://backup.sistemamedcampania.it
X-WR-CALDESC:Eventi per Sistema Med Campania
REFRESH-INTERVAL;VALUE=DURATION:PT1H
X-Robots-Tag:noindex
X-PUBLISHED-TTL:PT1H
BEGIN:VTIMEZONE
TZID:Europe/Rome
BEGIN:DAYLIGHT
TZOFFSETFROM:+0100
TZOFFSETTO:+0200
TZNAME:CEST
DTSTART:20230326T010000
END:DAYLIGHT
BEGIN:STANDARD
TZOFFSETFROM:+0200
TZOFFSETTO:+0100
TZNAME:CET
DTSTART:20231029T010000
END:STANDARD
END:VTIMEZONE
BEGIN:VEVENT
DTSTART;TZID=Europe/Rome:20230809T200000
DTEND;TZID=Europe/Rome:20230809T200000
DTSTAMP:20260420T023239
CREATED:20230807T130420Z
LAST-MODIFIED:20230807T130901Z
UID:8525-1691611200-1691611200@backup.sistemamedcampania.it
SUMMARY:Fondazione F.M. Napolitano - Passione Viennese
DESCRIPTION:Arriva il quarto appuntamento della XXIV edizione di Anacaprifamusica\, rassegna estiva organizzata dalla Fondazione Franco Michele Napolitano alla Mediateca Mario Cacace di Anacapri. \nMercoledì 9 agosto alle ore 20 è il turno di Passione Viennese che vede protagonisti Rudolf Gindlhumer al flauto e Karl Eichinger al pianoforte. \nPer info fondazionenapolitano@gmail.com – www.fondazionenapolitano.com
URL:https://backup.sistemamedcampania.it/evento/fondazione-f-m-napolitano-passione-viennese/
LOCATION:Mediateca Mario Cacace\, Via Giuseppe Orlandi\, Anacapri\, Napoli\, 80071\, Italia
CATEGORIES:Fondazione Franco Michele Napolitano,Musica
ATTACH;FMTTYPE=image/jpeg:https://backup.sistemamedcampania.it/wp-content/uploads/2023/08/passione-viennese.jpg
END:VEVENT
END:VCALENDAR