BEGIN:VCALENDAR
VERSION:2.0
PRODID:-//Sistema Med Campania - ECPv6.7.0//NONSGML v1.0//EN
CALSCALE:GREGORIAN
METHOD:PUBLISH
X-WR-CALNAME:Sistema Med Campania
X-ORIGINAL-URL:https://backup.sistemamedcampania.it
X-WR-CALDESC:Eventi per Sistema Med Campania
REFRESH-INTERVAL;VALUE=DURATION:PT1H
X-Robots-Tag:noindex
X-PUBLISHED-TTL:PT1H
BEGIN:VTIMEZONE
TZID:Europe/Rome
BEGIN:DAYLIGHT
TZOFFSETFROM:+0100
TZOFFSETTO:+0200
TZNAME:CEST
DTSTART:20230326T010000
END:DAYLIGHT
BEGIN:STANDARD
TZOFFSETFROM:+0200
TZOFFSETTO:+0100
TZNAME:CET
DTSTART:20231029T010000
END:STANDARD
END:VTIMEZONE
BEGIN:VEVENT
DTSTART;TZID=Europe/Rome:20230917T210000
DTEND;TZID=Europe/Rome:20230917T210000
DTSTAMP:20260420T051928
CREATED:20230917T124915Z
LAST-MODIFIED:20230917T124915Z
UID:8631-1694984400-1694984400@backup.sistemamedcampania.it
SUMMARY:Progetto Sonora - Katarína Máliková Solo
DESCRIPTION:Katarína Máliková è una cantante (classe 1990)\, pianista\, compositrice e produttrice proveniente dalla regione montuosa di Horehronie\, nella Slovacchia centrale. Ha iniziato come artista di formazione classica\, e nel suo percorso artistico si è concentrata sulle sonorità tradizionali della sua terra d’origine arrivando ad essere una musicista acclamata a livello internazionale. \nLa sua musica è difficile da descrivere\, poiché viaggia attraverso un intero ventaglio di generi\, ma la base è in qualche modo costante: una brillante esecuzione pianistica con voci di gamma alta\, che spesso camminano sull’orlo delle possibilità in ogni registro. \nPer info info@progettosonora.it – 331 831 3993 – www.progettosonora.it
URL:https://backup.sistemamedcampania.it/evento/progetto-sonora-katarina-malikova-solo/
LOCATION:Sala Assoli\, Vico Lungo Teatro Nuovo 110\, Napoli
CATEGORIES:Contemporary Speech,Musica,Progetto Sonora
ATTACH;FMTTYPE=image/jpeg:https://backup.sistemamedcampania.it/wp-content/uploads/2023/09/progetto-sonora-contemporary-speech.jpg
END:VEVENT
END:VCALENDAR