BEGIN:VCALENDAR
VERSION:2.0
PRODID:-//Sistema Med Campania - ECPv6.7.0//NONSGML v1.0//EN
CALSCALE:GREGORIAN
METHOD:PUBLISH
X-WR-CALNAME:Sistema Med Campania
X-ORIGINAL-URL:https://backup.sistemamedcampania.it
X-WR-CALDESC:Eventi per Sistema Med Campania
REFRESH-INTERVAL;VALUE=DURATION:PT1H
X-Robots-Tag:noindex
X-PUBLISHED-TTL:PT1H
BEGIN:VTIMEZONE
TZID:Europe/Rome
BEGIN:DAYLIGHT
TZOFFSETFROM:+0100
TZOFFSETTO:+0200
TZNAME:CEST
DTSTART:20230326T010000
END:DAYLIGHT
BEGIN:STANDARD
TZOFFSETFROM:+0200
TZOFFSETTO:+0100
TZNAME:CET
DTSTART:20231029T010000
END:STANDARD
END:VTIMEZONE
BEGIN:VEVENT
DTSTART;TZID=Europe/Rome:20230617T193000
DTEND;TZID=Europe/Rome:20230617T193000
DTSTAMP:20260420T082821
CREATED:20230611T170035Z
LAST-MODIFIED:20230611T170035Z
UID:8322-1687030200-1687030200@backup.sistemamedcampania.it
SUMMARY:Associazione Alessandro Scarlatti - La liturgia musicale a Napoli tra Sei e Settecento
DESCRIPTION:L’ultimo concerto della rassegna Le stagioni del Barocco vede protagonista la musica corale\, una delle declinazioni tipiche del barocco musicale appunto\, legata alle magie del contrappunto e alle risorse espressive della voce umana. \nSarà il coro Mysterium Vocis\, diretto da Rosario Totaro e accompagnato da Sossio Capasso all’organo\, a cimentarsi con alcuni classici della Scuola Napoletana: Trabaci\, Provenzale\, Alessandro Scarlatti\, Fago\, Domenico Scarlatti e Niccolò Jommelli. \nPer info  info@associazionescarlatti.it – 081 406 011
URL:https://backup.sistemamedcampania.it/evento/associazione-alessandro-scarlatti-la-liturgia-musicale-a-napoli-tra-sei-e-settecento/
LOCATION:Abbazia di San Lorenzo\, Via San Lorenzo 45\, Aversa\, Caserta\, 81031\, Italia
CATEGORIES:Associazione Alessandro Scarlatti.,Musica
ATTACH;FMTTYPE=image/jpeg:https://backup.sistemamedcampania.it/wp-content/uploads/2023/06/ass-alessandro-scarlatti-le-stagioni-del-barocco-mysterium-vocis-sossio-capasso.jpg
END:VEVENT
BEGIN:VEVENT
DTSTART;TZID=Europe/Rome:20230609T193000
DTEND;TZID=Europe/Rome:20230609T193000
DTSTAMP:20260420T082821
CREATED:20230603T201156Z
LAST-MODIFIED:20230603T201156Z
UID:8296-1686339000-1686339000@backup.sistemamedcampania.it
SUMMARY:Associazione Alessandro Scarlatti - Vaghe bellezze\, Piero Viti
DESCRIPTION:Il chitarrista Piero Viti vuole omaggiare il grande Maestro Segovia\, di cui si celebra il 130° anniversario della nascita\, percorrendo un tragitto che va dal XVI secolo fino a Paganini. Segovia fu grandissimo interprete di certi repertori e certamente contribuì alla rivalutazione della produzione cinque-seicentesca degli antichi strumenti precursori della chitarra. \nCome scrive Piero Viti: «Segovia ebbe il merito di selezionare un corpus di lavori di estrema bellezza\, tratti dalla copiosa mole di brani scritti per questi strumenti conferendo loro\, senza particolari pretese filologiche\, una nuova e più accattivante veste concertistica». \nPer info  info@associazionescarlatti.it – 081 406 011
URL:https://backup.sistemamedcampania.it/evento/associazione-alessandro-scarlatti-vaghe-bellezze-piero-viti/
LOCATION:Chiesa di San Giovanni Evangelista\, Vicolo S. Giovanni\, Aversa\, Caserta\, 81031\, Italia
CATEGORIES:Associazione Alessandro Scarlatti.,Musica
ATTACH;FMTTYPE=image/jpeg:https://backup.sistemamedcampania.it/wp-content/uploads/2023/06/ass-alessandro-scarlatti-le-stagioni-del-barocco-vaghe-bellezze-piero-viti.jpg
END:VEVENT
END:VCALENDAR