BEGIN:VCALENDAR
VERSION:2.0
PRODID:-//Sistema Med Campania - ECPv6.7.0//NONSGML v1.0//EN
CALSCALE:GREGORIAN
METHOD:PUBLISH
X-ORIGINAL-URL:https://backup.sistemamedcampania.it
X-WR-CALDESC:Eventi per Sistema Med Campania
REFRESH-INTERVAL;VALUE=DURATION:PT1H
X-Robots-Tag:noindex
X-PUBLISHED-TTL:PT1H
BEGIN:VTIMEZONE
TZID:Europe/Rome
BEGIN:DAYLIGHT
TZOFFSETFROM:+0100
TZOFFSETTO:+0200
TZNAME:CEST
DTSTART:20230326T010000
END:DAYLIGHT
BEGIN:STANDARD
TZOFFSETFROM:+0200
TZOFFSETTO:+0100
TZNAME:CET
DTSTART:20231029T010000
END:STANDARD
END:VTIMEZONE
BEGIN:VEVENT
DTSTART;TZID=Europe/Rome:20230720T193000
DTEND;TZID=Europe/Rome:20230720T193000
DTSTAMP:20260422T120709
CREATED:20230719T164236Z
LAST-MODIFIED:20230719T164314Z
UID:8437-1689881400-1689881400@backup.sistemamedcampania.it
SUMMARY:Nuova Orchestra Scarlatti - Giovani talenti
DESCRIPTION:Prosegue con crescente partecipazione Luglio musicale 2023\, rassegna estiva della Nuova Orchestra Scarlatti realizzata in collaborazione con l’Università Federico II di Napoli. \nGiovedì 20 luglio\, alle ore 19.30\, presso la Chiesa dei SS. Marcellino e Festo appuntamento con Giovani talenti: l’Orchestra Scarlatti Young\, composta da giovani musicisti cresciuti nella Comunità delle Orchestre Scarlatti\, propone un programma ricco. Si spazia da Vivaldi\, con il Concerto alla rustica per archi e due capolavori pieni di vigore e di passione\, il Concerto per 2 violini e archi in la minore op. 3 n. 8 (solisti Salvatore Morvillo e Fabiana D’Auria) e il Concerto per violoncello e archi in re minore RV 406 (violoncello solista Vittorio Infermo)\, all’Albinoni razionale e luminoso della Sinfonia in sol; dall’ispirazione nobile di Telemann\, con il suo bellissimo Concerto per viola e archi (solista Matteo Introna)\, e di Alessandro Scarlatti\, con una deliziosa Suite per archi\, a raffinate rielaborazioni di alcune antiche danze di Leonardo Vinci. \nPer info e biglietti info@nuovaorchestrascarlatti.it – www.nuovaorchestrascarlatti.it – www.azzurroservice.net \n 
URL:https://backup.sistemamedcampania.it/evento/nuova-orchestra-scarlatti-giovani-talenti/
LOCATION:Chiesa dei SS. Marcellino e Festo\, Largo S. Marcellino\, Napoli\, 80138\, Italia
CATEGORIES:Musica,Nuova Orchestra Scarlatti
ATTACH;FMTTYPE=image/jpeg:https://backup.sistemamedcampania.it/wp-content/uploads/2023/07/nuova-orchestra-scarlatti-luglio-musicale-2023-giovani-talenti1.jpg
END:VEVENT
BEGIN:VEVENT
DTSTART;TZID=Europe/Rome:20230715T200000
DTEND;TZID=Europe/Rome:20230715T200000
DTSTAMP:20260422T120709
CREATED:20230713T185115Z
LAST-MODIFIED:20230713T190024Z
UID:8423-1689451200-1689451200@backup.sistemamedcampania.it
SUMMARY:Nuova Orchestra Scarlatti - Luglio musicale 2023
DESCRIPTION:Sabato 15 luglio alle ore 20\, la rassegna Luglio musicale torna al Cortile delle Statue per un ricco concerto sinfonico della Nuova Orchestra Scarlatti diretta da Beatrice Venezi. \nIl programma spazia da Rossini al Concerto per tromba di Haydn alla Sinfonia di Giovanna d’Arco di Verdi fino al Preludio della Traviata e alla Sinfonia del Nabucco. Solista in Haydn il giovane trombettista Davide Battista. \nQuesto programma sarà replicato domenica 16 luglio (ore 21.00) nella suggestiva cornice del Tempio di Nettuno di Paestum. \nPer info e biglietti info@nuovaorchestrascarlatti.it – www.nuovaorchestrascarlatti.it – www.azzurroservice.net
URL:https://backup.sistemamedcampania.it/evento/nuova-orchestra-scarlatti-luglio-musicale-2023/
CATEGORIES:Musica,Nuova Orchestra Scarlatti
ATTACH;FMTTYPE=image/jpeg:https://backup.sistemamedcampania.it/wp-content/uploads/2023/07/nuova-orchestra-scarlatti-luglio-musicale-2023.jpg
END:VEVENT
BEGIN:VEVENT
DTSTART;TZID=Europe/Rome:20230715T200000
DTEND;TZID=Europe/Rome:20230715T200000
DTSTAMP:20260422T120709
CREATED:20230713T185115Z
LAST-MODIFIED:20230713T190024Z
UID:8423-1689451200-1689451200@backup.sistemamedcampania.it
SUMMARY:Nuova Orchestra Scarlatti - Luglio musicale 2023
DESCRIPTION:Sabato 15 luglio alle ore 20\, la rassegna Luglio musicale torna al Cortile delle Statue per un ricco concerto sinfonico della Nuova Orchestra Scarlatti diretta da Beatrice Venezi. \nIl programma spazia da Rossini al Concerto per tromba di Haydn alla Sinfonia di Giovanna d’Arco di Verdi fino al Preludio della Traviata e alla Sinfonia del Nabucco. Solista in Haydn il giovane trombettista Davide Battista. \nQuesto programma sarà replicato domenica 16 luglio (ore 21.00) nella suggestiva cornice del Tempio di Nettuno di Paestum. \nPer info e biglietti info@nuovaorchestrascarlatti.it – www.nuovaorchestrascarlatti.it – www.azzurroservice.net
URL:https://backup.sistemamedcampania.it/evento/nuova-orchestra-scarlatti-luglio-musicale-2023/
CATEGORIES:Musica,Nuova Orchestra Scarlatti
ATTACH;FMTTYPE=image/jpeg:https://backup.sistemamedcampania.it/wp-content/uploads/2023/07/nuova-orchestra-scarlatti-luglio-musicale-2023.jpg
END:VEVENT
END:VCALENDAR