BEGIN:VCALENDAR
VERSION:2.0
PRODID:-//Sistema Med Campania - ECPv6.7.0//NONSGML v1.0//EN
CALSCALE:GREGORIAN
METHOD:PUBLISH
X-WR-CALNAME:Sistema Med Campania
X-ORIGINAL-URL:https://backup.sistemamedcampania.it
X-WR-CALDESC:Eventi per Sistema Med Campania
REFRESH-INTERVAL;VALUE=DURATION:PT1H
X-Robots-Tag:noindex
X-PUBLISHED-TTL:PT1H
BEGIN:VTIMEZONE
TZID:Europe/Rome
BEGIN:DAYLIGHT
TZOFFSETFROM:+0100
TZOFFSETTO:+0200
TZNAME:CEST
DTSTART:20230326T010000
END:DAYLIGHT
BEGIN:STANDARD
TZOFFSETFROM:+0200
TZOFFSETTO:+0100
TZNAME:CET
DTSTART:20231029T010000
END:STANDARD
END:VTIMEZONE
BEGIN:VEVENT
DTSTART;TZID=Europe/Rome:20230903T190000
DTEND;TZID=Europe/Rome:20230903T190000
DTSTAMP:20260420T034716
CREATED:20230821T183952Z
LAST-MODIFIED:20230821T184408Z
UID:8568-1693767600-1693767600@backup.sistemamedcampania.it
SUMMARY:Borderlinedanza - Scherzetto
DESCRIPTION:“La bellezza del quadro supera il quadro stesso e sfonda le porte ad altre narrazioni che incrociano cultura\, dicerie e leggende”. \nScherzo innocente\, o più spesso scherzo malizioso\, cui però può seguire un danno. I tre uomini/personaggi in scena\, Pan\, Dioniso e Satiro\, in un goliardico intreccio della partita che si gioca fra loro\, tra alleanze\, rivalità ed espedienti non sempre divertenti\, mostrano aspetti della vita che si specchia nelle sue forme. \nCosì il brano diventa pretesto per presentare uno spaccato psicologico e morale di alcune dinamiche sociali\, ampliando e sfumando il concetto di confine tra i generi. \nConcept\, regia e coreografia Claudio Malangone\nAutori/Interpreti Pietro Autiero\, Luigi Aruta\, Antonio Formisano\nMusiche originali dal vivo Alessandro Capasso\nCostumi Claudio Malangone\nDisegno luci Francesco Ferrigno\nTecnico luci Giuseppe Ferrigno \nPer info info@borderlinedanza.it – 089 203 185 – www.danzacontemporanea.eu \n 
URL:https://backup.sistemamedcampania.it/evento/borderlinedanza-scherzetto/
LOCATION:Anfiteatro romano di Avella\, Via Anfiteatro\, Avella\, Avellino\, 83021\, Italia
CATEGORIES:Borderline Danza,Danza
ATTACH;FMTTYPE=image/jpeg:https://backup.sistemamedcampania.it/wp-content/uploads/2023/08/borderlinedanza-scherzetto.jpg
END:VEVENT
BEGIN:VEVENT
DTSTART;VALUE=DATE:20230804
DTEND;VALUE=DATE:20230805
DTSTAMP:20260420T034716
CREATED:20230801T145802Z
LAST-MODIFIED:20230801T145802Z
UID:8488-1691107200-1691193599@backup.sistemamedcampania.it
SUMMARY:Borderlinedanza - Romeo e Giulietta
DESCRIPTION:Un uomo e una donna incarnano il mito shakespeariano di Romeo e Giulietta. Il riconoscimento amoroso è un processo allo stesso tempo serio e giocoso dove si esprimono desiderio\, consenso\, paura\, sogno e idealizzazione. Di fatto\, tutto sembra possibile\, ma le famiglie impongono una serie di regole sociali che imbrigliano il rapporto. L’amore diventa una challenge giovanile: agli occhi delle famiglie\, una bravata\, agli occhi di Romeo e Giulietta\, la rappresentazione della propria libertà. Il suicidio non riguarda più i protagonisti e la loro vita terrena\, ma il loro sentimento\, che li abbandona e li lascia svuotati. \nConcept\, coreografia e regia Claudio Malangone\nAutori/interpreti Adriana Cristiano\, Luigi Aruta\nMusiche originali e sound design Alessandro Capasso\nDramaturg Gaia Clotilde Chernetich \nPer info info@borderlinedanza.it – 089 203 185 – www.danzacontemporanea.eu
URL:https://backup.sistemamedcampania.it/evento/borderlinedanza-romeo-e-giulietta/
LOCATION:Loggia del Capitaniato di Vicenza\, Piazza dei Signori 1\, Vicenza\, Vicenza\, 36100\, Italia
CATEGORIES:Borderline Danza,Danza
ATTACH;FMTTYPE=image/jpeg:https://backup.sistemamedcampania.it/wp-content/uploads/2023/08/borderline-danza-romeo-e-giulietta.jpg
END:VEVENT
BEGIN:VEVENT
DTSTART;TZID=Europe/Rome:20230707T210000
DTEND;TZID=Europe/Rome:20230707T210000
DTSTAMP:20260420T034716
CREATED:20230621T230109Z
LAST-MODIFIED:20230621T230109Z
UID:8384-1688763600-1688763600@backup.sistemamedcampania.it
SUMMARY:Borderline Danza - Romeo e Giulietta
DESCRIPTION:Claudio Malangone ricerca una nuova scrittura drammaturgica e coreografica per una delle trame più note della storia del teatro. Il Romeo e Giulietta shakespeariano è radicato in profondità nella cultura europea. \nCosì e esce fuori una narrazione essenziale ma appassionata\, lirica e crudele\, percorsa da fotogrammi inquieti che mettono in luce una condizione femminile imposta e inevitabilmente suicida di un amore non permesso. \nConcept\, coreografia e regia Claudio Malangone \nCon Adriana Cristiano\, Luigi Aruta \nMusiche originali eseguite dal vivo Artisti Cilentani Associati \nDramaturg Gaia Clotilde Chernetich \nPer info info@borderlinedanza.it – 089 203 185 \n 
URL:https://backup.sistemamedcampania.it/evento/borderline-danza-romeo-e-giulietta/
LOCATION:Area Archeologica Roccagloriosa\, SP19\, Roccagloriosa\, Salerno\, 84060\, Italia
CATEGORIES:Borderline Danza,Danza
ATTACH;FMTTYPE=image/jpeg:https://backup.sistemamedcampania.it/wp-content/uploads/2023/06/borderline-danza-romeo-e-giulietta.jpg
END:VEVENT
END:VCALENDAR