BEGIN:VCALENDAR
VERSION:2.0
PRODID:-//Sistema Med Campania - ECPv6.7.0//NONSGML v1.0//EN
CALSCALE:GREGORIAN
METHOD:PUBLISH
X-ORIGINAL-URL:https://backup.sistemamedcampania.it
X-WR-CALDESC:Eventi per Sistema Med Campania
REFRESH-INTERVAL;VALUE=DURATION:PT1H
X-Robots-Tag:noindex
X-PUBLISHED-TTL:PT1H
BEGIN:VTIMEZONE
TZID:Europe/Rome
BEGIN:DAYLIGHT
TZOFFSETFROM:+0100
TZOFFSETTO:+0200
TZNAME:CEST
DTSTART:20230326T010000
END:DAYLIGHT
BEGIN:STANDARD
TZOFFSETFROM:+0200
TZOFFSETTO:+0100
TZNAME:CET
DTSTART:20231029T010000
END:STANDARD
END:VTIMEZONE
BEGIN:VEVENT
DTSTART;TZID=Europe/Rome:20230615T210000
DTEND;TZID=Europe/Rome:20230615T210000
DTSTAMP:20260420T052124
CREATED:20230611T213723Z
LAST-MODIFIED:20230611T213723Z
UID:8319-1686862800-1686862800@backup.sistemamedcampania.it
SUMMARY:Dissonanzen - Il cinema suona!
DESCRIPTION:In collaborazione con le Scuole di Composizione Jazz e di Musica Elettronica del Conservatorio napoletano\, Dissonanzen propone partiture originali per le sonorizzazioni live della nuova edizione de Il Cinema Suona!\, storica rassegna organizzata insieme al Goethe Institut Neapel e la Fondazione Murnau\, nell’ambito del FestiVark\, festival della creatività sociale messo su da Variabile K in coprogettazione con Fondazione Ente Ville Vesuviane. \nIl primo appuntamento vede come protagonisti i cortometraggi d’animazione di Lotte Reineger con le musiche originali di Luigi Lombardi\, eseguite da Luigi Lombardi\, Enirco Valanzuolo e Aldo Capasso. \nPer info  info@dissonanzen.it – 350 945 6705 – www.dissonanzen.it
URL:https://backup.sistemamedcampania.it/evento/dissonanzen-il-cinema-suona/
LOCATION:Villa Campolieto\, Corso Resina 283\, Ercolano\, Napoli\, 80056\, Italia
CATEGORIES:Dissonanzen,Musica
ATTACH;FMTTYPE=image/jpeg:https://backup.sistemamedcampania.it/wp-content/uploads/2023/06/dissonanzen-il-cinema-suona-lotte-reineger-musiche-di-luigi-lombardi1.jpg
END:VEVENT
END:VCALENDAR