BEGIN:VCALENDAR
VERSION:2.0
PRODID:-//Sistema Med Campania - ECPv6.7.0//NONSGML v1.0//EN
CALSCALE:GREGORIAN
METHOD:PUBLISH
X-WR-CALNAME:Sistema Med Campania
X-ORIGINAL-URL:https://backup.sistemamedcampania.it
X-WR-CALDESC:Eventi per Sistema Med Campania
REFRESH-INTERVAL;VALUE=DURATION:PT1H
X-Robots-Tag:noindex
X-PUBLISHED-TTL:PT1H
BEGIN:VTIMEZONE
TZID:Europe/Rome
BEGIN:DAYLIGHT
TZOFFSETFROM:+0100
TZOFFSETTO:+0200
TZNAME:CEST
DTSTART:20230326T010000
END:DAYLIGHT
BEGIN:STANDARD
TZOFFSETFROM:+0200
TZOFFSETTO:+0100
TZNAME:CET
DTSTART:20231029T010000
END:STANDARD
END:VTIMEZONE
BEGIN:VEVENT
DTSTART;TZID=Europe/Rome:20230920T210000
DTEND;TZID=Europe/Rome:20230920T210000
DTSTAMP:20260420T065427
CREATED:20230918T151744Z
LAST-MODIFIED:20230918T151744Z
UID:8641-1695243600-1695243600@backup.sistemamedcampania.it
SUMMARY:Orchestra Filarmonica Campana - Matteo\, Apostolo di Cristo
DESCRIPTION:L’oratorio Matteo\, Apostolo di Cristo composto dal sacerdote Marco Frisina ed eseguito in prima assoluta ripercorre la vita dell’apostolo Matteo a partire dal Vangelo. \nL’opera\, inoltre\, sarà preceduta da alcuni brani musicali tratti da colonne sonore dello stesso Marco Frisina. \nORCHESTRA FILARMONICA CAMPANA \nCORO DELLA DIOCESI DI SALERNO \nDirettore MARCO FRISINA \nPROGRAMMA \nCon la fede nel cuore dal film Sant’Antonio da Padova \nLa via dei Martiri dal film Alba Romana \nLa crocifissione di Pietro dal film San Pietro \nMatteo\, Apostolo di Cristo \n  \nPer info info@filarmonicacampana.it – 349 3925763 – www.filarmonicacampana.it \n 
URL:https://backup.sistemamedcampania.it/evento/orchestra-filarmonica-campana-matteo-apostolo-di-cristo/
LOCATION:Teato Verdi\, Piazza Matteo Luciani\, Salerno\, Salerno\, Italia
CATEGORIES:Musica,Orchestra Filarmonica Campana
ATTACH;FMTTYPE=image/jpeg:https://backup.sistemamedcampania.it/wp-content/uploads/2023/09/orchestra-filarmonica-campana-matteo-apostolo-di-cristo.jpg
END:VEVENT
END:VCALENDAR