BEGIN:VCALENDAR
VERSION:2.0
PRODID:-//Sistema Med Campania - ECPv6.7.0//NONSGML v1.0//EN
CALSCALE:GREGORIAN
METHOD:PUBLISH
X-ORIGINAL-URL:https://backup.sistemamedcampania.it
X-WR-CALDESC:Eventi per Sistema Med Campania
REFRESH-INTERVAL;VALUE=DURATION:PT1H
X-Robots-Tag:noindex
X-PUBLISHED-TTL:PT1H
BEGIN:VTIMEZONE
TZID:Europe/Rome
BEGIN:DAYLIGHT
TZOFFSETFROM:+0100
TZOFFSETTO:+0200
TZNAME:CEST
DTSTART:20230326T010000
END:DAYLIGHT
BEGIN:STANDARD
TZOFFSETFROM:+0200
TZOFFSETTO:+0100
TZNAME:CET
DTSTART:20231029T010000
END:STANDARD
END:VTIMEZONE
BEGIN:VEVENT
DTSTART;VALUE=DATE:20230911
DTEND;VALUE=DATE:20230912
DTSTAMP:20260420T022024
CREATED:20230910T181342Z
LAST-MODIFIED:20230910T181342Z
UID:8589-1694390400-1694476799@backup.sistemamedcampania.it
SUMMARY:Fondazione F.M. Napolitano - Omaggio a Franco Michele Napolitano
DESCRIPTION:In chiusura della stagione estiva\, sempre nell’ambito della ormai popolare rassegna Anacaprifamusica\, la Fondazione Franco Michele Napolitano mette su\, nella splendida Chiesa di Santa Sofia di Anacapri\, un omaggio al musicista italiano da cui prende il nome. All’organo il maestro Stefano Giordano. \nPer info fondazionenapolitano@gmail.com – www.fondazionenapolitano.com
URL:https://backup.sistemamedcampania.it/evento/fondazione-f-m-napolitano-omaggio-a-franco-michele-napolitano/
LOCATION:Chiesa di Santa Sofia\, Piazza Diaz 1\, Anacapri\, Napoli\, 80071\, Italia
CATEGORIES:Fondazione Franco Michele Napolitano,Musica
ATTACH;FMTTYPE=image/jpeg:https://backup.sistemamedcampania.it/wp-content/uploads/2023/09/fondazione-fm-napolitano-anacaprifamusica-omaggio.jpg
END:VEVENT
BEGIN:VEVENT
DTSTART;TZID=Europe/Rome:20230823T200000
DTEND;TZID=Europe/Rome:20230823T200000
DTSTAMP:20260420T022024
CREATED:20230816T150327Z
LAST-MODIFIED:20230816T150327Z
UID:8540-1692820800-1692820800@backup.sistemamedcampania.it
SUMMARY:Fondazione F.M. Napolitano - A tutto Musical
DESCRIPTION:La rassegna estiva Anacaprifamusica\, organizzata dalla Fondazione Franco Michele Napolitano sotto la direzione artistica di Maria Sbeglia presso la Mediateca Mario Cacace di Anacapri\, prosegue con un originale appuntamento. \nMercoledì 23 agosto alle ore 20\, A tutto Musical! vede l’incontro tra la voce di Walter Cerrotta e il pianoforte di Paolo Zamuner. \nPer info fondazionenapolitano@gmail.com – www.fondazionenapolitano.com \n 
URL:https://backup.sistemamedcampania.it/evento/fondazione-f-m-napolitano-a-tutto-musical/
LOCATION:Mediateca Mario Cacace\, Via Giuseppe Orlandi\, Anacapri\, Napoli\, 80071\, Italia
CATEGORIES:Fondazione Franco Michele Napolitano,Musica
ATTACH;FMTTYPE=image/jpeg:https://backup.sistemamedcampania.it/wp-content/uploads/2023/08/fondazione-fm-napolitano-anacaprifamusica-a-tutto-musical.jpg
END:VEVENT
BEGIN:VEVENT
DTSTART;TZID=Europe/Rome:20230820T200000
DTEND;TZID=Europe/Rome:20230820T200000
DTSTAMP:20260420T022024
CREATED:20230816T143119Z
LAST-MODIFIED:20230816T143119Z
UID:8537-1692561600-1692561600@backup.sistemamedcampania.it
SUMMARY:Fondazione F.M. Napolitano - Omaggio a Caruso
DESCRIPTION:Dopo Ferragosto continua Anacaprifamusica\, rassegna estiva organizzata dalla Fondazione Franco Michele Napolitano per la direzione artistica di Maria Sbeglia. \nDomenica 20 agosto alle ore 20\, ancora alla Mediateca Mario Cacace\, è in programma un Omaggio a Enrico Caruso\, considerato ad oggi uno dei più grandi tenori di tutti i tempi. \nProtagonista della serata sarà il tenore Andrea Calce accompagnato da Marco Ciampi al pianoforte. \n Per info fondazionenapolitano@gmail.com – www.fondazionenapolitano.com \n 
URL:https://backup.sistemamedcampania.it/evento/fondazione-f-m-napolitano-omaggio-a-caruso/
LOCATION:Mediateca Mario Cacace\, Via Giuseppe Orlandi\, Anacapri\, Napoli\, 80071\, Italia
CATEGORIES:Fondazione Franco Michele Napolitano,Musica
ATTACH;FMTTYPE=image/jpeg:https://backup.sistemamedcampania.it/wp-content/uploads/2023/08/fondazione-fm-napolitano-anacaprifamusica-omaggio-a-caruso.jpg
END:VEVENT
BEGIN:VEVENT
DTSTART;TZID=Europe/Rome:20230805T193000
DTEND;TZID=Europe/Rome:20230805T193000
DTSTAMP:20260420T022024
CREATED:20230801T215655Z
LAST-MODIFIED:20230801T220157Z
UID:8499-1691263800-1691263800@backup.sistemamedcampania.it
SUMMARY:Fondazione F.M. Napolitano - Chitarra Sirena
DESCRIPTION:Continua la XXIV edizione di Anacaprifamusica\, rassegna estiva organizzata dalla Fondazione Franco Michele Napolitano. \nStavolta l’appuntamento è al meraviglioso Belvedere della Migliara di Anacapri\, alle ore 19:30. La serata si intitola Chitarra Sirena\, un’esperienza che oscilla tra musica e danza e vede come protagonisti il chitarrista Enzo Amato e la ballerina Carolina Aterrano. \nPer info fondazionenapolitano@gmail.com – www.fondazionenapolitano.com
URL:https://backup.sistemamedcampania.it/evento/fondazione-f-m-napolitano-chitarra-sirena/
LOCATION:Belvedere della Migliera\, Via Migliara 72\, Anacapri\, Napoli\, 80071\, Italia
CATEGORIES:Fondazione Franco Michele Napolitano,Musica
ATTACH;FMTTYPE=image/jpeg:https://backup.sistemamedcampania.it/wp-content/uploads/2023/08/fondazione-fm-napolitano-anacaprifamusica1.jpg
END:VEVENT
BEGIN:VEVENT
DTSTART;TZID=Europe/Rome:20230803T210000
DTEND;TZID=Europe/Rome:20230803T210000
DTSTAMP:20260420T022024
CREATED:20230731T214634Z
LAST-MODIFIED:20230731T214634Z
UID:8483-1691096400-1691096400@backup.sistemamedcampania.it
SUMMARY:Fondazione F.M. Napolitano - La Musica a Napoli
DESCRIPTION:Confermando la sinergia tra le isole del golfo inaugurata lo scorso anno\, il festival Dal Barocco al Jazz 2023 sceglie di chiudere la propria programmazione a Ischia. \nIl 3 agosto (ore 21)\, nell’affascinante Castello Aragonese\, andrà in scena il concerto “La Musica a Napoli\, dal barocco alla canzone napoletana”\, un appuntamento inedito che vedrà affiancati i fratelli Riccardo ed Emilia Zamuner. \nI due artisti\, accompagnati dagli archi dei “Virtuosi di Sansevero” in quintetto (Federica Tranzillo al primo violino\, Alberto Marano al secondo violino\, Martina Iacò alla viola\, Arianna Di Martino al violoncello e Gianluigi Pennino al contrabbasso)\, presenteranno sull’isola verde un concerto dedicato alla tradizione musicale partenopea che spazierà dal Barocco alla canzone classica napoletana con contaminazioni e improvvisazioni barocche e jazz. \nPer info fondazionenapolitano@gmail.com – www.fondazionenapolitano.com
URL:https://backup.sistemamedcampania.it/evento/fondazione-f-m-napolitano-la-musica-a-napoli/
LOCATION:Castello Aragonese di Ischia\, Via Pontile 3\, Ischia\, Napoli\, 80077\, Italia
CATEGORIES:Fondazione Franco Michele Napolitano,Musica
ATTACH;FMTTYPE=image/jpeg:https://backup.sistemamedcampania.it/wp-content/uploads/2023/07/fondazione-fm-napolitano-la.jpg
END:VEVENT
BEGIN:VEVENT
DTSTART;TZID=Europe/Rome:20230803T200000
DTEND;TZID=Europe/Rome:20230803T200000
DTSTAMP:20260420T022024
CREATED:20230801T181223Z
LAST-MODIFIED:20230801T181223Z
UID:8495-1691092800-1691092800@backup.sistemamedcampania.it
SUMMARY:Fondazione F.M. Napolitano - Eroine della Lirica
DESCRIPTION:Comincia la XXIV edizione di Anacaprifamusica\, attesa e consueta rassegna estiva organizzata dalla Fondazione Franco Michele Napolitano nello scenario della Mediateca Mario Cacace di Anacapri. \nIl primo appuntamento arriva giovedì 3 agosto alle ore 20\, dal titolo Eroine della Lirica vede protagoniste Maria Tomassi nel ruolo di soprano e Gabriella Orlando al pianoforte. \nPer info fondazionenapolitano@gmail.com – www.fondazionenapolitano.com
URL:https://backup.sistemamedcampania.it/evento/fondazione-f-m-napolitano-eroine-della-lirica/
LOCATION:Mediateca Mario Cacace\, Via Giuseppe Orlandi\, Anacapri\, Napoli\, 80071\, Italia
CATEGORIES:Fondazione Franco Michele Napolitano,Musica
ATTACH;FMTTYPE=image/jpeg:https://backup.sistemamedcampania.it/wp-content/uploads/2023/08/fondazione-fm-napolitano-anacaprifamusica-eroine-della-lirica-2.jpg
END:VEVENT
BEGIN:VEVENT
DTSTART;TZID=Europe/Rome:20230731T203000
DTEND;TZID=Europe/Rome:20230731T203000
DTSTAMP:20260420T022024
CREATED:20230730T091359Z
LAST-MODIFIED:20230730T091359Z
UID:8466-1690835400-1690835400@backup.sistemamedcampania.it
SUMMARY:Fondazione F.M. Napolitano - Vi presento Matilde Neruda
DESCRIPTION:L’ultimo appuntamento anacaprese del festival Dal Barocco al Jazz è previsto per lunedì 31 luglio (ore 20.30)\, con l’imperdibile evento Vi presento Matilde Neruda.\nL’attore Sebastiano Somma\, insieme alla compagna di scena e di vita Morgana\nForcella\, si esibirà in uno speciale reading teatrale\, scritto da Liberato\nSantarpino\, interamente dedicato al rapporto amoroso tra Pablo Neruda e Matilde Urrutia. \nAd impreziosire lo spettacolo\, a mo’ di interpunto tra i versi\, il canto di Emilia\nZamuner e le coreografie di Enzo Padulano e Francesca Accietto. Un lavoro a tutto tondo\, dunque\, che mescolando poesia\, musica e danza\, offre al pubblico alcuni momenti di intensa commozione celebrando i cinquant’anni dalla morte del poeta cileno. \nPer info fondazionenapolitano@gmail.com – www.fondazionenapolitano.com
URL:https://backup.sistemamedcampania.it/evento/fondazione-f-m-napolitano-vi-presento-matilde-neruda/
LOCATION:Hotel Caesar Augustus di Anacapri\, Via Giuseppe Orlandi 4\, Anacapri\, Napoli\, 80071\, Italia
CATEGORIES:Fondazione Franco Michele Napolitano,Musica
ATTACH;FMTTYPE=image/jpeg:https://backup.sistemamedcampania.it/wp-content/uploads/2023/07/fondazione-fm-napolitano-dal-barocco-al-jazz-vi-presento-matilde-neruda.jpg
END:VEVENT
BEGIN:VEVENT
DTSTART;TZID=Europe/Rome:20230729T200000
DTEND;TZID=Europe/Rome:20230729T200000
DTSTAMP:20260420T022024
CREATED:20230728T172759Z
LAST-MODIFIED:20230728T172759Z
UID:8452-1690660800-1690660800@backup.sistemamedcampania.it
SUMMARY:Fondazione F.M. Napolitano - GnuQuartet
DESCRIPTION:Il festival Dal Barocco al Jazz messo su dalla Fondazione F.M. Napolitano procede sabato 29 luglio con un appuntamento all’insegna del rock: Paganini Rock dello GnuQuartet. \nL’ensemble formato da Roberto Izzo (violino)\, Francesca Rapetti (flauto) Raffaele Rebaudengo (viola)\, e Arianna Di Martino (violoncello) che vanta collaborazioni con artisti quali Francesco De Gregori\, Afterhours e Subsonica\, arriverà per la prima volta in Campania per presentare “Paganini – The Rock Album”\, il progetto originale dedicato alla musica e alla figura di Niccolò Paganini. Un concerto energico in cui i Capricci e le sonate composte dall’inarrivabile virtuoso del violino troveranno una nuova veste che lascerà esplodere il linguaggio paganiniano ritmato e incalzante. Inoltre\, il concerto sarà preceduto da una breve presentazione del libro Capritudine di Renato Esposito. \nPer info fondazionenapolitano@gmail.com – www.fondazionenapolitano.com
URL:https://backup.sistemamedcampania.it/evento/fondazione-f-m-napolitano-gnuquartet/
LOCATION:Hotel Caesar Augustus di Anacapri\, Via Giuseppe Orlandi 4\, Anacapri\, Napoli\, 80071\, Italia
CATEGORIES:Fondazione Franco Michele Napolitano,Musica
ATTACH;FMTTYPE=image/jpeg:https://backup.sistemamedcampania.it/wp-content/uploads/2023/07/fond-napolitano-gnuquartet.jpg
END:VEVENT
BEGIN:VEVENT
DTSTART;TZID=Europe/Rome:20230728T203000
DTEND;TZID=Europe/Rome:20230728T203000
DTSTAMP:20260420T022024
CREATED:20230726T150518Z
LAST-MODIFIED:20230726T154751Z
UID:8444-1690576200-1690576200@backup.sistemamedcampania.it
SUMMARY:Fondazione F.M Napolitano - Anna Tifu & I Virtuosi di Sansevero
DESCRIPTION:Continua il festival Dal Barocco al Jazz messo su dalla Fondazione F.M. Napolitano. Venerdì 28 luglio la terrazza dell’Hotel Caesar Augustus di Anacapri ospiterà la violinista Anna Tifu\, considerata una delle migliori interpreti della sua generazione\, che si esibirà insieme all’Ensemble di archi “I Virtuosi di Sansevero”. In programma\, la Ciaccona di Antonio Vitali\, il concerto di Bach in La min. per violino e archi\, il concerto di Bach in Re minore per due violini e archi\, con Riccardo Zamuner altro violino solista\, e la Carmen Fantasy di Sarasate. \nPer info fondazionenapolitano@gmail.com –  www.fondazionenapolitano.com \n 
URL:https://backup.sistemamedcampania.it/evento/8444/
LOCATION:Hotel Caesar Augustus di Anacapri\, Via Giuseppe Orlandi 4\, Anacapri\, Napoli\, 80071\, Italia
CATEGORIES:Fondazione Franco Michele Napolitano,Musica
ATTACH;FMTTYPE=image/jpeg:https://backup.sistemamedcampania.it/wp-content/uploads/2023/07/fondazione-fm-napolitano-dal-barocco-al-jazz-anna-tifu-i-virtuosi-di-sansevero.jpg
END:VEVENT
BEGIN:VEVENT
DTSTART;TZID=Europe/Rome:20230727T200000
DTEND;TZID=Europe/Rome:20230727T200000
DTSTAMP:20260420T022024
CREATED:20230726T153959Z
LAST-MODIFIED:20230726T153959Z
UID:8441-1690488000-1690488000@backup.sistemamedcampania.it
SUMMARY:Fondazione F.M. Napolitano - Buon compleanno RYCO
DESCRIPTION:Arriva la XXI edizione del festival Dal Barocco al Jazz organizzato dalla Fondazione F.M. Napolitano in collaborazione con il Comune di Anacapri e curato nell’ideazione e nella direzione artistica da Maria Sbeglia. \nSi parte giovedì 27 luglio con un evento dal sapore speciale: Buon compleanno RYCO\, il concerto della Rotary Youth Chamber Orchestra a dieci anni dal primo suo debutto\, avvenuto proprio ad Anacapri il 27 luglio 2013. \nL’orchestra d’archi giovanile\, divenuta nel tempo un punto di riferimento nel panorama musicale cittadino\, fu ideata\, infatti\, dalla stessa Maria Sbeglia con l’intento di offrire a giovani musicisti l’opportunità di creare un organico orchestrale stabile. Attraverso lo slogan “Adotta un orchestrale”\, numerosi club Rotary\, ispirati dal progetto di Sbeglia\, hanno offerto borse di studio ai giovani e alle giovani orchestrali\, tra i 16 e i 30 anni\, provenienti dai Conservatori campani. \nLa serata\, che festeggerà il decennale\, vedrà l’orchestra diretta dal Maestro Nicola Colafelice con la partecipazione straordinaria del flautista Salvatore Lombardi. \nPer info fondazionenapolitano@gmail.com – www.fondazionenapolitano.com
URL:https://backup.sistemamedcampania.it/evento/fondazione-f-m-napolitano-buon-compleanno-ryco/
LOCATION:Hotel Caesar Augustus di Anacapri\, Via Giuseppe Orlandi 4\, Anacapri\, Napoli\, 80071\, Italia
CATEGORIES:Fondazione Franco Michele Napolitano,Musica
ATTACH;FMTTYPE=image/jpeg:https://backup.sistemamedcampania.it/wp-content/uploads/2023/07/fondazione-fm-napolitano-dal-barocco-al-jazz-buon-compleanno-ryco.jpg
END:VEVENT
END:VCALENDAR