BEGIN:VCALENDAR
VERSION:2.0
PRODID:-//Sistema Med Campania - ECPv6.7.0//NONSGML v1.0//EN
CALSCALE:GREGORIAN
METHOD:PUBLISH
X-WR-CALNAME:Sistema Med Campania
X-ORIGINAL-URL:https://backup.sistemamedcampania.it
X-WR-CALDESC:Eventi per Sistema Med Campania
REFRESH-INTERVAL;VALUE=DURATION:PT1H
X-Robots-Tag:noindex
X-PUBLISHED-TTL:PT1H
BEGIN:VTIMEZONE
TZID:Europe/Rome
BEGIN:DAYLIGHT
TZOFFSETFROM:+0100
TZOFFSETTO:+0200
TZNAME:CEST
DTSTART:20230326T010000
END:DAYLIGHT
BEGIN:STANDARD
TZOFFSETFROM:+0200
TZOFFSETTO:+0100
TZNAME:CET
DTSTART:20231029T010000
END:STANDARD
END:VTIMEZONE
BEGIN:VEVENT
DTSTART;TZID=Europe/Rome:20230803T200000
DTEND;TZID=Europe/Rome:20230803T200000
DTSTAMP:20260420T040801
CREATED:20230801T181223Z
LAST-MODIFIED:20230801T181223Z
UID:8495-1691092800-1691092800@backup.sistemamedcampania.it
SUMMARY:Fondazione F.M. Napolitano - Eroine della Lirica
DESCRIPTION:Comincia la XXIV edizione di Anacaprifamusica\, attesa e consueta rassegna estiva organizzata dalla Fondazione Franco Michele Napolitano nello scenario della Mediateca Mario Cacace di Anacapri. \nIl primo appuntamento arriva giovedì 3 agosto alle ore 20\, dal titolo Eroine della Lirica vede protagoniste Maria Tomassi nel ruolo di soprano e Gabriella Orlando al pianoforte. \nPer info fondazionenapolitano@gmail.com – www.fondazionenapolitano.com
URL:https://backup.sistemamedcampania.it/evento/fondazione-f-m-napolitano-eroine-della-lirica/
LOCATION:Mediateca Mario Cacace\, Via Giuseppe Orlandi\, Anacapri\, Napoli\, 80071\, Italia
CATEGORIES:Fondazione Franco Michele Napolitano,Musica
ATTACH;FMTTYPE=image/jpeg:https://backup.sistemamedcampania.it/wp-content/uploads/2023/08/fondazione-fm-napolitano-anacaprifamusica-eroine-della-lirica-2.jpg
END:VEVENT
END:VCALENDAR