BEGIN:VCALENDAR
VERSION:2.0
PRODID:-//Sistema Med Campania - ECPv6.7.0//NONSGML v1.0//EN
CALSCALE:GREGORIAN
METHOD:PUBLISH
X-ORIGINAL-URL:https://backup.sistemamedcampania.it
X-WR-CALDESC:Eventi per Sistema Med Campania
REFRESH-INTERVAL;VALUE=DURATION:PT1H
X-Robots-Tag:noindex
X-PUBLISHED-TTL:PT1H
BEGIN:VTIMEZONE
TZID:Europe/Rome
BEGIN:DAYLIGHT
TZOFFSETFROM:+0100
TZOFFSETTO:+0200
TZNAME:CEST
DTSTART:20230326T010000
END:DAYLIGHT
BEGIN:STANDARD
TZOFFSETFROM:+0200
TZOFFSETTO:+0100
TZNAME:CET
DTSTART:20231029T010000
END:STANDARD
END:VTIMEZONE
BEGIN:VEVENT
DTSTART;TZID=Europe/Rome:20230622T210000
DTEND;TZID=Europe/Rome:20230622T210000
DTSTAMP:20260420T082832
CREATED:20230619T224916Z
LAST-MODIFIED:20230619T224916Z
UID:8357-1687467600-1687467600@backup.sistemamedcampania.it
SUMMARY:Dissonanzen - Il cinema suona!
DESCRIPTION:Torna la rassegna estiva\, messa su da Dissonanzen\, in cui musica e cinema si incontrano. \nNella splendida cornice di Villa Campolieto\, gli allievi delle Scuole di Composizione Jazz e di Musica Elettronica del Conservatorio San Pietro a Majella di Napoli firmano partiture originali per creare sonorizzazioni di vecchi film. \nStavolta tocca a Fiddlesticks (1926) e Saturday Afternoon (1927) con Harry Langdon\, che prendono vita musicale attraverso le composizioni di Nicola Sgaramella. \nNicola Sgaramella piano\nMattia Di Nunzio sax contralto\nAndrè Ferreira contrabbasso \nPer info info@dissonanzen.it – 350 945 6705 – www.dissonanzen.it
URL:https://backup.sistemamedcampania.it/evento/dissonanzen-il-cinema-suona-2/
LOCATION:Villa Campolieto\, Corso Resina 283\, Ercolano\, Napoli\, 80056\, Italia
CATEGORIES:Dissonanzen,Musica
ATTACH;FMTTYPE=image/jpeg:https://backup.sistemamedcampania.it/wp-content/uploads/2023/06/dissonanzen-il-cinema-suona.jpg
END:VEVENT
END:VCALENDAR