BEGIN:VCALENDAR
VERSION:2.0
PRODID:-//Sistema Med Campania - ECPv6.7.0//NONSGML v1.0//EN
CALSCALE:GREGORIAN
METHOD:PUBLISH
X-WR-CALNAME:Sistema Med Campania
X-ORIGINAL-URL:https://backup.sistemamedcampania.it
X-WR-CALDESC:Eventi per Sistema Med Campania
REFRESH-INTERVAL;VALUE=DURATION:PT1H
X-Robots-Tag:noindex
X-PUBLISHED-TTL:PT1H
BEGIN:VTIMEZONE
TZID:Europe/Rome
BEGIN:DAYLIGHT
TZOFFSETFROM:+0100
TZOFFSETTO:+0200
TZNAME:CEST
DTSTART:20230326T010000
END:DAYLIGHT
BEGIN:STANDARD
TZOFFSETFROM:+0200
TZOFFSETTO:+0100
TZNAME:CET
DTSTART:20231029T010000
END:STANDARD
END:VTIMEZONE
BEGIN:VEVENT
DTSTART;TZID=Europe/Rome:20230905T210000
DTEND;TZID=Europe/Rome:20230905T210000
DTSTAMP:20260420T034550
CREATED:20230902T183936Z
LAST-MODIFIED:20230902T183936Z
UID:8584-1693947600-1693947600@backup.sistemamedcampania.it
SUMMARY:Campania Danza - ResExtensa in Nest
DESCRIPTION:Nell’ambito di Incontri\, rassegna di danza contemporanea organizzata dall’Associazione Campania Danza per la direzione artistica di Antonella Iannone\, arriva a Salerno la compagnia ResExtensa con lo spettacolo Nest\, coreografie di Elisa Barucchieri. \nPer info www.associazionecampaniadanza.com – campaniadanza@tiscali.it – 351 239 8684 \nBiglietti acquistabili su www.postoriservato.it
URL:https://backup.sistemamedcampania.it/evento/campania-danza-resextensa-in-nest/
LOCATION:Teatro dei Barbuti di Salerno\, Vicolo Gisolfo II\, 17-19\, Salerno SA\, 84121\, Italia
CATEGORIES:Associazione Campania Danza,Danza
ATTACH;FMTTYPE=image/jpeg:https://backup.sistemamedcampania.it/wp-content/uploads/2023/09/campania-danza-incontri-resextensa-in-nest.jpg
END:VEVENT
END:VCALENDAR